Workbook

Sheet Rekapitulácia stavby
A1: Export Komplet | BA1: 2.0 | BT1: False | BU1: False | BV1: {de95f9e9-b90e-46da-acbf-d3471d084ac1}
AR2: >> skryté stĺpce << | BS2: 0,01 | BT2: 23
BS3: 0,01 | BT3: 23
D4: REKAPITULÁCIA STAVBY | AS4: v --- nižšie sa nachádzajú doplnkové a pomocné údaje k zostavám --- v | BE4: Návod na vyplnenie | BS4: 0,001
D5: Kód: | K5: 10416 | BE5: Meniť je možné iba bunky so žltým podfarbením!_x000D_ _x000D_ 1) na prvom liste Rekapitulácie stavby vyplňte v zostave_x000D_ _x000D_ a) Rekapitulácia stavby_x000D_ - údaje o Zhotoviteľovi_x000D_ (prenesú sa do ostatných zostáv aj v iných listoch)_x000D_ _x000D_ b) Rekapitulácia objektov stavby_x000D_ - potrebné Ostatné náklady_x000D_ _x000D_ 2) na vybraných listoch vyplňte v zostave_x000D_ _x000D_ a) Krycí list_x000D_ - údaje o Zhotoviteľovi, pokiaľ sa líšia od údajov o Zhotoviteľovi na Rekapitulácii stavby_x000D_ (údaje se prenesú do ostatných zostav v danom liste)_x000D_ _x000D_ b) Rekapitulácia rozpočtu_x000D_ - potrebné Ostatné náklady_x000D_ _x000D_ c) Celkové náklady za stavbu_x000D_ - ceny na položkách_x000D_ - množstvo, pokiaľ má žlté podfarbenie_x000D_ - a v prípade potreby poznámku (tá je v skrytom stĺpci) | BS5: 0,01
D6: Stavba: | K6: REVITALIZÁCIA FONTÁNY V ZUZKINOM PARKU - REVÍZIA 23012026 | BS6: 0,01
D7: JKSO: | AK7: ČS: | BS7: 0,01
D8: Miesto: | K8: Zuzkin park, Košice | AK8: Dátum: | AN8: 23. 1. 2026 | BS8: 0,01
BS9: 0,01
D10: Objednávateľ: | AK10: IČO: | BS10: 0,01
AK11: IČ DPH: | BS11: 0,01
BS12: 0,01
D13: Zhotoviteľ: | AK13: IČO: | AN13: Vyplň údaj | BS13: 0,01
E14: Vyplň údaj | AK14: IČ DPH: | AN14: Vyplň údaj | BS14: 0,01
BS15: False
D16: Projektant: | AK16: IČO: | BS16: False
E17: 3linea s.r.o., Jesenského 26, Košice | AK17: IČ DPH: | BS17: True
BS18: 0,01
D19: Spracovateľ: | AK19: IČO: | BS19: 0,01
AK20: IČ DPH: | BS20: True
D22: Poznámka:
D26: Cena bez DPH | AK26: =ROUND(AG94,2) -> 0
L28: Sadzba dane | W28: Základ dane | AK28: Výška dane
D29: DPH | F29: základná | L29: 0.23 | W29: =ROUND(AZ94, 2) -> 0 | AK29: =ROUND(AV94, 2) -> 0
F30: znížená | L30: 0.23 | W30: =ROUND(BA94, 2) -> 0 | AK30: =ROUND(AW94, 2) -> 0
F31: zákl. prenesená | L31: 0.23 | W31: =ROUND(BB94, 2) -> 0 | AK31: 0
F32: zníž. prenesená | L32: 0.23 | W32: =ROUND(BC94, 2) -> 0 | AK32: 0
F33: nulová | L33: 0 | W33: =ROUND(BD94, 2) -> 0 | AK33: 0
D35: Cena s DPH | T35: v | X35: EUR | AK35: =SUM(AK26:AK33) -> 0
D49: Projektant | AH49: Spracovateľ
D60: Dátum a podpis: | V60: Pečiatka | AH60: Dátum a podpis: | AM60: Pečiatka
D64: Objednávateľ | AH64: Zhotoviteľ
D75: Dátum a podpis: | V75: Pečiatka | AH75: Dátum a podpis: | AM75: Pečiatka
C82: REKAPITULÁCIA OBJEKTOV STAVBY
C84: Kód: | L84: =K5 -> 10416
C85: Stavba: | L85: =K6 -> REVITALIZÁCIA FONTÁNY V ZUZKINOM PARKU - REVÍZIA 23012026
C87: Miesto: | L87: =IF(K8="","",K8) -> Zuzkin park, Košice | AI87: Dátum: | AM87: =IF(AN8= "","",AN8) -> 23. 1. 2026
C89: Objednávateľ: | L89: =IF(E11= "","",E11) | AI89: Projektant: | AM89: =IF(E17="","",E17) -> 3linea s.r.o., Jesenského 26, Košice | AS89: Informatívne údaje z listov zákaziek
C90: Zhotoviteľ: | L90: =IF(E14= "Vyplň údaj","",E14) | AI90: Spracovateľ: | AM90: =IF(E20="","",E20)
C92: Kód | I92: Popis | AG92: Cena bez DPH [EUR] | AN92: Cena s DPH [EUR] | AQ92: Typ | AS92: z toho Ostat._x000D_ náklady [EUR] | AT92: DPH [EUR] | AU92: Normohodiny [h] | AV92: DPH základná [EUR] | AW92: DPH znížená [EUR] | AX92: DPH základná prenesená_x000D_ [EUR] | AY92: DPH znížená prenesená_x000D_ [EUR] | AZ92: Základňa_x000D_ DPH základná | BA92: Základňa_x000D_ DPH znížená | BB92: Základňa_x000D_ DPH zákl. prenesená | BC92: Základňa_x000D_ DPH zníž. prenesená | BD92: Základňa_x000D_ DPH nulová
C94: Náklady z rozpočtov | AG94: =ROUND(SUM(AG95:AG99),2) -> 0 | AN94: =SUM(AG94,AT94) -> 0 | AS94: =ROUND(SUM(AS95:AS99),2) -> 0 | AT94: =ROUND(SUM(AV94:AW94),2) -> 0 | AU94: =ROUND(SUM(AU95:AU99),5) -> 0 | AV94: =ROUND(AZ94*L29,2) -> 0 | AW94: =ROUND(BA94*L30,2) -> 0 | AX94: =ROUND(BB94*L29,2) -> 0 | AY94: =ROUND(BC94*L30,2) -> 0 | AZ94: =ROUND(SUM(AZ95:AZ99),2) -> 0 | BA94: =ROUND(SUM(BA95:BA99),2) -> 0 | BB94: =ROUND(SUM(BB95:BB99),2) -> 0 | BC94: =ROUND(SUM(BC95:BC99),2) -> 0 | BD94: =ROUND(SUM(BD95:BD99),2) -> 0 | BS94: D | BT94: 0 | BU94: ###NOIMPORT### | BV94: IMPORT | BW94: {de95f9e9-b90e-46da-acbf-d3471d084ac1} | BX94: {00000000-0000-0000-0000-000000000000}
A95: / | D95: 01 | J95: Architektonicko stavebná časť | AG95: ='01 - Architektonicko stav...'!J30 -> 0 | AN95: =SUM(AG95,AT95) -> 0 | AQ95: STA | AS95: 0 | AT95: =ROUND(SUM(AV95:AW95),2) -> 0 | AU95: ='01 - Architektonicko stav...'!P129 -> 0 | AV95: ='01 - Architektonicko stav...'!J33 -> 0 | AW95: ='01 - Architektonicko stav...'!J34 -> 0 | AX95: ='01 - Architektonicko stav...'!J35 -> 0 | AY95: ='01 - Architektonicko stav...'!J36 -> 0 | AZ95: ='01 - Architektonicko stav...'!F33 -> 0 | BA95: ='01 - Architektonicko stav...'!F34 -> 0 | BB95: ='01 - Architektonicko stav...'!F35 -> 0 | BC95: ='01 - Architektonicko stav...'!F36 -> 0 | BD95: ='01 - Architektonicko stav...'!F37 -> 0 | BT95: 1 | BV95: IMPORT | BW95: {3450b675-8416-41f8-9519-3dcd9b465676} | BX95: {de95f9e9-b90e-46da-acbf-d3471d084ac1} | CM95: 0
A96: / | D96: 02 | J96: Zdravotechnika | AG96: ='02 - Zdravotechnika'!J30 -> 0 | AN96: =SUM(AG96,AT96) -> 0 | AQ96: STA | AS96: 0 | AT96: =ROUND(SUM(AV96:AW96),2) -> 0 | AU96: ='02 - Zdravotechnika'!P124 -> 0 | AV96: ='02 - Zdravotechnika'!J33 -> 0 | AW96: ='02 - Zdravotechnika'!J34 -> 0 | AX96: ='02 - Zdravotechnika'!J35 -> 0 | AY96: ='02 - Zdravotechnika'!J36 -> 0 | AZ96: ='02 - Zdravotechnika'!F33 -> 0 | BA96: ='02 - Zdravotechnika'!F34 -> 0 | BB96: ='02 - Zdravotechnika'!F35 -> 0 | BC96: ='02 - Zdravotechnika'!F36 -> 0 | BD96: ='02 - Zdravotechnika'!F37 -> 0 | BT96: 1 | BV96: IMPORT | BW96: {50a89852-4aa2-4725-85e4-6e9cdadb6db5} | BX96: {de95f9e9-b90e-46da-acbf-d3471d084ac1} | CM96: 0
A97: / | D97: 03 | J97: Elektroinštalácia | AG97: ='03 - Elektroinštalácia'!J30 -> 0 | AN97: =SUM(AG97,AT97) -> 0 | AQ97: STA | AS97: 0 | AT97: =ROUND(SUM(AV97:AW97),2) -> 0 | AU97: ='03 - Elektroinštalácia'!P127 -> 0 | AV97: ='03 - Elektroinštalácia'!J33 -> 0 | AW97: ='03 - Elektroinštalácia'!J34 -> 0 | AX97: ='03 - Elektroinštalácia'!J35 -> 0 | AY97: ='03 - Elektroinštalácia'!J36 -> 0 | AZ97: ='03 - Elektroinštalácia'!F33 -> 0 | BA97: ='03 - Elektroinštalácia'!F34 -> 0 | BB97: ='03 - Elektroinštalácia'!F35 -> 0 | BC97: ='03 - Elektroinštalácia'!F36 -> 0 | BD97: ='03 - Elektroinštalácia'!F37 -> 0 | BT97: 1 | BV97: IMPORT | BW97: {feadfd07-8ac5-4dbd-80af-6302311602f4} | BX97: {de95f9e9-b90e-46da-acbf-d3471d084ac1} | CM97: 0
A98: / | D98: 04 | J98: Technológia | AG98: ='04 - Technológia'!J30 -> 0 | AN98: =SUM(AG98,AT98) -> 0 | AQ98: STA | AS98: 0 | AT98: =ROUND(SUM(AV98:AW98),2) -> 0 | AU98: ='04 - Technológia'!P121 -> 0 | AV98: ='04 - Technológia'!J33 -> 0 | AW98: ='04 - Technológia'!J34 -> 0 | AX98: ='04 - Technológia'!J35 -> 0 | AY98: ='04 - Technológia'!J36 -> 0 | AZ98: ='04 - Technológia'!F33 -> 0 | BA98: ='04 - Technológia'!F34 -> 0 | BB98: ='04 - Technológia'!F35 -> 0 | BC98: ='04 - Technológia'!F36 -> 0 | BD98: ='04 - Technológia'!F37 -> 0 | BT98: 1 | BV98: IMPORT | BW98: {1d0fd63e-bb14-4882-9853-47190937ab60} | BX98: {de95f9e9-b90e-46da-acbf-d3471d084ac1} | CM98: 0
A99: / | D99: 04-1 | J99: Technológia - elektroinštalácia - doplnenie | AG99: ='04-1 - Technológia - elek...'!J30 -> 0 | AN99: =SUM(AG99,AT99) -> 0 | AQ99: STA | AS99: 0 | AT99: =ROUND(SUM(AV99:AW99),2) -> 0 | AU99: ='04-1 - Technológia - elek...'!P119 -> 0 | AV99: ='04-1 - Technológia - elek...'!J33 -> 0 | AW99: ='04-1 - Technológia - elek...'!J34 -> 0 | AX99: ='04-1 - Technológia - elek...'!J35 -> 0 | AY99: ='04-1 - Technológia - elek...'!J36 -> 0 | AZ99: ='04-1 - Technológia - elek...'!F33 -> 0 | BA99: ='04-1 - Technológia - elek...'!F34 -> 0 | BB99: ='04-1 - Technológia - elek...'!F35 -> 0 | BC99: ='04-1 - Technológia - elek...'!F36 -> 0 | BD99: ='04-1 - Technológia - elek...'!F37 -> 0 | BT99: 1 | BV99: IMPORT | BW99: {f46c006b-3b16-4b9e-96a2-02db7f04c149} | BX99: {de95f9e9-b90e-46da-acbf-d3471d084ac1} | CM99: 0

Sheet 01 - Architektonicko stav...
L2: >> skryté stĺpce << | AT2: {3450b675-8416-41f8-9519-3dcd9b465676}
AT3: 0
D4: KRYCÍ LIST ROZPOČTU | M4: v --- nižšie sa nachádzajú doplnkové a pomocné údaje k zostavám --- v | AT4: False
D6: Stavba:
E7: ='Rekapitulácia stavby'!K6 -> REVITALIZÁCIA FONTÁNY V ZUZKINOM PARKU - REVÍZIA 23012026
D8: Objekt:
E9: 01 - Architektonicko stavebná časť
D11: JKSO: | I11: ČS:
D12: Miesto: | F12: Zuzkin park, Košice | I12: Dátum: | J12: ='Rekapitulácia stavby'!AN8 -> 23. 1. 2026
D14: Objednávateľ: | I14: IČO: | J14: =IF('Rekapitulácia stavby'!AN10="","",'Rekapitulácia stavby'!AN10)
E15: =IF('Rekapitulácia stavby'!E11="","",'Rekapitulácia stavby'!E11) | I15: IČ DPH: | J15: =IF('Rekapitulácia stavby'!AN11="","",'Rekapitulácia stavby'!AN11)
D17: Zhotoviteľ: | I17: IČO: | J17: ='Rekapitulácia stavby'!AN13 -> Vyplň údaj
E18: ='Rekapitulácia stavby'!E14 -> Vyplň údaj | I18: IČ DPH: | J18: ='Rekapitulácia stavby'!AN14 -> Vyplň údaj
D20: Projektant: | I20: IČO:
E21: 3linea s.r.o., Jesenského 26, Košice | I21: IČ DPH:
D23: Spracovateľ: | I23: IČO: | J23: =IF('Rekapitulácia stavby'!AN19="","",'Rekapitulácia stavby'!AN19)
E24: =IF('Rekapitulácia stavby'!E20="","",'Rekapitulácia stavby'!E20) | I24: IČ DPH: | J24: =IF('Rekapitulácia stavby'!AN20="","",'Rekapitulácia stavby'!AN20)
D26: Poznámka:
D30: Cena bez DPH | J30: =ROUND(J129, 2) -> 0
F32: Základ dane | I32: Sadzba dane | J32: Výška dane
D33: DPH | E33: základná | F33: =ROUND((SUM(BE129:BE330)), 2) -> 0 | I33: 0.23 | J33: =ROUND(((SUM(BE129:BE330))*I33), 2) -> 0
E34: znížená | F34: =ROUND((SUM(BF129:BF330)), 2) -> 0 | I34: 0.23 | J34: =ROUND(((SUM(BF129:BF330))*I34), 2) -> 0
E35: zákl. prenesená | F35: =ROUND((SUM(BG129:BG330)), 2) -> 0 | I35: 0.23 | J35: =0 -> 0
E36: zníž. prenesená | F36: =ROUND((SUM(BH129:BH330)), 2) -> 0 | I36: 0.23 | J36: =0 -> 0
E37: nulová | F37: =ROUND((SUM(BI129:BI330)), 2) -> 0 | I37: 0 | J37: =0 -> 0
D39: Cena s DPH | G39: v | H39: EUR | J39: =SUM(J30:J37) -> 0
D50: Projektant | G50: Spracovateľ
D61: Dátum a podpis: | F61: Pečiatka | G61: Dátum a podpis: | J61: Pečiatka
D65: Objednávateľ | G65: Zhotoviteľ
D76: Dátum a podpis: | F76: Pečiatka | G76: Dátum a podpis: | J76: Pečiatka
C82: REKAPITULÁCIA ROZPOČTU
C84: Stavba:
E85: =E7 -> REVITALIZÁCIA FONTÁNY V ZUZKINOM PARKU - REVÍZIA 23012026
C86: Objekt:
E87: =E9 -> 01 - Architektonicko stavebná časť
C89: Miesto: | F89: =F12 -> Zuzkin park, Košice | I89: Dátum: | J89: =IF(J12="","",J12) -> 23. 1. 2026
C91: Objednávateľ: | F91: =E15 | I91: Projektant: | J91: =E21 -> 3linea s.r.o., Jesenského 26, Košice
C92: Zhotoviteľ: | F92: =IF(E18="","",E18) -> Vyplň údaj | I92: Spracovateľ: | J92: =E24
C94: Kód dielu - Popis | J94: Cena celkom [EUR]
C96: Náklady z rozpočtu | J96: =J129 -> 0 | AU96: -1
D97: HSV - Práce a dodávky HSV | J97: =J130 -> 0
D98: 1 - Zemné práce | J98: =J131 -> 0
D99: 2 - Zakladanie | J99: =J174 -> 0
D100: 3 - Zvislé a kompletné konštrukcie | J100: =J203 -> 0
D101: 5 - Komunikácie | J101: =J232 -> 0
D102: 6 - Úpravy povrchov, podlahy, osadenie | J102: =J244 -> 0
D103: 9 - Ostatné konštrukcie a práce-búranie | J103: =J255 -> 0
D104: 99 - Presun hmôt HSV | J104: =J303 -> 0
D105: PSV - Práce a dodávky PSV | J105: =J305 -> 0
D106: 711 - Izolácie proti vode a vlhkosti | J106: =J306 -> 0
D107: 767 - Konštrukcie doplnkové kovové | J107: =J314 -> 0
D108: 773 - Podlahy z liateho teraca | J108: =J318 -> 0
D109: VRN - Vedľajšie rozpočtové náklady | J109: =J329 -> 0
C116: ROZPOČET
C118: Stavba:
E119: =E7 -> REVITALIZÁCIA FONTÁNY V ZUZKINOM PARKU - REVÍZIA 23012026
C120: Objekt:
E121: =E9 -> 01 - Architektonicko stavebná časť
C123: Miesto: | F123: =F12 -> Zuzkin park, Košice | I123: Dátum: | J123: =IF(J12="","",J12) -> 23. 1. 2026
C125: Objednávateľ: | F125: =E15 | I125: Projektant: | J125: =E21 -> 3linea s.r.o., Jesenského 26, Košice
C126: Zhotoviteľ: | F126: =IF(E18="","",E18) -> Vyplň údaj | I126: Spracovateľ: | J126: =E24
C128: PČ | D128: Typ | E128: Kód | F128: Popis | G128: MJ | H128: Množstvo | I128: J.cena [EUR] | J128: Cena celkom [EUR] | K128: Cenová sústava | N128: DPH | O128: J. Nh [h] | P128: Nh celkom [h] | Q128: J. hmotnosť [t] | R128: Hmotnosť celkom [t] | S128: J. suť [t] | T128: Suť Celkom [t]
C129: Náklady z rozpočtu | J129: =BK129 -> 0 | P129: =P130+P305+P329 -> 0 | R129: =R130+R305+R329 -> 6.1314285 | T129: =T130+T305+T329 -> 0.061 | AT129: D | AU129: -1 | BK129: =BK130+BK305+BK329 -> 0
D130: D | E130: HSV | F130: Práce a dodávky HSV | J130: =BK130 -> 0 | P130: =P131+P174+P203+P232+P244+P255+P303 -> 0 | R130: =R131+R174+R203+R232+R244+R255+R303 -> 6.1314285 | T130: =T131+T174+T203+T232+T244+T255+T303 -> 0.061 | AR130: 1 | AT130: D | AU130: 0 | AY130: ROZPOCET | BK130: =BK131+BK174+BK203+BK232+BK244+BK255+BK303 -> 0
D131: D | E131: 1 | F131: Zemné práce | J131: =BK131 -> 0 | P131: =SUM(P132:P173) -> 0 | R131: =SUM(R132:R173) -> 0 | T131: =SUM(T132:T173) -> 0 | AR131: 1 | AT131: D | AU131: 1 | AY131: ROZPOCET | BK131: =SUM(BK132:BK173) -> 0
C132: 1 | D132: K | E132: 111201101.S | F132: Odstránenie krovín a stromov s koreňom s priemerom kmeňa do 100 mm, do 1000 m2 | G132: m2 | H132: 150 | J132: =ROUND(I132*H132,2) -> 0 | N132: znížená | P132: =O132*H132 -> 0 | Q132: 0 | R132: =Q132*H132 -> 0 | S132: 0 | T132: =S132*H132 -> 0 | AR132: 4 | AT132: K | AU132: 2 | AY132: ROZPOCET | BE132: =IF(N132="základná",J132,0) -> 0 | BF132: =IF(N132="znížená",J132,0) -> 0 | BG132: =IF(N132="zákl. prenesená",J132,0) -> 0 | BH132: =IF(N132="zníž. prenesená",J132,0) -> 0 | BI132: =IF(N132="nulová",J132,0) -> 0 | BJ132: 2 | BK132: =ROUND(I132*H132,2) -> 0 | BL132: 4 | BM132: 2
C133: 2 | D133: K | E133: 112101101.S | F133: Odstránenie listnatých stromov do priemeru 300 mm, motorovou pílou | G133: ks | H133: 9 | J133: =ROUND(I133*H133,2) -> 0 | N133: znížená | P133: =O133*H133 -> 0 | Q133: 0 | R133: =Q133*H133 -> 0 | S133: 0 | T133: =S133*H133 -> 0 | AR133: 4 | AT133: K | AU133: 2 | AY133: ROZPOCET | BE133: =IF(N133="základná",J133,0) -> 0 | BF133: =IF(N133="znížená",J133,0) -> 0 | BG133: =IF(N133="zákl. prenesená",J133,0) -> 0 | BH133: =IF(N133="zníž. prenesená",J133,0) -> 0 | BI133: =IF(N133="nulová",J133,0) -> 0 | BJ133: 2 | BK133: =ROUND(I133*H133,2) -> 0 | BL133: 4 | BM133: 4
C134: 3 | D134: K | E134: 112201101.S | F134: Odstránenie pňov na vzdial. 50 m priemeru nad 100 do 300 mm | G134: ks | H134: 9 | J134: =ROUND(I134*H134,2) -> 0 | N134: znížená | P134: =O134*H134 -> 0 | Q134: 0 | R134: =Q134*H134 -> 0 | S134: 0 | T134: =S134*H134 -> 0 | AR134: 4 | AT134: K | AU134: 2 | AY134: ROZPOCET | BE134: =IF(N134="základná",J134,0) -> 0 | BF134: =IF(N134="znížená",J134,0) -> 0 | BG134: =IF(N134="zákl. prenesená",J134,0) -> 0 | BH134: =IF(N134="zníž. prenesená",J134,0) -> 0 | BI134: =IF(N134="nulová",J134,0) -> 0 | BJ134: 2 | BK134: =ROUND(I134*H134,2) -> 0 | BL134: 4 | BM134: 6
C135: 4 | D135: K | E135: 113107142.S | F135: Odstránenie krytu asfaltového v ploche do 200 m2, hr. nad 50 do 100 mm, -0,18100t | G135: m2 | H135: 470 | J135: =ROUND(I135*H135,2) -> 0 | N135: znížená | P135: =O135*H135 -> 0 | Q135: 0 | R135: =Q135*H135 -> 0 | S135: 0 | T135: =S135*H135 -> 0 | AR135: 4 | AT135: K | AU135: 2 | AY135: ROZPOCET | BE135: =IF(N135="základná",J135,0) -> 0 | BF135: =IF(N135="znížená",J135,0) -> 0 | BG135: =IF(N135="zákl. prenesená",J135,0) -> 0 | BH135: =IF(N135="zníž. prenesená",J135,0) -> 0 | BI135: =IF(N135="nulová",J135,0) -> 0 | BJ135: 2 | BK135: =ROUND(I135*H135,2) -> 0 | BL135: 4 | BM135: 8
D136: VV | F136: 470"dno fontány" | H136: 470 | AT136: VV | AU136: 2 | AV136: 2 | AW136: True | AX136: 0 | AY136: ROZPOCET
D137: VV | F137: Súčet | H137: 470 | AT137: VV | AU137: 2 | AV137: 4 | AW137: True | AX137: 1 | AY137: ROZPOCET
C138: 5 | D138: K | E138: 113107143.S | F138: Odstránenie krytu asfaltového v ploche do 200 m2, hr. nad 100 do 150 mm, -0,31600t | G138: m2 | H138: 440 | J138: =ROUND(I138*H138,2) -> 0 | N138: znížená | P138: =O138*H138 -> 0 | Q138: 0 | R138: =Q138*H138 -> 0 | S138: 0 | T138: =S138*H138 -> 0 | AR138: 4 | AT138: K | AU138: 2 | AY138: ROZPOCET | BE138: =IF(N138="základná",J138,0) -> 0 | BF138: =IF(N138="znížená",J138,0) -> 0 | BG138: =IF(N138="zákl. prenesená",J138,0) -> 0 | BH138: =IF(N138="zníž. prenesená",J138,0) -> 0 | BI138: =IF(N138="nulová",J138,0) -> 0 | BJ138: 2 | BK138: =ROUND(I138*H138,2) -> 0 | BL138: 4 | BM138: 10
D139: VV | F139: 50+390 | H139: 440 | AT139: VV | AU139: 2 | AV139: 2 | AW139: True | AX139: 0 | AY139: ROZPOCET
D140: VV | F140: Súčet | H140: 440 | AT140: VV | AU140: 2 | AV140: 4 | AW140: True | AX140: 1 | AY140: ROZPOCET
C141: 6 | D141: K | E141: 113107231.S | F141: Odstránenie krytu v ploche nad 200 m2 z betónu prostého, hr. vrstvy do 150 mm, -0,22500t | G141: m2 | H141: 440 | J141: =ROUND(I141*H141,2) -> 0 | N141: znížená | P141: =O141*H141 -> 0 | Q141: 0 | R141: =Q141*H141 -> 0 | S141: 0 | T141: =S141*H141 -> 0 | AR141: 4 | AT141: K | AU141: 2 | AY141: ROZPOCET | BE141: =IF(N141="základná",J141,0) -> 0 | BF141: =IF(N141="znížená",J141,0) -> 0 | BG141: =IF(N141="zákl. prenesená",J141,0) -> 0 | BH141: =IF(N141="zníž. prenesená",J141,0) -> 0 | BI141: =IF(N141="nulová",J141,0) -> 0 | BJ141: 2 | BK141: =ROUND(I141*H141,2) -> 0 | BL141: 4 | BM141: 12
D142: VV | F142: 50+390 | H142: 440 | AT142: VV | AU142: 2 | AV142: 2 | AW142: True | AX142: 0 | AY142: ROZPOCET
D143: VV | F143: Súčet | H143: 440 | AT143: VV | AU143: 2 | AV143: 4 | AW143: True | AX143: 1 | AY143: ROZPOCET
C144: 7 | D144: K | E144: 113307124.S | F144: Odstránenie podkladu v ploche do 200 m2 z kameniva hrubého drveného, hr.300 do 400mm, -0,5600t | G144: m2 | H144: 50 | J144: =ROUND(I144*H144,2) -> 0 | N144: znížená | P144: =O144*H144 -> 0 | Q144: 0 | R144: =Q144*H144 -> 0 | S144: 0 | T144: =S144*H144 -> 0 | AR144: 4 | AT144: K | AU144: 2 | AY144: ROZPOCET | BE144: =IF(N144="základná",J144,0) -> 0 | BF144: =IF(N144="znížená",J144,0) -> 0 | BG144: =IF(N144="zákl. prenesená",J144,0) -> 0 | BH144: =IF(N144="zníž. prenesená",J144,0) -> 0 | BI144: =IF(N144="nulová",J144,0) -> 0 | BJ144: 2 | BK144: =ROUND(I144*H144,2) -> 0 | BL144: 4 | BM144: 14
C145: 8 | D145: K | E145: 121101001.S | F145: Odstránenie ornice ručne s vodorov. premiest., na hromady do 50 m hr. do 150 mm | G145: m3 | H145: 1.4 | J145: =ROUND(I145*H145,2) -> 0 | N145: znížená | P145: =O145*H145 -> 0 | Q145: 0 | R145: =Q145*H145 -> 0 | S145: 0 | T145: =S145*H145 -> 0 | AR145: 4 | AT145: K | AU145: 2 | AY145: ROZPOCET | BE145: =IF(N145="základná",J145,0) -> 0 | BF145: =IF(N145="znížená",J145,0) -> 0 | BG145: =IF(N145="zákl. prenesená",J145,0) -> 0 | BH145: =IF(N145="zníž. prenesená",J145,0) -> 0 | BI145: =IF(N145="nulová",J145,0) -> 0 | BJ145: 2 | BK145: =ROUND(I145*H145,2) -> 0 | BL145: 4 | BM145: 16
D146: VV | F146: 7*0,2"b4" | H146: 1.4 | AT146: VV | AU146: 2 | AV146: 2 | AW146: True | AX146: 0 | AY146: ROZPOCET
D147: VV | F147: Súčet | H147: 1.4 | AT147: VV | AU147: 2 | AV147: 4 | AW147: True | AX147: 1 | AY147: ROZPOCET
C148: 9 | D148: K | E148: 130201001.S | F148: Výkop jamy a ryhy v obmedzenom priestore horn. tr.3 ručne | G148: m3 | H148: 129.998 | J148: =ROUND(I148*H148,2) -> 0 | N148: znížená | P148: =O148*H148 -> 0 | Q148: 0 | R148: =Q148*H148 -> 0 | S148: 0 | T148: =S148*H148 -> 0 | AR148: 4 | AT148: K | AU148: 2 | AY148: ROZPOCET | BE148: =IF(N148="základná",J148,0) -> 0 | BF148: =IF(N148="znížená",J148,0) -> 0 | BG148: =IF(N148="zákl. prenesená",J148,0) -> 0 | BH148: =IF(N148="zníž. prenesená",J148,0) -> 0 | BI148: =IF(N148="nulová",J148,0) -> 0 | BJ148: 2 | BK148: =ROUND(I148*H148,2) -> 0 | BL148: 4 | BM148: 18
D149: VV | F149: 470*0,1 | H149: 47 | AT149: VV | AU149: 2 | AV149: 2 | AW149: True | AX149: 0 | AY149: ROZPOCET
D150: VV | F150: (3,4+1,2*2)*(2,9+1,2*2)*2,7 | H150: 82.998 | AT150: VV | AU150: 2 | AV150: 2 | AW150: True | AX150: 0 | AY150: ROZPOCET
D151: VV | F151: Súčet | H151: 129.998 | AT151: VV | AU151: 2 | AV151: 4 | AW151: True | AX151: 1 | AY151: ROZPOCET
C152: 10 | D152: K | E152: 162301500.S | F152: Vodorovné premiestnenie vyklčovaných krovín do priemeru kmeňa 100 mm na vzdialenosť 3000 m | G152: m2 | H152: 150 | J152: =ROUND(I152*H152,2) -> 0 | N152: znížená | P152: =O152*H152 -> 0 | Q152: 0 | R152: =Q152*H152 -> 0 | S152: 0 | T152: =S152*H152 -> 0 | AR152: 4 | AT152: K | AU152: 2 | AY152: ROZPOCET | BE152: =IF(N152="základná",J152,0) -> 0 | BF152: =IF(N152="znížená",J152,0) -> 0 | BG152: =IF(N152="zákl. prenesená",J152,0) -> 0 | BH152: =IF(N152="zníž. prenesená",J152,0) -> 0 | BI152: =IF(N152="nulová",J152,0) -> 0 | BJ152: 2 | BK152: =ROUND(I152*H152,2) -> 0 | BL152: 4 | BM152: 20
C153: 11 | D153: K | E153: 162301509.S | F153: Príplatok za každých ďalších 1000 m premiest., vyklčovaných krovín po spevnenej ceste | G153: m2 | H153: 1500 | J153: =ROUND(I153*H153,2) -> 0 | N153: znížená | P153: =O153*H153 -> 0 | Q153: 0 | R153: =Q153*H153 -> 0 | S153: 0 | T153: =S153*H153 -> 0 | AR153: 4 | AT153: K | AU153: 2 | AY153: ROZPOCET | BE153: =IF(N153="základná",J153,0) -> 0 | BF153: =IF(N153="znížená",J153,0) -> 0 | BG153: =IF(N153="zákl. prenesená",J153,0) -> 0 | BH153: =IF(N153="zníž. prenesená",J153,0) -> 0 | BI153: =IF(N153="nulová",J153,0) -> 0 | BJ153: 2 | BK153: =ROUND(I153*H153,2) -> 0 | BL153: 4 | BM153: 22
C154: 12 | D154: K | E154: 162401102.S | F154: Vodorovné premiestnenie výkopku po spevnenej ceste z horniny tr.1-4, do 100 m3 na vzdialenosť do 2000 m | G154: m3 | H154: 87 | J154: =ROUND(I154*H154,2) -> 0 | N154: znížená | P154: =O154*H154 -> 0 | Q154: 0 | R154: =Q154*H154 -> 0 | S154: 0 | T154: =S154*H154 -> 0 | AR154: 4 | AT154: K | AU154: 2 | AY154: ROZPOCET | BE154: =IF(N154="základná",J154,0) -> 0 | BF154: =IF(N154="znížená",J154,0) -> 0 | BG154: =IF(N154="zákl. prenesená",J154,0) -> 0 | BH154: =IF(N154="zníž. prenesená",J154,0) -> 0 | BI154: =IF(N154="nulová",J154,0) -> 0 | BJ154: 2 | BK154: =ROUND(I154*H154,2) -> 0 | BL154: 4 | BM154: 24
C155: 13 | D155: K | E155: 162401401.S | F155: Vodorovné premiestnenie konárov stromov nad 100 do 300 mm do 2000 m | G155: ks | H155: 9 | J155: =ROUND(I155*H155,2) -> 0 | N155: znížená | P155: =O155*H155 -> 0 | Q155: 0 | R155: =Q155*H155 -> 0 | S155: 0 | T155: =S155*H155 -> 0 | AR155: 4 | AT155: K | AU155: 2 | AY155: ROZPOCET | BE155: =IF(N155="základná",J155,0) -> 0 | BF155: =IF(N155="znížená",J155,0) -> 0 | BG155: =IF(N155="zákl. prenesená",J155,0) -> 0 | BH155: =IF(N155="zníž. prenesená",J155,0) -> 0 | BI155: =IF(N155="nulová",J155,0) -> 0 | BJ155: 2 | BK155: =ROUND(I155*H155,2) -> 0 | BL155: 4 | BM155: 26
C156: 14 | D156: K | E156: 162401421.S | F156: Príplatok za každých ďalších 1000 m premiest.,konárov stromov nad 100 do 300 mm po spevnenej ceste | G156: ks | H156: 90 | J156: =ROUND(I156*H156,2) -> 0 | N156: znížená | P156: =O156*H156 -> 0 | Q156: 0 | R156: =Q156*H156 -> 0 | S156: 0 | T156: =S156*H156 -> 0 | AR156: 4 | AT156: K | AU156: 2 | AY156: ROZPOCET | BE156: =IF(N156="základná",J156,0) -> 0 | BF156: =IF(N156="znížená",J156,0) -> 0 | BG156: =IF(N156="zákl. prenesená",J156,0) -> 0 | BH156: =IF(N156="zníž. prenesená",J156,0) -> 0 | BI156: =IF(N156="nulová",J156,0) -> 0 | BJ156: 2 | BK156: =ROUND(I156*H156,2) -> 0 | BL156: 4 | BM156: 28
C157: 15 | D157: K | E157: 162501105.S | F157: Vodorovné premiestnenie výkopku po spevnenej ceste z horniny tr.1-4, do 100 m3, príplatok k cene za každých ďalšich a začatých 1000 m | G157: m3 | H157: 870 | J157: =ROUND(I157*H157,2) -> 0 | N157: znížená | P157: =O157*H157 -> 0 | Q157: 0 | R157: =Q157*H157 -> 0 | S157: 0 | T157: =S157*H157 -> 0 | AR157: 4 | AT157: K | AU157: 2 | AY157: ROZPOCET | BE157: =IF(N157="základná",J157,0) -> 0 | BF157: =IF(N157="znížená",J157,0) -> 0 | BG157: =IF(N157="zákl. prenesená",J157,0) -> 0 | BH157: =IF(N157="zníž. prenesená",J157,0) -> 0 | BI157: =IF(N157="nulová",J157,0) -> 0 | BJ157: 2 | BK157: =ROUND(I157*H157,2) -> 0 | BL157: 4 | BM157: 30
D158: VV | F158: 87*10 "Přepočítané koeficientom množstva | H158: 870 | AT158: VV | AU158: 2 | AV158: 2 | AW158: True | AX158: 0 | AY158: ROZPOCET
D159: VV | F159: Súčet | H159: 870 | AT159: VV | AU159: 2 | AV159: 4 | AW159: True | AX159: 1 | AY159: ROZPOCET
C160: 16 | D160: K | E160: 162501401.S | F160: Vodorovné premiestnenie kmeňov nad 100 do 300 mm do 2000 m | G160: ks | H160: 9 | J160: =ROUND(I160*H160,2) -> 0 | N160: znížená | P160: =O160*H160 -> 0 | Q160: 0 | R160: =Q160*H160 -> 0 | S160: 0 | T160: =S160*H160 -> 0 | AR160: 4 | AT160: K | AU160: 2 | AY160: ROZPOCET | BE160: =IF(N160="základná",J160,0) -> 0 | BF160: =IF(N160="znížená",J160,0) -> 0 | BG160: =IF(N160="zákl. prenesená",J160,0) -> 0 | BH160: =IF(N160="zníž. prenesená",J160,0) -> 0 | BI160: =IF(N160="nulová",J160,0) -> 0 | BJ160: 2 | BK160: =ROUND(I160*H160,2) -> 0 | BL160: 4 | BM160: 32
C161: 17 | D161: K | E161: 162501421.S | F161: Príplatok za každých ďalších 1000 m premiest.,kmeňov stromov nad 100 do 300 mm po spevnenej ceste | G161: ks | H161: 90 | J161: =ROUND(I161*H161,2) -> 0 | N161: znížená | P161: =O161*H161 -> 0 | Q161: 0 | R161: =Q161*H161 -> 0 | S161: 0 | T161: =S161*H161 -> 0 | AR161: 4 | AT161: K | AU161: 2 | AY161: ROZPOCET | BE161: =IF(N161="základná",J161,0) -> 0 | BF161: =IF(N161="znížená",J161,0) -> 0 | BG161: =IF(N161="zákl. prenesená",J161,0) -> 0 | BH161: =IF(N161="zníž. prenesená",J161,0) -> 0 | BI161: =IF(N161="nulová",J161,0) -> 0 | BJ161: 2 | BK161: =ROUND(I161*H161,2) -> 0 | BL161: 4 | BM161: 34
C162: 18 | D162: K | E162: 162601401.S | F162: Vodorovné premiestnenie pňov nad 100 do 300 mm do 2000 m | G162: ks | H162: 9 | J162: =ROUND(I162*H162,2) -> 0 | N162: znížená | P162: =O162*H162 -> 0 | Q162: 0 | R162: =Q162*H162 -> 0 | S162: 0 | T162: =S162*H162 -> 0 | AR162: 4 | AT162: K | AU162: 2 | AY162: ROZPOCET | BE162: =IF(N162="základná",J162,0) -> 0 | BF162: =IF(N162="znížená",J162,0) -> 0 | BG162: =IF(N162="zákl. prenesená",J162,0) -> 0 | BH162: =IF(N162="zníž. prenesená",J162,0) -> 0 | BI162: =IF(N162="nulová",J162,0) -> 0 | BJ162: 2 | BK162: =ROUND(I162*H162,2) -> 0 | BL162: 4 | BM162: 36
C163: 19 | D163: K | E163: 162601421.S | F163: Príplatok za každých ďalších 1000 m premiest.,pňov nad 100 do 300 mm po spevnenej ceste | G163: ks | H163: 90 | J163: =ROUND(I163*H163,2) -> 0 | N163: znížená | P163: =O163*H163 -> 0 | Q163: 0 | R163: =Q163*H163 -> 0 | S163: 0 | T163: =S163*H163 -> 0 | AR163: 4 | AT163: K | AU163: 2 | AY163: ROZPOCET | BE163: =IF(N163="základná",J163,0) -> 0 | BF163: =IF(N163="znížená",J163,0) -> 0 | BG163: =IF(N163="zákl. prenesená",J163,0) -> 0 | BH163: =IF(N163="zníž. prenesená",J163,0) -> 0 | BI163: =IF(N163="nulová",J163,0) -> 0 | BJ163: 2 | BK163: =ROUND(I163*H163,2) -> 0 | BL163: 4 | BM163: 38
C164: 20 | D164: K | E164: 171201201.S | F164: Uloženie sypaniny na skládky do 100 m3 | G164: m3 | H164: 87 | J164: =ROUND(I164*H164,2) -> 0 | N164: znížená | P164: =O164*H164 -> 0 | Q164: 0 | R164: =Q164*H164 -> 0 | S164: 0 | T164: =S164*H164 -> 0 | AR164: 4 | AT164: K | AU164: 2 | AY164: ROZPOCET | BE164: =IF(N164="základná",J164,0) -> 0 | BF164: =IF(N164="znížená",J164,0) -> 0 | BG164: =IF(N164="zákl. prenesená",J164,0) -> 0 | BH164: =IF(N164="zníž. prenesená",J164,0) -> 0 | BI164: =IF(N164="nulová",J164,0) -> 0 | BJ164: 2 | BK164: =ROUND(I164*H164,2) -> 0 | BL164: 4 | BM164: 40
C165: 21 | D165: K | E165: 171209002.S | F165: Poplatok za skladovanie - zemina a kamenivo (17 05) ostatné | G165: t | H165: 156.6 | J165: =ROUND(I165*H165,2) -> 0 | N165: znížená | P165: =O165*H165 -> 0 | Q165: 0 | R165: =Q165*H165 -> 0 | S165: 0 | T165: =S165*H165 -> 0 | AR165: 4 | AT165: K | AU165: 2 | AY165: ROZPOCET | BE165: =IF(N165="základná",J165,0) -> 0 | BF165: =IF(N165="znížená",J165,0) -> 0 | BG165: =IF(N165="zákl. prenesená",J165,0) -> 0 | BH165: =IF(N165="zníž. prenesená",J165,0) -> 0 | BI165: =IF(N165="nulová",J165,0) -> 0 | BJ165: 2 | BK165: =ROUND(I165*H165,2) -> 0 | BL165: 4 | BM165: 42
D166: VV | F166: 47*1,8+40*1,8 | H166: 156.6 | AT166: VV | AU166: 2 | AV166: 2 | AW166: True | AX166: 0 | AY166: ROZPOCET
...

Sheet 02 - Zdravotechnika
L2: >> skryté stĺpce << | AT2: {50a89852-4aa2-4725-85e4-6e9cdadb6db5}
AT3: 0
D4: KRYCÍ LIST ROZPOČTU | M4: v --- nižšie sa nachádzajú doplnkové a pomocné údaje k zostavám --- v | AT4: False
D6: Stavba:
E7: ='Rekapitulácia stavby'!K6 -> REVITALIZÁCIA FONTÁNY V ZUZKINOM PARKU - REVÍZIA 23012026
D8: Objekt:
E9: 02 - Zdravotechnika
D11: JKSO: | I11: ČS:
D12: Miesto: | F12: Zuzkin park, Košice | I12: Dátum: | J12: ='Rekapitulácia stavby'!AN8 -> 23. 1. 2026
D14: Objednávateľ: | I14: IČO: | J14: =IF('Rekapitulácia stavby'!AN10="","",'Rekapitulácia stavby'!AN10)
E15: =IF('Rekapitulácia stavby'!E11="","",'Rekapitulácia stavby'!E11) | I15: IČ DPH: | J15: =IF('Rekapitulácia stavby'!AN11="","",'Rekapitulácia stavby'!AN11)
D17: Zhotoviteľ: | I17: IČO: | J17: ='Rekapitulácia stavby'!AN13 -> Vyplň údaj
E18: ='Rekapitulácia stavby'!E14 -> Vyplň údaj | I18: IČ DPH: | J18: ='Rekapitulácia stavby'!AN14 -> Vyplň údaj
D20: Projektant: | I20: IČO:
E21: 3linea s.r.o., Jesenského 26, Košice | I21: IČ DPH:
D23: Spracovateľ: | I23: IČO: | J23: =IF('Rekapitulácia stavby'!AN19="","",'Rekapitulácia stavby'!AN19)
E24: =IF('Rekapitulácia stavby'!E20="","",'Rekapitulácia stavby'!E20) | I24: IČ DPH: | J24: =IF('Rekapitulácia stavby'!AN20="","",'Rekapitulácia stavby'!AN20)
D26: Poznámka:
D30: Cena bez DPH | J30: =ROUND(J124, 2) -> 0
F32: Základ dane | I32: Sadzba dane | J32: Výška dane
D33: DPH | E33: základná | F33: =ROUND((SUM(BE124:BE170)), 2) -> 0 | I33: 0.23 | J33: =ROUND(((SUM(BE124:BE170))*I33), 2) -> 0
E34: znížená | F34: =ROUND((SUM(BF124:BF170)), 2) -> 0 | I34: 0.23 | J34: =ROUND(((SUM(BF124:BF170))*I34), 2) -> 0
E35: zákl. prenesená | F35: =ROUND((SUM(BG124:BG170)), 2) -> 0 | I35: 0.23 | J35: =0 -> 0
E36: zníž. prenesená | F36: =ROUND((SUM(BH124:BH170)), 2) -> 0 | I36: 0.23 | J36: =0 -> 0
E37: nulová | F37: =ROUND((SUM(BI124:BI170)), 2) -> 0 | I37: 0 | J37: =0 -> 0
D39: Cena s DPH | G39: v | H39: EUR | J39: =SUM(J30:J37) -> 0
D50: Projektant | G50: Spracovateľ
D61: Dátum a podpis: | F61: Pečiatka | G61: Dátum a podpis: | J61: Pečiatka
D65: Objednávateľ | G65: Zhotoviteľ
D76: Dátum a podpis: | F76: Pečiatka | G76: Dátum a podpis: | J76: Pečiatka
C82: REKAPITULÁCIA ROZPOČTU
C84: Stavba:
E85: =E7 -> REVITALIZÁCIA FONTÁNY V ZUZKINOM PARKU - REVÍZIA 23012026
C86: Objekt:
E87: =E9 -> 02 - Zdravotechnika
C89: Miesto: | F89: =F12 -> Zuzkin park, Košice | I89: Dátum: | J89: =IF(J12="","",J12) -> 23. 1. 2026
C91: Objednávateľ: | F91: =E15 | I91: Projektant: | J91: =E21 -> 3linea s.r.o., Jesenského 26, Košice
C92: Zhotoviteľ: | F92: =IF(E18="","",E18) -> Vyplň údaj | I92: Spracovateľ: | J92: =E24
C94: Kód dielu - Popis | J94: Cena celkom [EUR]
C96: Náklady z rozpočtu | J96: =J124 -> 0 | AU96: -1
D97: HSV - Práce a dodávky HSV | J97: =J125 -> 0
D98: 1 - Zemné práce | J98: =J126 -> 0
D99: 4 - Vodorovné konštrukcie | J99: =J137 -> 0
D100: 8 - Rúrové vedenie | J100: =J139 -> 0
D101: 9 - Ostatné konštrukcie a práce-búranie | J101: =J160 -> 0
D102: 99 - Presun hmôt HSV | J102: =J162 -> 0
D103: PSV - Práce a dodávky PSV | J103: =J164 -> 0
D104: 722 - Zdravotechnika - vnútorný vodovod | J104: =J165 -> 0
C111: ROZPOČET
C113: Stavba:
E114: =E7 -> REVITALIZÁCIA FONTÁNY V ZUZKINOM PARKU - REVÍZIA 23012026
C115: Objekt:
E116: =E9 -> 02 - Zdravotechnika
C118: Miesto: | F118: =F12 -> Zuzkin park, Košice | I118: Dátum: | J118: =IF(J12="","",J12) -> 23. 1. 2026
C120: Objednávateľ: | F120: =E15 | I120: Projektant: | J120: =E21 -> 3linea s.r.o., Jesenského 26, Košice
C121: Zhotoviteľ: | F121: =IF(E18="","",E18) -> Vyplň údaj | I121: Spracovateľ: | J121: =E24
C123: PČ | D123: Typ | E123: Kód | F123: Popis | G123: MJ | H123: Množstvo | I123: J.cena [EUR] | J123: Cena celkom [EUR] | K123: Cenová sústava | N123: DPH | O123: J. Nh [h] | P123: Nh celkom [h] | Q123: J. hmotnosť [t] | R123: Hmotnosť celkom [t] | S123: J. suť [t] | T123: Suť Celkom [t]
C124: Náklady z rozpočtu | J124: =BK124 -> 0 | P124: =P125+P164 -> 0 | R124: =R125+R164 -> 0.0200426 | T124: =T125+T164 -> 0 | AT124: D | AU124: -1 | BK124: =BK125+BK164 -> 0
D125: D | E125: HSV | F125: Práce a dodávky HSV | J125: =BK125 -> 0 | P125: =P126+P137+P139+P160+P162 -> 0 | R125: =R126+R137+R139+R160+R162 -> 0.0200426 | T125: =T126+T137+T139+T160+T162 -> 0 | AR125: 1 | AT125: D | AU125: 0 | AY125: ROZPOCET | BK125: =BK126+BK137+BK139+BK160+BK162 -> 0
D126: D | E126: 1 | F126: Zemné práce | J126: =BK126 -> 0 | P126: =SUM(P127:P136) -> 0 | R126: =SUM(R127:R136) -> 0 | T126: =SUM(T127:T136) -> 0 | AR126: 1 | AT126: D | AU126: 1 | AY126: ROZPOCET | BK126: =SUM(BK127:BK136) -> 0
C127: 1 | D127: K | E127: 132201201.S | F127: Výkop ryhy šírky 600-2000mm horn.3 do 100m3 | G127: m3 | H127: 36 | J127: =ROUND(I127*H127,2) -> 0 | N127: znížená | P127: =O127*H127 -> 0 | Q127: 0 | R127: =Q127*H127 -> 0 | S127: 0 | T127: =S127*H127 -> 0 | AR127: 4 | AT127: K | AU127: 2 | AY127: ROZPOCET | BE127: =IF(N127="základná",J127,0) -> 0 | BF127: =IF(N127="znížená",J127,0) -> 0 | BG127: =IF(N127="zákl. prenesená",J127,0) -> 0 | BH127: =IF(N127="zníž. prenesená",J127,0) -> 0 | BI127: =IF(N127="nulová",J127,0) -> 0 | BJ127: 2 | BK127: =ROUND(I127*H127,2) -> 0 | BL127: 4 | BM127: 2
C128: 2 | D128: K | E128: 132201209.S | F128: Príplatok k cenám za lepivosť pri hĺbení rýh š. nad 600 do 2 000 mm zapaž. i nezapažených, s urovnaním dna v hornine 3 | G128: m3 | H128: 11.88 | J128: =ROUND(I128*H128,2) -> 0 | N128: znížená | P128: =O128*H128 -> 0 | Q128: 0 | R128: =Q128*H128 -> 0 | S128: 0 | T128: =S128*H128 -> 0 | AR128: 4 | AT128: K | AU128: 2 | AY128: ROZPOCET | BE128: =IF(N128="základná",J128,0) -> 0 | BF128: =IF(N128="znížená",J128,0) -> 0 | BG128: =IF(N128="zákl. prenesená",J128,0) -> 0 | BH128: =IF(N128="zníž. prenesená",J128,0) -> 0 | BI128: =IF(N128="nulová",J128,0) -> 0 | BJ128: 2 | BK128: =ROUND(I128*H128,2) -> 0 | BL128: 4 | BM128: 4
C129: 3 | D129: K | E129: 162501102.S | F129: Vodorovné premiestnenie výkopku po spevnenej ceste z horniny tr.1-4, do 100 m3 na vzdialenosť do 3000 m | G129: m3 | H129: 10 | J129: =ROUND(I129*H129,2) -> 0 | N129: znížená | P129: =O129*H129 -> 0 | Q129: 0 | R129: =Q129*H129 -> 0 | S129: 0 | T129: =S129*H129 -> 0 | AR129: 4 | AT129: K | AU129: 2 | AY129: ROZPOCET | BE129: =IF(N129="základná",J129,0) -> 0 | BF129: =IF(N129="znížená",J129,0) -> 0 | BG129: =IF(N129="zákl. prenesená",J129,0) -> 0 | BH129: =IF(N129="zníž. prenesená",J129,0) -> 0 | BI129: =IF(N129="nulová",J129,0) -> 0 | BJ129: 2 | BK129: =ROUND(I129*H129,2) -> 0 | BL129: 4 | BM129: 6
C130: 4 | D130: K | E130: 162501105.S | F130: Vodorovné premiestnenie výkopku po spevnenej ceste z horniny tr.1-4, do 100 m3, príplatok k cene za každých ďalšich a začatých 1000 m | G130: m3 | H130: 70 | J130: =ROUND(I130*H130,2) -> 0 | N130: znížená | P130: =O130*H130 -> 0 | Q130: 0 | R130: =Q130*H130 -> 0 | S130: 0 | T130: =S130*H130 -> 0 | AR130: 4 | AT130: K | AU130: 2 | AY130: ROZPOCET | BE130: =IF(N130="základná",J130,0) -> 0 | BF130: =IF(N130="znížená",J130,0) -> 0 | BG130: =IF(N130="zákl. prenesená",J130,0) -> 0 | BH130: =IF(N130="zníž. prenesená",J130,0) -> 0 | BI130: =IF(N130="nulová",J130,0) -> 0 | BJ130: 2 | BK130: =ROUND(I130*H130,2) -> 0 | BL130: 4 | BM130: 8
C131: 5 | D131: K | E131: 167101101.S | F131: Nakladanie neuľahnutého výkopku z hornín tr.1-4 do 100 m3 | G131: m3 | H131: 10 | J131: =ROUND(I131*H131,2) -> 0 | N131: znížená | P131: =O131*H131 -> 0 | Q131: 0 | R131: =Q131*H131 -> 0 | S131: 0 | T131: =S131*H131 -> 0 | AR131: 4 | AT131: K | AU131: 2 | AY131: ROZPOCET | BE131: =IF(N131="základná",J131,0) -> 0 | BF131: =IF(N131="znížená",J131,0) -> 0 | BG131: =IF(N131="zákl. prenesená",J131,0) -> 0 | BH131: =IF(N131="zníž. prenesená",J131,0) -> 0 | BI131: =IF(N131="nulová",J131,0) -> 0 | BJ131: 2 | BK131: =ROUND(I131*H131,2) -> 0 | BL131: 4 | BM131: 10
C132: 6 | D132: K | E132: 171201201.S | F132: Uloženie sypaniny na skládky do 100 m3 | G132: m3 | H132: 10 | J132: =ROUND(I132*H132,2) -> 0 | N132: znížená | P132: =O132*H132 -> 0 | Q132: 0 | R132: =Q132*H132 -> 0 | S132: 0 | T132: =S132*H132 -> 0 | AR132: 4 | AT132: K | AU132: 2 | AY132: ROZPOCET | BE132: =IF(N132="základná",J132,0) -> 0 | BF132: =IF(N132="znížená",J132,0) -> 0 | BG132: =IF(N132="zákl. prenesená",J132,0) -> 0 | BH132: =IF(N132="zníž. prenesená",J132,0) -> 0 | BI132: =IF(N132="nulová",J132,0) -> 0 | BJ132: 2 | BK132: =ROUND(I132*H132,2) -> 0 | BL132: 4 | BM132: 12
C133: 7 | D133: K | E133: 171209002.S | F133: Poplatok za skladovanie - zemina a kamenivo (17 05) ostatné | G133: t | H133: 19 | J133: =ROUND(I133*H133,2) -> 0 | N133: znížená | P133: =O133*H133 -> 0 | Q133: 0 | R133: =Q133*H133 -> 0 | S133: 0 | T133: =S133*H133 -> 0 | AR133: 4 | AT133: K | AU133: 2 | AY133: ROZPOCET | BE133: =IF(N133="základná",J133,0) -> 0 | BF133: =IF(N133="znížená",J133,0) -> 0 | BG133: =IF(N133="zákl. prenesená",J133,0) -> 0 | BH133: =IF(N133="zníž. prenesená",J133,0) -> 0 | BI133: =IF(N133="nulová",J133,0) -> 0 | BJ133: 2 | BK133: =ROUND(I133*H133,2) -> 0 | BL133: 4 | BM133: 14
C134: 8 | D134: K | E134: 174101001.S | F134: Zásyp sypaninou so zhutnením jám, šachiet, rýh, zárezov alebo okolo objektov do 100 m3 | G134: m3 | H134: 26 | J134: =ROUND(I134*H134,2) -> 0 | N134: znížená | P134: =O134*H134 -> 0 | Q134: 0 | R134: =Q134*H134 -> 0 | S134: 0 | T134: =S134*H134 -> 0 | AR134: 4 | AT134: K | AU134: 2 | AY134: ROZPOCET | BE134: =IF(N134="základná",J134,0) -> 0 | BF134: =IF(N134="znížená",J134,0) -> 0 | BG134: =IF(N134="zákl. prenesená",J134,0) -> 0 | BH134: =IF(N134="zníž. prenesená",J134,0) -> 0 | BI134: =IF(N134="nulová",J134,0) -> 0 | BJ134: 2 | BK134: =ROUND(I134*H134,2) -> 0 | BL134: 4 | BM134: 16
C135: 9 | D135: K | E135: 175101101.S | F135: Obsyp potrubia sypaninou z vhodných hornín 1 až 4 bez prehodenia sypaniny | G135: m3 | H135: 6 | J135: =ROUND(I135*H135,2) -> 0 | N135: znížená | P135: =O135*H135 -> 0 | Q135: 0 | R135: =Q135*H135 -> 0 | S135: 0 | T135: =S135*H135 -> 0 | AR135: 4 | AT135: K | AU135: 2 | AY135: ROZPOCET | BE135: =IF(N135="základná",J135,0) -> 0 | BF135: =IF(N135="znížená",J135,0) -> 0 | BG135: =IF(N135="zákl. prenesená",J135,0) -> 0 | BH135: =IF(N135="zníž. prenesená",J135,0) -> 0 | BI135: =IF(N135="nulová",J135,0) -> 0 | BJ135: 2 | BK135: =ROUND(I135*H135,2) -> 0 | BL135: 4 | BM135: 18
C136: 10 | D136: M | E136: 583310000600.S | F136: Kamenivo ťažené drobné frakcia 0-4 mm | G136: t | H136: 10.8 | J136: =ROUND(I136*H136,2) -> 0 | N136: znížená | P136: =O136*H136 -> 0 | Q136: 0 | R136: =Q136*H136 -> 0 | S136: 0 | T136: =S136*H136 -> 0 | AR136: 8 | AT136: M | AU136: 2 | AY136: ROZPOCET | BE136: =IF(N136="základná",J136,0) -> 0 | BF136: =IF(N136="znížená",J136,0) -> 0 | BG136: =IF(N136="zákl. prenesená",J136,0) -> 0 | BH136: =IF(N136="zníž. prenesená",J136,0) -> 0 | BI136: =IF(N136="nulová",J136,0) -> 0 | BJ136: 2 | BK136: =ROUND(I136*H136,2) -> 0 | BL136: 4 | BM136: 20
D137: D | E137: 4 | F137: Vodorovné konštrukcie | J137: =BK137 -> 0 | P137: =P138 -> 0 | R137: =R138 -> 0 | T137: =T138 -> 0 | AR137: 1 | AT137: D | AU137: 1 | AY137: ROZPOCET | BK137: =BK138 -> 0
C138: 11 | D138: K | E138: 451572111.S | F138: Lôžko pod potrubie, stoky a drobné objekty, v otvorenom výkope z kameniva drobného ťaženého 0-4 mm | G138: m3 | H138: 4 | J138: =ROUND(I138*H138,2) -> 0 | N138: znížená | P138: =O138*H138 -> 0 | Q138: 0 | R138: =Q138*H138 -> 0 | S138: 0 | T138: =S138*H138 -> 0 | AR138: 4 | AT138: K | AU138: 2 | AY138: ROZPOCET | BE138: =IF(N138="základná",J138,0) -> 0 | BF138: =IF(N138="znížená",J138,0) -> 0 | BG138: =IF(N138="zákl. prenesená",J138,0) -> 0 | BH138: =IF(N138="zníž. prenesená",J138,0) -> 0 | BI138: =IF(N138="nulová",J138,0) -> 0 | BJ138: 2 | BK138: =ROUND(I138*H138,2) -> 0 | BL138: 4 | BM138: 22
D139: D | E139: 8 | F139: Rúrové vedenie | J139: =BK139 -> 0 | P139: =SUM(P140:P159) -> 0 | R139: =SUM(R140:R159) -> 0.0200426 | T139: =SUM(T140:T159) -> 0 | AR139: 1 | AT139: D | AU139: 1 | AY139: ROZPOCET | BK139: =SUM(BK140:BK159) -> 0
C140: 12 | D140: K | E140: 871171112.S | F140: Montáž vodovodného potrubia z dvojvsrtvového PE 100 SDR11, SDR17 zváraných elektrotvarovkami D 32x3,0 mm | G140: m | H140: 15 | J140: =ROUND(I140*H140,2) -> 0 | N140: znížená | P140: =O140*H140 -> 0 | Q140: 0 | R140: =Q140*H140 -> 0 | S140: 0 | T140: =S140*H140 -> 0 | AR140: 4 | AT140: K | AU140: 2 | AY140: ROZPOCET | BE140: =IF(N140="základná",J140,0) -> 0 | BF140: =IF(N140="znížená",J140,0) -> 0 | BG140: =IF(N140="zákl. prenesená",J140,0) -> 0 | BH140: =IF(N140="zníž. prenesená",J140,0) -> 0 | BI140: =IF(N140="nulová",J140,0) -> 0 | BJ140: 2 | BK140: =ROUND(I140*H140,2) -> 0 | BL140: 4 | BM140: 24
C141: 13 | D141: M | E141: 286130033400.S | F141: Rúra HDPE na vodu PE100 PN16 SDR11 32x3,0x100 m | G141: m | H141: 15 | J141: =ROUND(I141*H141,2) -> 0 | N141: znížená | P141: =O141*H141 -> 0 | Q141: 0 | R141: =Q141*H141 -> 0 | S141: 0 | T141: =S141*H141 -> 0 | AR141: 8 | AT141: M | AU141: 2 | AY141: ROZPOCET | BE141: =IF(N141="základná",J141,0) -> 0 | BF141: =IF(N141="znížená",J141,0) -> 0 | BG141: =IF(N141="zákl. prenesená",J141,0) -> 0 | BH141: =IF(N141="zníž. prenesená",J141,0) -> 0 | BI141: =IF(N141="nulová",J141,0) -> 0 | BJ141: 2 | BK141: =ROUND(I141*H141,2) -> 0 | BL141: 4 | BM141: 26
C142: 14 | D142: K | E142: 871319021.S | F142: Demontáž kanalizačného potrubia z plastových rúr od DN 150 do DN 300 -0,01700 t | G142: m | H142: 15 | J142: =ROUND(I142*H142,2) -> 0 | N142: znížená | P142: =O142*H142 -> 0 | Q142: 0 | R142: =Q142*H142 -> 0 | S142: 0 | T142: =S142*H142 -> 0 | AR142: 4 | AT142: K | AU142: 2 | AY142: ROZPOCET | BE142: =IF(N142="základná",J142,0) -> 0 | BF142: =IF(N142="znížená",J142,0) -> 0 | BG142: =IF(N142="zákl. prenesená",J142,0) -> 0 | BH142: =IF(N142="zníž. prenesená",J142,0) -> 0 | BI142: =IF(N142="nulová",J142,0) -> 0 | BJ142: 2 | BK142: =ROUND(I142*H142,2) -> 0 | BL142: 4 | BM142: 28
C143: 15 | D143: K | E143: 871326026.S | F143: Montáž kanalizačného PVC-U potrubia hladkého plnostenného DN 150 | G143: m | H143: 15 | J143: =ROUND(I143*H143,2) -> 0 | N143: znížená | P143: =O143*H143 -> 0 | Q143: 0 | R143: =Q143*H143 -> 0 | S143: 0 | T143: =S143*H143 -> 0 | AR143: 4 | AT143: K | AU143: 2 | AY143: ROZPOCET | BE143: =IF(N143="základná",J143,0) -> 0 | BF143: =IF(N143="znížená",J143,0) -> 0 | BG143: =IF(N143="zákl. prenesená",J143,0) -> 0 | BH143: =IF(N143="zníž. prenesená",J143,0) -> 0 | BI143: =IF(N143="nulová",J143,0) -> 0 | BJ143: 2 | BK143: =ROUND(I143*H143,2) -> 0 | BL143: 4 | BM143: 30
C144: 16 | D144: M | E144: 286110002700.S | F144: Rúra PVC-U hladký, kanalizačný, gravitačný systém Dxr 160x4,7 mm dĺ. 6 m, SN8 - plnostenná | G144: ks | H144: 2.505 | J144: =ROUND(I144*H144,2) -> 0 | N144: znížená | P144: =O144*H144 -> 0 | Q144: 0 | R144: =Q144*H144 -> 0 | S144: 0 | T144: =S144*H144 -> 0 | AR144: 8 | AT144: M | AU144: 2 | AY144: ROZPOCET | BE144: =IF(N144="základná",J144,0) -> 0 | BF144: =IF(N144="znížená",J144,0) -> 0 | BG144: =IF(N144="zákl. prenesená",J144,0) -> 0 | BH144: =IF(N144="zníž. prenesená",J144,0) -> 0 | BI144: =IF(N144="nulová",J144,0) -> 0 | BJ144: 2 | BK144: =ROUND(I144*H144,2) -> 0 | BL144: 4 | BM144: 32
C145: 17 | D145: K | E145: 877326100.S | F145: Montáž kanalizačnej PVC-U presuvky DN 150 | G145: ks | H145: 2 | J145: =ROUND(I145*H145,2) -> 0 | N145: znížená | P145: =O145*H145 -> 0 | Q145: 0 | R145: =Q145*H145 -> 0 | S145: 0 | T145: =S145*H145 -> 0 | AR145: 4 | AT145: K | AU145: 2 | AY145: ROZPOCET | BE145: =IF(N145="základná",J145,0) -> 0 | BF145: =IF(N145="znížená",J145,0) -> 0 | BG145: =IF(N145="zákl. prenesená",J145,0) -> 0 | BH145: =IF(N145="zníž. prenesená",J145,0) -> 0 | BI145: =IF(N145="nulová",J145,0) -> 0 | BJ145: 2 | BK145: =ROUND(I145*H145,2) -> 0 | BL145: 4 | BM145: 34
C146: 18 | D146: M | E146: 286510009800.S | F146: Presuvka PVC-U, DN 160 pre hladký, kanalizačný, gravitačný systém | G146: ks | H146: 2 | J146: =ROUND(I146*H146,2) -> 0 | N146: znížená | P146: =O146*H146 -> 0 | Q146: 0 | R146: =Q146*H146 -> 0 | S146: 0 | T146: =S146*H146 -> 0 | AR146: 8 | AT146: M | AU146: 2 | AY146: ROZPOCET | BE146: =IF(N146="základná",J146,0) -> 0 | BF146: =IF(N146="znížená",J146,0) -> 0 | BG146: =IF(N146="zákl. prenesená",J146,0) -> 0 | BH146: =IF(N146="zníž. prenesená",J146,0) -> 0 | BI146: =IF(N146="nulová",J146,0) -> 0 | BJ146: 2 | BK146: =ROUND(I146*H146,2) -> 0 | BL146: 4 | BM146: 36
C147: 19 | D147: K | E147: 891163111.S | F147: Montáž vodovodnej armatúry na potrubí ventil hlavný pre prípojky DN 25 | G147: ks | H147: 1 | J147: =ROUND(I147*H147,2) -> 0 | N147: znížená | P147: =O147*H147 -> 0 | Q147: 0 | R147: =Q147*H147 -> 0 | S147: 0 | T147: =S147*H147 -> 0 | AR147: 4 | AT147: K | AU147: 2 | AY147: ROZPOCET | BE147: =IF(N147="základná",J147,0) -> 0 | BF147: =IF(N147="znížená",J147,0) -> 0 | BG147: =IF(N147="zákl. prenesená",J147,0) -> 0 | BH147: =IF(N147="zníž. prenesená",J147,0) -> 0 | BI147: =IF(N147="nulová",J147,0) -> 0 | BJ147: 2 | BK147: =ROUND(I147*H147,2) -> 0 | BL147: 4 | BM147: 38
C148: 20 | D148: M | E148: 2800.1 | F148: Posúvač DN 1"-32 domovej prípojky, voda a kanál | G148: ks | H148: 1 | J148: =ROUND(I148*H148,2) -> 0 | N148: znížená | P148: =O148*H148 -> 0 | Q148: 0 | R148: =Q148*H148 -> 0 | S148: 0 | T148: =S148*H148 -> 0 | AR148: 8 | AT148: M | AU148: 2 | AY148: ROZPOCET | BE148: =IF(N148="základná",J148,0) -> 0 | BF148: =IF(N148="znížená",J148,0) -> 0 | BG148: =IF(N148="zákl. prenesená",J148,0) -> 0 | BH148: =IF(N148="zníž. prenesená",J148,0) -> 0 | BI148: =IF(N148="nulová",J148,0) -> 0 | BJ148: 2 | BK148: =ROUND(I148*H148,2) -> 0 | BL148: 4 | BM148: 40
C149: 21 | D149: M | E149: 960134218 | F149: Zemná súprava teleskopická RD=1.30-1.80 m DN 3/4"-2", voda a kanál | G149: ks | H149: 1 | J149: =ROUND(I149*H149,2) -> 0 | N149: znížená | P149: =O149*H149 -> 0 | Q149: 0 | R149: =Q149*H149 -> 0 | S149: 0 | T149: =S149*H149 -> 0 | AR149: 8 | AT149: M | AU149: 2 | AY149: ROZPOCET | BE149: =IF(N149="základná",J149,0) -> 0 | BF149: =IF(N149="znížená",J149,0) -> 0 | BG149: =IF(N149="zákl. prenesená",J149,0) -> 0 | BH149: =IF(N149="zníž. prenesená",J149,0) -> 0 | BI149: =IF(N149="nulová",J149,0) -> 0 | BJ149: 2 | BK149: =ROUND(I149*H149,2) -> 0 | BL149: 4 | BM149: 42
C150: 37 | D150: K | E150: 891321051.S1 | F150: Montáž spätnej klapky priebežnej DN 150 | G150: ks | H150: 1 | J150: =ROUND(I150*H150,2) -> 0 | N150: znížená | P150: =O150*H150 -> 0 | Q150: 4.26e-05 | R150: =Q150*H150 -> 4.26e-05 | S150: 0 | T150: =S150*H150 -> 0 | AR150: 4 | AT150: K | AU150: 2 | AY150: ROZPOCET | BE150: =IF(N150="základná",J150,0) -> 0 | BF150: =IF(N150="znížená",J150,0) -> 0 | BG150: =IF(N150="zákl. prenesená",J150,0) -> 0 | BH150: =IF(N150="zníž. prenesená",J150,0) -> 0 | BI150: =IF(N150="nulová",J150,0) -> 0 | BJ150: 2 | BK150: =ROUND(I150*H150,2) -> 0 | BL150: 4 | BM150: 1132905751
C151: 38 | D151: M | E151: 42282000 | F151: Klapka spätná DN 150 | G151: ks | H151: 1 | J151: =ROUND(I151*H151,2) -> 0 | N151: znížená | P151: =O151*H151 -> 0 | Q151: 0.02 | R151: =Q151*H151 -> 0.02 | S151: 0 | T151: =S151*H151 -> 0 | AR151: 8 | AT151: M | AU151: 2 | AY151: ROZPOCET | BE151: =IF(N151="základná",J151,0) -> 0 | BF151: =IF(N151="znížená",J151,0) -> 0 | BG151: =IF(N151="zákl. prenesená",J151,0) -> 0 | BH151: =IF(N151="zníž. prenesená",J151,0) -> 0 | BI151: =IF(N151="nulová",J151,0) -> 0 | BJ151: 2 | BK151: =ROUND(I151*H151,2) -> 0 | BL151: 4 | BM151: -795465491
... C159: 29 | D159: K | E159: 899721131.S | F159: Označenie vodovodného potrubia bielou výstražnou fóliou | G159: m | H159: 15 | J159: =ROUND(I159*H159,2) -> 0 | N159: znížená | P159: =O159*H159 -> 0 | Q159: 0 | R159: =Q159*H159 -> 0 | S159: 0 | T159: =S159*H159 -> 0 | AR159: 4 | AT159: K | AU159: 2 | AY159: ROZPOCET | BE159: =IF(N159="základná",J159,0) -> 0 | BF159: =IF(N159="znížená",J159,0) -> 0 | BG159: =IF(N159="zákl. prenesená",J159,0) -> 0 | BH159: =IF(N159="zníž. prenesená",J159,0) -> 0 | BI159: =IF(N159="nulová",J159,0) -> 0 | BJ159: 2 | BK159: =ROUND(I159*H159,2) -> 0 | BL159: 4 | BM159: 56
D160: D | E160: 9 | F160: Ostatné konštrukcie a práce-búranie | J160: =BK160 -> 0 | P160: =P161 -> 0 | R160: =R161 -> 0 | T160: =T161 -> 0 | AR160: 1 | AT160: D | AU160: 1 | AY160: ROZPOCET | BK160: =BK161 -> 0
C161: 30 | D161: K | E161: 962551000 | F161: Odstránenie vrstiev jestvujúceho chodníka, výkop, demontáž, podsyp, montáž, spätný zásyp, podkladný betón, asfaltový kryt a materiál | G161: m | H161: 3 | J161: =ROUND(I161*H161,2) -> 0 | N161: znížená | P161: =O161*H161 -> 0 | Q161: 0 | R161: =Q161*H161 -> 0 | S161: 0 | T161: =S161*H161 -> 0 | AR161: 4 | AT161: K | AU161: 2 | AY161: ROZPOCET | BE161: =IF(N161="základná",J161,0) -> 0 | BF161: =IF(N161="znížená",J161,0) -> 0 | BG161: =IF(N161="zákl. prenesená",J161,0) -> 0 | BH161: =IF(N161="zníž. prenesená",J161,0) -> 0 | BI161: =IF(N161="nulová",J161,0) -> 0 | BJ161: 2 | BK161: =ROUND(I161*H161,2) -> 0 | BL161: 4 | BM161: 1509031607
D162: D | E162: 99 | F162: Presun hmôt HSV | J162: =BK162 -> 0 | P162: =P163 -> 0 | R162: =R163 -> 0 | T162: =T163 -> 0 | AR162: 1 | AT162: D | AU162: 1 | AY162: ROZPOCET | BK162: =BK163 -> 0
C163: 31 | D163: K | E163: 998276101.S | F163: Presun hmôt pre rúrové vedenie hĺbené z rúr z plast., hmôt alebo sklolamin. v otvorenom výkope | G163: t | H163: 18.847 | J163: =ROUND(I163*H163,2) -> 0 | N163: znížená | P163: =O163*H163 -> 0 | Q163: 0 | R163: =Q163*H163 -> 0 | S163: 0 | T163: =S163*H163 -> 0 | AR163: 4 | AT163: K | AU163: 2 | AY163: ROZPOCET | BE163: =IF(N163="základná",J163,0) -> 0 | BF163: =IF(N163="znížená",J163,0) -> 0 | BG163: =IF(N163="zákl. prenesená",J163,0) -> 0 | BH163: =IF(N163="zníž. prenesená",J163,0) -> 0 | BI163: =IF(N163="nulová",J163,0) -> 0 | BJ163: 2 | BK163: =ROUND(I163*H163,2) -> 0 | BL163: 4 | BM163: 58
D164: D | E164: PSV | F164: Práce a dodávky PSV | J164: =BK164 -> 0 | P164: =P165 -> 0 | R164: =R165 -> 0 | T164: =T165 -> 0 | AR164: 2 | AT164: D | AU164: 0 | AY164: ROZPOCET | BK164: =BK165 -> 0
D165: D | E165: 722 | F165: Zdravotechnika - vnútorný vodovod | J165: =BK165 -> 0 | P165: =SUM(P166:P170) -> 0 | R165: =SUM(R166:R170) -> 0 | T165: =SUM(T166:T170) -> 0 | AR165: 2 | AT165: D | AU165: 1 | AY165: ROZPOCET | BK165: =SUM(BK166:BK170) -> 0
C166: 32 | D166: K | E166: 722221371.S | F166: Montáž vodomernej zostavy 1" | G166: ks | H166: 1 | J166: =ROUND(I166*H166,2) -> 0 | N166: znížená | P166: =O166*H166 -> 0 | Q166: 0 | R166: =Q166*H166 -> 0 | S166: 0 | T166: =S166*H166 -> 0 | AR166: 16 | AT166: K | AU166: 2 | AY166: ROZPOCET | BE166: =IF(N166="základná",J166,0) -> 0 | BF166: =IF(N166="znížená",J166,0) -> 0 | BG166: =IF(N166="zákl. prenesená",J166,0) -> 0 | BH166: =IF(N166="zníž. prenesená",J166,0) -> 0 | BI166: =IF(N166="nulová",J166,0) -> 0 | BJ166: 2 | BK166: =ROUND(I166*H166,2) -> 0 | BL166: 16 | BM166: 60
C167: 33 | D167: M | E167: 35065-1 | F167: Vodomerná zostava s ISO pripojením 32/32 | G167: ks | H167: 1 | J167: =ROUND(I167*H167,2) -> 0 | N167: znížená | P167: =O167*H167 -> 0 | Q167: 0 | R167: =Q167*H167 -> 0 | S167: 0 | T167: =S167*H167 -> 0 | AR167: 32 | AT167: M | AU167: 2 | AY167: ROZPOCET | BE167: =IF(N167="základná",J167,0) -> 0 | BF167: =IF(N167="znížená",J167,0) -> 0 | BG167: =IF(N167="zákl. prenesená",J167,0) -> 0 | BH167: =IF(N167="zníž. prenesená",J167,0) -> 0 | BI167: =IF(N167="nulová",J167,0) -> 0 | BJ167: 2 | BK167: =ROUND(I167*H167,2) -> 0 | BL167: 16 | BM167: 62
C168: 34 | D168: K | E168: 722263415.S | F168: Montáž vodomeru závitového G 3/4 | G168: ks | H168: 1 | J168: =ROUND(I168*H168,2) -> 0 | N168: znížená | P168: =O168*H168 -> 0 | Q168: 0 | R168: =Q168*H168 -> 0 | S168: 0 | T168: =S168*H168 -> 0 | AR168: 16 | AT168: K | AU168: 2 | AY168: ROZPOCET | BE168: =IF(N168="základná",J168,0) -> 0 | BF168: =IF(N168="znížená",J168,0) -> 0 | BG168: =IF(N168="zákl. prenesená",J168,0) -> 0 | BH168: =IF(N168="zníž. prenesená",J168,0) -> 0 | BI168: =IF(N168="nulová",J168,0) -> 0 | BJ168: 2 | BK168: =ROUND(I168*H168,2) -> 0 | BL168: 16 | BM168: 64
C169: 35 | D169: M | E169: 38888131529 | F169: Vodomer 3/4", 2,5 m3/h | G169: ks | H169: 1 | J169: =ROUND(I169*H169,2) -> 0 | N169: znížená | P169: =O169*H169 -> 0 | Q169: 0 | R169: =Q169*H169 -> 0 | S169: 0 | T169: =S169*H169 -> 0 | AR169: 32 | AT169: M | AU169: 2 | AY169: ROZPOCET | BE169: =IF(N169="základná",J169,0) -> 0 | BF169: =IF(N169="znížená",J169,0) -> 0 | BG169: =IF(N169="zákl. prenesená",J169,0) -> 0 | BH169: =IF(N169="zníž. prenesená",J169,0) -> 0 | BI169: =IF(N169="nulová",J169,0) -> 0 | BJ169: 2 | BK169: =ROUND(I169*H169,2) -> 0 | BL169: 16 | BM169: 66
C170: 36 | D170: K | E170: 998722201.S | F170: Presun hmôt pre vnútorný vodovod v objektoch výšky do 6 m | G170: % | J170: =ROUND(I170*H170,2) -> 0 | N170: znížená | P170: =O170*H170 -> 0 | Q170: 0 | R170: =Q170*H170 -> 0 | S170: 0 | T170: =S170*H170 -> 0 | AR170: 16 | AT170: K | AU170: 2 | AY170: ROZPOCET | BE170: =IF(N170="základná",J170,0) -> 0 | BF170: =IF(N170="znížená",J170,0) -> 0 | BG170: =IF(N170="zákl. prenesená",J170,0) -> 0 | BH170: =IF(N170="zníž. prenesená",J170,0) -> 0 | BI170: =IF(N170="nulová",J170,0) -> 0 | BJ170: 2 | BK170: =ROUND(I170*H170,2) -> 0 | BL170: 16 | BM170: 325692281

Sheet 03 - Elektroinštalácia
L2: >> skryté stĺpce << | AT2: {feadfd07-8ac5-4dbd-80af-6302311602f4}
AT3: 0
D4: KRYCÍ LIST ROZPOČTU | M4: v --- nižšie sa nachádzajú doplnkové a pomocné údaje k zostavám --- v | AT4: False
D6: Stavba:
E7: ='Rekapitulácia stavby'!K6 -> REVITALIZÁCIA FONTÁNY V ZUZKINOM PARKU - REVÍZIA 23012026
D8: Objekt:
E9: 03 - Elektroinštalácia
D11: JKSO: | I11: ČS:
D12: Miesto: | F12: Zuzkin park, Košice | I12: Dátum: | J12: ='Rekapitulácia stavby'!AN8 -> 23. 1. 2026
D14: Objednávateľ: | I14: IČO: | J14: =IF('Rekapitulácia stavby'!AN10="","",'Rekapitulácia stavby'!AN10)
E15: =IF('Rekapitulácia stavby'!E11="","",'Rekapitulácia stavby'!E11) | I15: IČ DPH: | J15: =IF('Rekapitulácia stavby'!AN11="","",'Rekapitulácia stavby'!AN11)
D17: Zhotoviteľ: | I17: IČO: | J17: ='Rekapitulácia stavby'!AN13 -> Vyplň údaj
E18: ='Rekapitulácia stavby'!E14 -> Vyplň údaj | I18: IČ DPH: | J18: ='Rekapitulácia stavby'!AN14 -> Vyplň údaj
D20: Projektant: | I20: IČO:
E21: 3linea s.r.o., Jesenského 26, Košice | I21: IČ DPH:
D23: Spracovateľ: | I23: IČO:
I24: IČ DPH:
D26: Poznámka:
D30: Cena bez DPH | J30: =ROUND(J127, 2) -> 0
F32: Základ dane | I32: Sadzba dane | J32: Výška dane
D33: DPH | E33: základná | F33: =ROUND((SUM(BE127:BE185)), 2) -> 0 | I33: 0.23 | J33: =ROUND(((SUM(BE127:BE185))*I33), 2) -> 0
E34: znížená | F34: =ROUND((SUM(BF127:BF185)), 2) -> 0 | I34: 0.23 | J34: =ROUND(((SUM(BF127:BF185))*I34), 2) -> 0
E35: zákl. prenesená | F35: =ROUND((SUM(BG127:BG185)), 2) -> 0 | I35: 0.23 | J35: =0 -> 0
E36: zníž. prenesená | F36: =ROUND((SUM(BH127:BH185)), 2) -> 0 | I36: 0.23 | J36: =0 -> 0
E37: nulová | F37: =ROUND((SUM(BI127:BI185)), 2) -> 0 | I37: 0 | J37: =0 -> 0
D39: Cena s DPH | G39: v | H39: EUR | J39: =SUM(J30:J37) -> 0
D50: Projektant | G50: Spracovateľ
D61: Dátum a podpis: | F61: Pečiatka | G61: Dátum a podpis: | J61: Pečiatka
D65: Objednávateľ | G65: Zhotoviteľ
D76: Dátum a podpis: | F76: Pečiatka | G76: Dátum a podpis: | J76: Pečiatka
C82: REKAPITULÁCIA ROZPOČTU
C84: Stavba:
E85: =E7 -> REVITALIZÁCIA FONTÁNY V ZUZKINOM PARKU - REVÍZIA 23012026
C86: Objekt:
E87: =E9 -> 03 - Elektroinštalácia
C89: Miesto: | F89: =F12 -> Zuzkin park, Košice | I89: Dátum: | J89: =IF(J12="","",J12) -> 23. 1. 2026
C91: Objednávateľ: | F91: =E15 | I91: Projektant: | J91: =E21 -> 3linea s.r.o., Jesenského 26, Košice
C92: Zhotoviteľ: | F92: =IF(E18="","",E18) -> Vyplň údaj | I92: Spracovateľ: | J92: =E24
C94: Kód dielu - Popis | J94: Cena celkom [EUR]
C96: Náklady z rozpočtu | J96: =J127 -> 0 | AU96: -1
D97: D1 - Elektromontáže M21 - silnoprúd | J97: =J128 -> 0
D98: Rúrkové vedenia, ška - Rúrkové vedenia, ška | J98: =J129 -> 0
D99: Vodiče, šnúry, káble - Vodiče, šnúry, káble | J99: =J134 -> 0
D100: Rozvádzače, rozvodné - Rozvádzače, rozvodné | J100: =J141 -> 0
D101: Doplnenie rozvádzača - Doplnenie rozvádzača | J101: =J150 -> 0
D102: Osvetľovacie telesá - Osvetľovacie telesá | J102: =J156 -> 0
D103: Zemné práce - Zemné práce | J103: =J168 -> 0
D104: Východzia revízia el - Východzia revízia el | J104: =J178 -> 0
D105: VZT - Odvetranie | J105: =J180 -> 0
D106: PSV - Práce a dodávky PSV | J106: =J181 -> 0
D107: 769 - Montáže vzduchotechnických zariadení | J107: =J182 -> 0
C114: ROZPOČET
C116: Stavba:
E117: =E7 -> REVITALIZÁCIA FONTÁNY V ZUZKINOM PARKU - REVÍZIA 23012026
C118: Objekt:
E119: =E9 -> 03 - Elektroinštalácia
C121: Miesto: | F121: =F12 -> Zuzkin park, Košice | I121: Dátum: | J121: =IF(J12="","",J12) -> 23. 1. 2026
C123: Objednávateľ: | F123: =E15 | I123: Projektant: | J123: =E21 -> 3linea s.r.o., Jesenského 26, Košice
C124: Zhotoviteľ: | F124: =IF(E18="","",E18) -> Vyplň údaj | I124: Spracovateľ: | J124: =E24
C126: PČ | D126: Typ | E126: Kód | F126: Popis | G126: MJ | H126: Množstvo | I126: J.cena [EUR] | J126: Cena celkom [EUR] | K126: Cenová sústava | N126: DPH | O126: J. Nh [h] | P126: Nh celkom [h] | Q126: J. hmotnosť [t] | R126: Hmotnosť celkom [t] | S126: J. suť [t] | T126: Suť Celkom [t]
C127: Náklady z rozpočtu | J127: =BK127 -> 0 | P127: =P128+P180+P181 -> 0 | R127: =R128+R180+R181 -> 0.0036 | T127: =T128+T180+T181 -> 0 | AT127: D | AU127: -1 | BK127: =BK128+BK180+BK181 -> 0
D128: D | E128: D1 | F128: Elektromontáže M21 - silnoprúd | J128: =BK128 -> 0 | P128: =P129+P134+P141+P150+P156+P168+P178 -> 0 | R128: =R129+R134+R141+R150+R156+R168+R178 -> 0.0028 | T128: =T129+T134+T141+T150+T156+T168+T178 -> 0 | AR128: 1 | AT128: D | AU128: 0 | AY128: ROZPOCET | BK128: =BK129+BK134+BK141+BK150+BK156+BK168+BK178 -> 0
D129: D | E129: Rúrkové vedenia, ška | F129: Rúrkové vedenia, ška | J129: =BK129 -> 0 | P129: =SUM(P130:P133) -> 0 | R129: =SUM(R130:R133) -> 0 | T129: =SUM(T130:T133) -> 0 | AR129: 1 | AT129: D | AU129: 1 | AY129: ROZPOCET | BK129: =SUM(BK130:BK133) -> 0
C130: 1 | D130: K | E130: 21001-0003 | F130: Rúrka ohybná pancierová PVC do zemného výkopu 32 mm | G130: m | H130: 125 | J130: =ROUND(I130*H130,2) -> 0 | N130: znížená | P130: =O130*H130 -> 0 | Q130: 0 | R130: =Q130*H130 -> 0 | S130: 0 | T130: =S130*H130 -> 0 | AR130: 4 | AT130: K | AU130: 2 | AY130: ROZPOCET | BE130: =IF(N130="základná",J130,0) -> 0 | BF130: =IF(N130="znížená",J130,0) -> 0 | BG130: =IF(N130="zákl. prenesená",J130,0) -> 0 | BH130: =IF(N130="zníž. prenesená",J130,0) -> 0 | BI130: =IF(N130="nulová",J130,0) -> 0 | BJ130: 2 | BK130: =ROUND(I130*H130,2) -> 0 | BL130: 4 | BM130: 2
C131: 2 | D131: M | E131: 345 701I03 | F131: Rúrka el-inšt PVC ohybná FXP 32 IEC, pancierová | G131: m | H131: 125 | J131: =ROUND(I131*H131,2) -> 0 | N131: znížená | P131: =O131*H131 -> 0 | Q131: 0 | R131: =Q131*H131 -> 0 | S131: 0 | T131: =S131*H131 -> 0 | AR131: 8 | AT131: M | AU131: 2 | AY131: ROZPOCET | BE131: =IF(N131="základná",J131,0) -> 0 | BF131: =IF(N131="znížená",J131,0) -> 0 | BG131: =IF(N131="zákl. prenesená",J131,0) -> 0 | BH131: =IF(N131="zníž. prenesená",J131,0) -> 0 | BI131: =IF(N131="nulová",J131,0) -> 0 | BJ131: 2 | BK131: =ROUND(I131*H131,2) -> 0 | BL131: 4 | BM131: 4
C132: 3 | D132: K | E132: 21001-0003.1 | F132: Rúrka oceľová závitová nelakovaná | G132: kus | H132: 2 | J132: =ROUND(I132*H132,2) -> 0 | N132: znížená | P132: =O132*H132 -> 0 | Q132: 0 | R132: =Q132*H132 -> 0 | S132: 0 | T132: =S132*H132 -> 0 | AR132: 4 | AT132: K | AU132: 2 | AY132: ROZPOCET | BE132: =IF(N132="základná",J132,0) -> 0 | BF132: =IF(N132="znížená",J132,0) -> 0 | BG132: =IF(N132="zákl. prenesená",J132,0) -> 0 | BH132: =IF(N132="zníž. prenesená",J132,0) -> 0 | BI132: =IF(N132="nulová",J132,0) -> 0 | BJ132: 2 | BK132: =ROUND(I132*H132,2) -> 0 | BL132: 4 | BM132: 6
C133: 4 | D133: M | E133: 345 701I03.1 | F133: Rúrka oceľová závitová nelakovaná l=3m, 6029 | G133: kus | H133: 2 | J133: =ROUND(I133*H133,2) -> 0 | N133: znížená | P133: =O133*H133 -> 0 | Q133: 0 | R133: =Q133*H133 -> 0 | S133: 0 | T133: =S133*H133 -> 0 | AR133: 8 | AT133: M | AU133: 2 | AY133: ROZPOCET | BE133: =IF(N133="základná",J133,0) -> 0 | BF133: =IF(N133="znížená",J133,0) -> 0 | BG133: =IF(N133="zákl. prenesená",J133,0) -> 0 | BH133: =IF(N133="zníž. prenesená",J133,0) -> 0 | BI133: =IF(N133="nulová",J133,0) -> 0 | BJ133: 2 | BK133: =ROUND(I133*H133,2) -> 0 | BL133: 4 | BM133: 8
D134: D | E134: Vodiče, šnúry, káble | F134: Vodiče, šnúry, káble | J134: =BK134 -> 0 | P134: =SUM(P135:P140) -> 0 | R134: =SUM(R135:R140) -> 0 | T134: =SUM(T135:T140) -> 0 | AR134: 1 | AT134: D | AU134: 1 | AY134: ROZPOCET | BK134: =SUM(BK135:BK140) -> 0
C135: 5 | D135: K | E135: 21080-0105 | F135: Kábel 750V uložený v zemnom výkope CYKY-O 2x1,5 | G135: m | H135: 25 | J135: =ROUND(I135*H135,2) -> 0 | N135: znížená | P135: =O135*H135 -> 0 | Q135: 0 | R135: =Q135*H135 -> 0 | S135: 0 | T135: =S135*H135 -> 0 | AR135: 4 | AT135: K | AU135: 2 | AY135: ROZPOCET | BE135: =IF(N135="základná",J135,0) -> 0 | BF135: =IF(N135="znížená",J135,0) -> 0 | BG135: =IF(N135="zákl. prenesená",J135,0) -> 0 | BH135: =IF(N135="zníž. prenesená",J135,0) -> 0 | BI135: =IF(N135="nulová",J135,0) -> 0 | BJ135: 2 | BK135: =ROUND(I135*H135,2) -> 0 | BL135: 4 | BM135: 10
C136: 6 | D136: M | E136: 341 201M15 | F136: Kábel Cu jadro 750V CYKY-O 2x1,5 | G136: m | H136: 25 | J136: =ROUND(I136*H136,2) -> 0 | N136: znížená | P136: =O136*H136 -> 0 | Q136: 0 | R136: =Q136*H136 -> 0 | S136: 0 | T136: =S136*H136 -> 0 | AR136: 8 | AT136: M | AU136: 2 | AY136: ROZPOCET | BE136: =IF(N136="základná",J136,0) -> 0 | BF136: =IF(N136="znížená",J136,0) -> 0 | BG136: =IF(N136="zákl. prenesená",J136,0) -> 0 | BH136: =IF(N136="zníž. prenesená",J136,0) -> 0 | BI136: =IF(N136="nulová",J136,0) -> 0 | BJ136: 2 | BK136: =ROUND(I136*H136,2) -> 0 | BL136: 4 | BM136: 12
C137: 7 | D137: K | E137: 21080-0106 | F137: Kábel 750V uložený v zemnom výkope CYKY-J 3x2,5 | G137: m | H137: 250 | J137: =ROUND(I137*H137,2) -> 0 | N137: znížená | P137: =O137*H137 -> 0 | Q137: 0 | R137: =Q137*H137 -> 0 | S137: 0 | T137: =S137*H137 -> 0 | AR137: 4 | AT137: K | AU137: 2 | AY137: ROZPOCET | BE137: =IF(N137="základná",J137,0) -> 0 | BF137: =IF(N137="znížená",J137,0) -> 0 | BG137: =IF(N137="zákl. prenesená",J137,0) -> 0 | BH137: =IF(N137="zníž. prenesená",J137,0) -> 0 | BI137: =IF(N137="nulová",J137,0) -> 0 | BJ137: 2 | BK137: =ROUND(I137*H137,2) -> 0 | BL137: 4 | BM137: 14
C138: 8 | D138: M | E138: 341 201M18 | F138: Kábel Cu jadro 750V CYKY-J 3x2,5 | G138: m | H138: 250 | J138: =ROUND(I138*H138,2) -> 0 | N138: znížená | P138: =O138*H138 -> 0 | Q138: 0 | R138: =Q138*H138 -> 0 | S138: 0 | T138: =S138*H138 -> 0 | AR138: 8 | AT138: M | AU138: 2 | AY138: ROZPOCET | BE138: =IF(N138="základná",J138,0) -> 0 | BF138: =IF(N138="znížená",J138,0) -> 0 | BG138: =IF(N138="zákl. prenesená",J138,0) -> 0 | BH138: =IF(N138="zníž. prenesená",J138,0) -> 0 | BI138: =IF(N138="nulová",J138,0) -> 0 | BJ138: 2 | BK138: =ROUND(I138*H138,2) -> 0 | BL138: 4 | BM138: 16
C139: 9 | D139: K | E139: 21080-0125 | F139: Kábel 750V uložený v zemnom výkope CYKY-J 5x6 | G139: m | H139: 25 | J139: =ROUND(I139*H139,2) -> 0 | N139: znížená | P139: =O139*H139 -> 0 | Q139: 0 | R139: =Q139*H139 -> 0 | S139: 0 | T139: =S139*H139 -> 0 | AR139: 4 | AT139: K | AU139: 2 | AY139: ROZPOCET | BE139: =IF(N139="základná",J139,0) -> 0 | BF139: =IF(N139="znížená",J139,0) -> 0 | BG139: =IF(N139="zákl. prenesená",J139,0) -> 0 | BH139: =IF(N139="zníž. prenesená",J139,0) -> 0 | BI139: =IF(N139="nulová",J139,0) -> 0 | BJ139: 2 | BK139: =ROUND(I139*H139,2) -> 0 | BL139: 4 | BM139: 18
C140: 10 | D140: M | E140: 341 201M45 | F140: Kábel Cu jadro 750V CYKY-J 5x6 | G140: m | H140: 25 | J140: =ROUND(I140*H140,2) -> 0 | N140: znížená | P140: =O140*H140 -> 0 | Q140: 0 | R140: =Q140*H140 -> 0 | S140: 0 | T140: =S140*H140 -> 0 | AR140: 8 | AT140: M | AU140: 2 | AY140: ROZPOCET | BE140: =IF(N140="základná",J140,0) -> 0 | BF140: =IF(N140="znížená",J140,0) -> 0 | BG140: =IF(N140="zákl. prenesená",J140,0) -> 0 | BH140: =IF(N140="zníž. prenesená",J140,0) -> 0 | BI140: =IF(N140="nulová",J140,0) -> 0 | BJ140: 2 | BK140: =ROUND(I140*H140,2) -> 0 | BL140: 4 | BM140: 20
D141: D | E141: Rozvádzače, rozvodné | F141: Rozvádzače, rozvodné | J141: =BK141 -> 0 | P141: =SUM(P142:P149) -> 0 | R141: =SUM(R142:R149) -> 0.0028 | T141: =SUM(T142:T149) -> 0 | AR141: 1 | AT141: D | AU141: 1 | AY141: ROZPOCET | BK141: =SUM(BK142:BK149) -> 0
C142: 11 | D142: K | E142: 21019-0003 | F142: Montáž, demontáž prístrojovej vložky do 100 kg | G142: kus | H142: 2 | J142: =ROUND(I142*H142,2) -> 0 | N142: znížená | P142: =O142*H142 -> 0 | Q142: 0 | R142: =Q142*H142 -> 0 | S142: 0 | T142: =S142*H142 -> 0 | AR142: 4 | AT142: K | AU142: 2 | AY142: ROZPOCET | BE142: =IF(N142="základná",J142,0) -> 0 | BF142: =IF(N142="znížená",J142,0) -> 0 | BG142: =IF(N142="zákl. prenesená",J142,0) -> 0 | BH142: =IF(N142="zníž. prenesená",J142,0) -> 0 | BI142: =IF(N142="nulová",J142,0) -> 0 | BJ142: 2 | BK142: =ROUND(I142*H142,2) -> 0 | BL142: 4 | BM142: 22
C143: 12 | D143: K | E143: 21002-1361-51 | F143: P/ Dokončovacie práce na rozvádzačoch | G143: kus | H143: 2 | J143: =ROUND(I143*H143,2) -> 0 | N143: znížená | P143: =O143*H143 -> 0 | Q143: 0 | R143: =Q143*H143 -> 0 | S143: 0 | T143: =S143*H143 -> 0 | AR143: 4 | AT143: K | AU143: 2 | AY143: ROZPOCET | BE143: =IF(N143="základná",J143,0) -> 0 | BF143: =IF(N143="znížená",J143,0) -> 0 | BG143: =IF(N143="zákl. prenesená",J143,0) -> 0 | BH143: =IF(N143="zníž. prenesená",J143,0) -> 0 | BI143: =IF(N143="nulová",J143,0) -> 0 | BJ143: 2 | BK143: =ROUND(I143*H143,2) -> 0 | BL143: 4 | BM143: 24
C144: 13 | D144: M | E144: 358 53F532 | F144: Istič 3-pólový - 6kA (1MD) PL6-B20/3 | G144: kus | H144: 1 | J144: =ROUND(I144*H144,2) -> 0 | N144: znížená | P144: =O144*H144 -> 0 | Q144: 0 | R144: =Q144*H144 -> 0 | S144: 0 | T144: =S144*H144 -> 0 | AR144: 8 | AT144: M | AU144: 2 | AY144: ROZPOCET | BE144: =IF(N144="základná",J144,0) -> 0 | BF144: =IF(N144="znížená",J144,0) -> 0 | BG144: =IF(N144="zákl. prenesená",J144,0) -> 0 | BH144: =IF(N144="zníž. prenesená",J144,0) -> 0 | BI144: =IF(N144="nulová",J144,0) -> 0 | BJ144: 2 | BK144: =ROUND(I144*H144,2) -> 0 | BL144: 4 | BM144: 26
C145: 14 | D145: M | E145: 358 53F506 | F145: Istič 1-pólový - 6kA (1MD) PL6-B6/1 | G145: kus | H145: 1 | J145: =ROUND(I145*H145,2) -> 0 | N145: znížená | P145: =O145*H145 -> 0 | Q145: 0 | R145: =Q145*H145 -> 0 | S145: 0 | T145: =S145*H145 -> 0 | AR145: 8 | AT145: M | AU145: 2 | AY145: ROZPOCET | BE145: =IF(N145="základná",J145,0) -> 0 | BF145: =IF(N145="znížená",J145,0) -> 0 | BG145: =IF(N145="zákl. prenesená",J145,0) -> 0 | BH145: =IF(N145="zníž. prenesená",J145,0) -> 0 | BI145: =IF(N145="nulová",J145,0) -> 0 | BJ145: 2 | BK145: =ROUND(I145*H145,2) -> 0 | BL145: 4 | BM145: 28
C146: 15 | D146: K | E146: 21022-0451 | F146: Ochranné pospojovanie vodičom Cu 4-16 mm2, voľne uložené | G146: m | H146: 10 | J146: =ROUND(I146*H146,2) -> 0 | N146: znížená | P146: =O146*H146 -> 0 | Q146: 0 | R146: =Q146*H146 -> 0 | S146: 0 | T146: =S146*H146 -> 0 | AR146: 4 | AT146: K | AU146: 2 | AY146: ROZPOCET | BE146: =IF(N146="základná",J146,0) -> 0 | BF146: =IF(N146="znížená",J146,0) -> 0 | BG146: =IF(N146="zákl. prenesená",J146,0) -> 0 | BH146: =IF(N146="zníž. prenesená",J146,0) -> 0 | BI146: =IF(N146="nulová",J146,0) -> 0 | BJ146: 2 | BK146: =ROUND(I146*H146,2) -> 0 | BL146: 4 | BM146: 30
C147: 16 | D147: M | E147: 341 000M58 | F147: Vodič CYA 4 lano, zel/žlté | G147: m | H147: 10 | J147: =ROUND(I147*H147,2) -> 0 | N147: znížená | P147: =O147*H147 -> 0 | Q147: 0.00028 | R147: =Q147*H147 -> 0.0028 | S147: 0 | T147: =S147*H147 -> 0 | AR147: 8 | AT147: M | AU147: 2 | AY147: ROZPOCET | BE147: =IF(N147="základná",J147,0) -> 0 | BF147: =IF(N147="znížená",J147,0) -> 0 | BG147: =IF(N147="zákl. prenesená",J147,0) -> 0 | BH147: =IF(N147="zníž. prenesená",J147,0) -> 0 | BI147: =IF(N147="nulová",J147,0) -> 0 | BJ147: 2 | BK147: =ROUND(I147*H147,2) -> 0 | BL147: 4 | BM147: 32
C148: 17 | D148: K | E148: 21022-0022 | F148: Vedenie uzemňovacie FeZn D 8,10 mm | G148: m | H148: 25 | J148: =ROUND(I148*H148,2) -> 0 | N148: znížená | P148: =O148*H148 -> 0 | Q148: 0 | R148: =Q148*H148 -> 0 | S148: 0 | T148: =S148*H148 -> 0 | AR148: 4 | AT148: K | AU148: 2 | AY148: ROZPOCET | BE148: =IF(N148="základná",J148,0) -> 0 | BF148: =IF(N148="znížená",J148,0) -> 0 | BG148: =IF(N148="zákl. prenesená",J148,0) -> 0 | BH148: =IF(N148="zníž. prenesená",J148,0) -> 0 | BI148: =IF(N148="nulová",J148,0) -> 0 | BJ148: 2 | BK148: =ROUND(I148*H148,2) -> 0 | BL148: 4 | BM148: 34
C149: 18 | D149: M | E149: 354 900Z21 | F149: Drôt zvodový - zemniaci FeZn D 10 mm | G149: kg | H149: 15 | J149: =ROUND(I149*H149,2) -> 0 | N149: znížená | P149: =O149*H149 -> 0 | Q149: 0 | R149: =Q149*H149 -> 0 | S149: 0 | T149: =S149*H149 -> 0 | AR149: 8 | AT149: M | AU149: 2 | AY149: ROZPOCET | BE149: =IF(N149="základná",J149,0) -> 0 | BF149: =IF(N149="znížená",J149,0) -> 0 | BG149: =IF(N149="zákl. prenesená",J149,0) -> 0 | BH149: =IF(N149="zníž. prenesená",J149,0) -> 0 | BI149: =IF(N149="nulová",J149,0) -> 0 | BJ149: 2 | BK149: =ROUND(I149*H149,2) -> 0 | BL149: 4 | BM149: 36
D150: D | E150: Doplnenie rozvádzača | F150: Doplnenie rozvádzača | J150: =BK150 -> 0 | P150: =SUM(P151:P155) -> 0 | R150: =SUM(R151:R155) -> 0 | T150: =SUM(T151:T155) -> 0 | AR150: 1 | AT150: D | AU150: 1 | AY150: ROZPOCET | BK150: =SUM(BK151:BK155) -> 0
C151: 19 | D151: K | E151: B-9 000-1.8 | F151: Prepojenie pomocných obvodov | G151: kus | H151: 1 | J151: =ROUND(I151*H151,2) -> 0 | N151: znížená | P151: =O151*H151 -> 0 | Q151: 0 | R151: =Q151*H151 -> 0 | S151: 0 | T151: =S151*H151 -> 0 | AR151: 4 | AT151: K | AU151: 2 | AY151: ROZPOCET | BE151: =IF(N151="základná",J151,0) -> 0 | BF151: =IF(N151="znížená",J151,0) -> 0 | BG151: =IF(N151="zákl. prenesená",J151,0) -> 0 | BH151: =IF(N151="zníž. prenesená",J151,0) -> 0 | BI151: =IF(N151="nulová",J151,0) -> 0 | BJ151: 2 | BK151: =ROUND(I151*H151,2) -> 0 | BL151: 4 | BM151: 38
C152: 20 | D152: M | E152: 358 53F506 | F152: Istič 1-pólový - 6kA (1MD) PL6-B6/1 | G152: kus | H152: 1 | J152: =ROUND(I152*H152,2) -> 0 | N152: znížená | P152: =O152*H152 -> 0 | Q152: 0 | R152: =Q152*H152 -> 0 | S152: 0 | T152: =S152*H152 -> 0 | AR152: 8 | AT152: M | AU152: 2 | AY152: ROZPOCET | BE152: =IF(N152="základná",J152,0) -> 0 | BF152: =IF(N152="znížená",J152,0) -> 0 | BG152: =IF(N152="zákl. prenesená",J152,0) -> 0 | BH152: =IF(N152="zníž. prenesená",J152,0) -> 0 | BI152: =IF(N152="nulová",J152,0) -> 0 | BJ152: 2 | BK152: =ROUND(I152*H152,2) -> 0 | BL152: 4 | BM152: 40
C153: 21 | D153: M | E153: 358 55F230 | F153: Inštalačné relé 20A, 230V AC, Z-R230/SS | G153: kus | H153: 2 | J153: =ROUND(I153*H153,2) -> 0 | N153: znížená | P153: =O153*H153 -> 0 | Q153: 0 | R153: =Q153*H153 -> 0 | S153: 0 | T153: =S153*H153 -> 0 | AR153: 8 | AT153: M | AU153: 2 | AY153: ROZPOCET | BE153: =IF(N153="základná",J153,0) -> 0 | BF153: =IF(N153="znížená",J153,0) -> 0 | BG153: =IF(N153="zákl. prenesená",J153,0) -> 0 | BH153: =IF(N153="zníž. prenesená",J153,0) -> 0 | BI153: =IF(N153="nulová",J153,0) -> 0 | BJ153: 2 | BK153: =ROUND(I153*H153,2) -> 0 | BL153: 4 | BM153: 42
C154: 22 | D154: M | E154: 358 110826 | F154: Súmrakový spínač | G154: kus | H154: 1 | J154: =ROUND(I154*H154,2) -> 0 | N154: znížená | P154: =O154*H154 -> 0 | Q154: 0 | R154: =Q154*H154 -> 0 | S154: 0 | T154: =S154*H154 -> 0 | AR154: 8 | AT154: M | AU154: 2 | AY154: ROZPOCET | BE154: =IF(N154="základná",J154,0) -> 0 | BF154: =IF(N154="znížená",J154,0) -> 0 | BG154: =IF(N154="zákl. prenesená",J154,0) -> 0 | BH154: =IF(N154="zníž. prenesená",J154,0) -> 0 | BI154: =IF(N154="nulová",J154,0) -> 0 | BJ154: 2 | BK154: =ROUND(I154*H154,2) -> 0 | BL154: 4 | BM154: 44
C155: 23 | D155: M | E155: 358 53F510 | F155: Prepínač Z-DSU1-102 | G155: kus | H155: 1 | J155: =ROUND(I155*H155,2) -> 0 | N155: znížená | P155: =O155*H155 -> 0 | Q155: 0 | R155: =Q155*H155 -> 0 | S155: 0 | T155: =S155*H155 -> 0 | AR155: 8 | AT155: M | AU155: 2 | AY155: ROZPOCET | BE155: =IF(N155="základná",J155,0) -> 0 | BF155: =IF(N155="znížená",J155,0) -> 0 | BG155: =IF(N155="zákl. prenesená",J155,0) -> 0 | BH155: =IF(N155="zníž. prenesená",J155,0) -> 0 | BI155: =IF(N155="nulová",J155,0) -> 0 | BJ155: 2 | BK155: =ROUND(I155*H155,2) -> 0 | BL155: 4 | BM155: 46
D156: D | E156: Osvetľovacie telesá | F156: Osvetľovacie telesá | J156: =BK156 -> 0 | P156: =SUM(P157:P167) -> 0 | R156: =SUM(R157:R167) -> 0 | T156: =SUM(T157:T167) -> 0 | AR156: 1 | AT156: D | AU156: 1 | AY156: ROZPOCET | BK156: =SUM(BK157:BK167) -> 0
C157: 24 | D157: K | E157: NM-50001 N W40 ND-A6 | F157: Reflektorové LED svietidlo na trvalé zaplavenie vodou so hĺbky 2m, 24V, 14W, 4000K, 1000 lm, CRI 80, optika N25 °, nerezové telo svietidla, IP68, IK07, naklápateľné, externý napájací zdroj | G157: kus | H157: 4 | J157: =ROUND(I157*H157,2) -> 0 | N157: znížená | P157: =O157*H157 -> 0 | Q157: 0 | R157: =Q157*H157 -> 0 | S157: 0 | T157: =S157*H157 -> 0 | AR157: 4 | AT157: K | AU157: 2 | AY157: ROZPOCET | BE157: =IF(N157="základná",J157,0) -> 0 | BF157: =IF(N157="znížená",J157,0) -> 0 | BG157: =IF(N157="zákl. prenesená",J157,0) -> 0 | BH157: =IF(N157="zníž. prenesená",J157,0) -> 0 | BI157: =IF(N157="nulová",J157,0) -> 0 | BJ157: 2 | BK157: =ROUND(I157*H157,2) -> 0 | BL157: 4 | BM157: 48
C158: 25 | D158: K | E158: A62591 | F158: IP káblová spojka | G158: kus | H158: 4 | J158: =ROUND(I158*H158,2) -> 0 | N158: znížená | P158: =O158*H158 -> 0 | Q158: 0 | R158: =Q158*H158 -> 0 | S158: 0 | T158: =S158*H158 -> 0 | AR158: 4 | AT158: K | AU158: 2 | AY158: ROZPOCET | BE158: =IF(N158="základná",J158,0) -> 0 | BF158: =IF(N158="znížená",J158,0) -> 0 | BG158: =IF(N158="zákl. prenesená",J158,0) -> 0 | BH158: =IF(N158="zníž. prenesená",J158,0) -> 0 | BI158: =IF(N158="nulová",J158,0) -> 0 | BJ158: 2 | BK158: =ROUND(I158*H158,2) -> 0 | BL158: 4 | BM158: 50
C159: 26 | D159: K | E159: A80191 | F159: IP Box pre napájací zdroj | G159: kus | H159: 4 | J159: =ROUND(I159*H159,2) -> 0 | N159: znížená | P159: =O159*H159 -> 0 | Q159: 0 | R159: =Q159*H159 -> 0 | S159: 0 | T159: =S159*H159 -> 0 | AR159: 4 | AT159: K | AU159: 2 | AY159: ROZPOCET | BE159: =IF(N159="základná",J159,0) -> 0 | BF159: =IF(N159="znížená",J159,0) -> 0 | BG159: =IF(N159="zákl. prenesená",J159,0) -> 0 | BH159: =IF(N159="zníž. prenesená",J159,0) -> 0 | BI159: =IF(N159="nulová",J159,0) -> 0 | BJ159: 2 | BK159: =ROUND(I159*H159,2) -> 0 | BL159: 4 | BM159: 52
C160: 27 | D160: K | E160: Pol1 | F160: Recyklačný poplatok za svietidlo | G160: kus | H160: 4 | J160: =ROUND(I160*H160,2) -> 0 | N160: znížená | P160: =O160*H160 -> 0 | Q160: 0 | R160: =Q160*H160 -> 0 | S160: 0 | T160: =S160*H160 -> 0 | AR160: 4 | AT160: K | AU160: 2 | AY160: ROZPOCET | BE160: =IF(N160="základná",J160,0) -> 0 | BF160: =IF(N160="znížená",J160,0) -> 0 | BG160: =IF(N160="zákl. prenesená",J160,0) -> 0 | BH160: =IF(N160="zníž. prenesená",J160,0) -> 0 | BI160: =IF(N160="nulová",J160,0) -> 0 | BJ160: 2 | BK160: =ROUND(I160*H160,2) -> 0 | BL160: 4 | BM160: 54
C161: 28 | D161: K | E161: Q699.15 | F161: iGuzzini Palco- reflektorové LED svietidlo príkon 12W, svetelný výkon 1208 lm, 4000K, CRI80, nestmievateľné, externý napájací zdroj, optika SPOT 16", kovové telo svietidla, IK07, IP66-pre osadenie nad hladinu vody, naklápateľné | G161: kus | H161: 2 | J161: =ROUND(I161*H161,2) -> 0 | N161: znížená | P161: =O161*H161 -> 0 | Q161: 0 | R161: =Q161*H161 -> 0 | S161: 0 | T161: =S161*H161 -> 0 | AR161: 4 | AT161: K | AU161: 2 | AY161: ROZPOCET | BE161: =IF(N161="základná",J161,0) -> 0 | BF161: =IF(N161="znížená",J161,0) -> 0 | BG161: =IF(N161="zákl. prenesená",J161,0) -> 0 | BH161: =IF(N161="zníž. prenesená",J161,0) -> 0 | BI161: =IF(N161="nulová",J161,0) -> 0 | BJ161: 2 | BK161: =ROUND(I161*H161,2) -> 0 | BL161: 4 | BM161: 56
C162: 29 | D162: K | E162: X245 | F162: Montážný rám pre osadenie príslušenstva | G162: kus | H162: 2 | J162: =ROUND(I162*H162,2) -> 0 | N162: znížená | P162: =O162*H162 -> 0 | Q162: 0 | R162: =Q162*H162 -> 0 | S162: 0 | T162: =S162*H162 -> 0 | AR162: 4 | AT162: K | AU162: 2 | AY162: ROZPOCET | BE162: =IF(N162="základná",J162,0) -> 0 | BF162: =IF(N162="znížená",J162,0) -> 0 | BG162: =IF(N162="zákl. prenesená",J162,0) -> 0 | BH162: =IF(N162="zníž. prenesená",J162,0) -> 0 | BI162: =IF(N162="nulová",J162,0) -> 0 | BJ162: 2 | BK162: =ROUND(I162*H162,2) -> 0 | BL162: 4 | BM162: 58
C163: 30 | D163: K | E163: X261 | F163: Refraktor pre eleiptickú distribúciu svetla | G163: kus | H163: 2 | J163: =ROUND(I163*H163,2) -> 0 | N163: znížená | P163: =O163*H163 -> 0 | Q163: 0 | R163: =Q163*H163 -> 0 | S163: 0 | T163: =S163*H163 -> 0 | AR163: 4 | AT163: K | AU163: 2 | AY163: ROZPOCET | BE163: =IF(N163="základná",J163,0) -> 0 | BF163: =IF(N163="znížená",J163,0) -> 0 | BG163: =IF(N163="zákl. prenesená",J163,0) -> 0 | BH163: =IF(N163="zníž. prenesená",J163,0) -> 0 | BI163: =IF(N163="nulová",J163,0) -> 0 | BJ163: 2 | BK163: =ROUND(I163*H163,2) -> 0 | BL163: 4 | BM163: 60
C164: 31 | D164: K | E164: X326 | F164: Napájací zdroj pre svietidlo , 15W, Ob/off | G164: kus | H164: 2 | J164: =ROUND(I164*H164,2) -> 0 | N164: znížená | P164: =O164*H164 -> 0 | Q164: 0 | R164: =Q164*H164 -> 0 | S164: 0 | T164: =S164*H164 -> 0 | AR164: 4 | AT164: K | AU164: 2 | AY164: ROZPOCET | BE164: =IF(N164="základná",J164,0) -> 0 | BF164: =IF(N164="znížená",J164,0) -> 0 | BG164: =IF(N164="zákl. prenesená",J164,0) -> 0 | BH164: =IF(N164="zníž. prenesená",J164,0) -> 0 | BI164: =IF(N164="nulová",J164,0) -> 0 | BJ164: 2 | BK164: =ROUND(I164*H164,2) -> 0 | BL164: 4 | BM164: 62
C165: 32 | D165: K | E165: BZH0 | F165: IP káblová spojka | G165: kus | H165: 2 | J165: =ROUND(I165*H165,2) -> 0 | N165: znížená | P165: =O165*H165 -> 0 | Q165: 0 | R165: =Q165*H165 -> 0 | S165: 0 | T165: =S165*H165 -> 0 | AR165: 4 | AT165: K | AU165: 2 | AY165: ROZPOCET | BE165: =IF(N165="základná",J165,0) -> 0 | BF165: =IF(N165="znížená",J165,0) -> 0 | BG165: =IF(N165="zákl. prenesená",J165,0) -> 0 | BH165: =IF(N165="zníž. prenesená",J165,0) -> 0 | BI165: =IF(N165="nulová",J165,0) -> 0 | BJ165: 2 | BK165: =ROUND(I165*H165,2) -> 0 | BL165: 4 | BM165: 64
C166: 33 | D166: K | E166: BZ33 | F166: IP box pre napájacie zdroje | G166: kus | H166: 1 | J166: =ROUND(I166*H166,2) -> 0 | N166: znížená | P166: =O166*H166 -> 0 | Q166: 0 | R166: =Q166*H166 -> 0 | S166: 0 | T166: =S166*H166 -> 0 | AR166: 4 | AT166: K | AU166: 2 | AY166: ROZPOCET | BE166: =IF(N166="základná",J166,0) -> 0 | BF166: =IF(N166="znížená",J166,0) -> 0 | BG166: =IF(N166="zákl. prenesená",J166,0) -> 0 | BH166: =IF(N166="zníž. prenesená",J166,0) -> 0 | BI166: =IF(N166="nulová",J166,0) -> 0 | BJ166: 2 | BK166: =ROUND(I166*H166,2) -> 0 | BL166: 4 | BM166: 66
...

Sheet 04 - Technológia
L2: >> skryté stĺpce << | AT2: {1d0fd63e-bb14-4882-9853-47190937ab60}
AT3: 0
D4: KRYCÍ LIST ROZPOČTU | M4: v --- nižšie sa nachádzajú doplnkové a pomocné údaje k zostavám --- v | AT4: False
D6: Stavba:
E7: ='Rekapitulácia stavby'!K6 -> REVITALIZÁCIA FONTÁNY V ZUZKINOM PARKU - REVÍZIA 23012026
D8: Objekt:
E9: 04 - Technológia
D11: JKSO: | I11: ČS:
D12: Miesto: | F12: Zuzkin park, Košice | I12: Dátum: | J12: ='Rekapitulácia stavby'!AN8 -> 23. 1. 2026
D14: Objednávateľ: | I14: IČO: | J14: =IF('Rekapitulácia stavby'!AN10="","",'Rekapitulácia stavby'!AN10)
E15: =IF('Rekapitulácia stavby'!E11="","",'Rekapitulácia stavby'!E11) | I15: IČ DPH: | J15: =IF('Rekapitulácia stavby'!AN11="","",'Rekapitulácia stavby'!AN11)
D17: Zhotoviteľ: | I17: IČO: | J17: ='Rekapitulácia stavby'!AN13 -> Vyplň údaj
E18: ='Rekapitulácia stavby'!E14 -> Vyplň údaj | I18: IČ DPH: | J18: ='Rekapitulácia stavby'!AN14 -> Vyplň údaj
D20: Projektant: | I20: IČO:
E21: 3linea s.r.o., Jesenského 26, Košice | I21: IČ DPH:
D23: Spracovateľ: | I23: IČO: | J23: =IF('Rekapitulácia stavby'!AN19="","",'Rekapitulácia stavby'!AN19)
E24: =IF('Rekapitulácia stavby'!E20="","",'Rekapitulácia stavby'!E20) | I24: IČ DPH: | J24: =IF('Rekapitulácia stavby'!AN20="","",'Rekapitulácia stavby'!AN20)
D26: Poznámka:
D30: Cena bez DPH | J30: =ROUND(J121, 2) -> 0
F32: Základ dane | I32: Sadzba dane | J32: Výška dane
D33: DPH | E33: základná | F33: =ROUND((SUM(BE121:BE145)), 2) -> 0 | I33: 0.23 | J33: =ROUND(((SUM(BE121:BE145))*I33), 2) -> 0
E34: znížená | F34: =ROUND((SUM(BF121:BF145)), 2) -> 0 | I34: 0.23 | J34: =ROUND(((SUM(BF121:BF145))*I34), 2) -> 0
E35: zákl. prenesená | F35: =ROUND((SUM(BG121:BG145)), 2) -> 0 | I35: 0.23 | J35: =0 -> 0
E36: zníž. prenesená | F36: =ROUND((SUM(BH121:BH145)), 2) -> 0 | I36: 0.23 | J36: =0 -> 0
E37: nulová | F37: =ROUND((SUM(BI121:BI145)), 2) -> 0 | I37: 0 | J37: =0 -> 0
D39: Cena s DPH | G39: v | H39: EUR | J39: =SUM(J30:J37) -> 0
D50: Projektant | G50: Spracovateľ
D61: Dátum a podpis: | F61: Pečiatka | G61: Dátum a podpis: | J61: Pečiatka
D65: Objednávateľ | G65: Zhotoviteľ
D76: Dátum a podpis: | F76: Pečiatka | G76: Dátum a podpis: | J76: Pečiatka
C82: REKAPITULÁCIA ROZPOČTU
C84: Stavba:
E85: =E7 -> REVITALIZÁCIA FONTÁNY V ZUZKINOM PARKU - REVÍZIA 23012026
C86: Objekt:
E87: =E9 -> 04 - Technológia
C89: Miesto: | F89: =F12 -> Zuzkin park, Košice | I89: Dátum: | J89: =IF(J12="","",J12) -> 23. 1. 2026
C91: Objednávateľ: | F91: =E15 | I91: Projektant: | J91: =E21 -> 3linea s.r.o., Jesenského 26, Košice
C92: Zhotoviteľ: | F92: =IF(E18="","",E18) -> Vyplň údaj | I92: Spracovateľ: | J92: =E24
C94: Kód dielu - Popis | J94: Cena celkom [EUR]
C96: Náklady z rozpočtu | J96: =J121 -> 0 | AU96: -1
D97: D1 - Fontána - základné prvky : | J97: =J122 -> 0
D98: D2 - Úpravňa vody: | J98: =J125 -> 0
D99: D3 - Meranie a regulácia : | J99: =J137 -> 0
D100: D4 - Montážny materiál: | J100: =J141 -> 0
D101: D5 - Montáž : | J101: =J143 -> 0
C108: ROZPOČET
C110: Stavba:
E111: =E7 -> REVITALIZÁCIA FONTÁNY V ZUZKINOM PARKU - REVÍZIA 23012026
C112: Objekt:
E113: =E9 -> 04 - Technológia
C115: Miesto: | F115: =F12 -> Zuzkin park, Košice | I115: Dátum: | J115: =IF(J12="","",J12) -> 23. 1. 2026
C117: Objednávateľ: | F117: =E15 | I117: Projektant: | J117: =E21 -> 3linea s.r.o., Jesenského 26, Košice
C118: Zhotoviteľ: | F118: =IF(E18="","",E18) -> Vyplň údaj | I118: Spracovateľ: | J118: =E24
C120: PČ | D120: Typ | E120: Kód | F120: Popis | G120: MJ | H120: Množstvo | I120: J.cena [EUR] | J120: Cena celkom [EUR] | K120: Cenová sústava | N120: DPH | O120: J. Nh [h] | P120: Nh celkom [h] | Q120: J. hmotnosť [t] | R120: Hmotnosť celkom [t] | S120: J. suť [t] | T120: Suť Celkom [t]
C121: Náklady z rozpočtu | J121: =BK121 -> 0 | P121: =P122+P125+P137+P141+P143 -> 0 | R121: =R122+R125+R137+R141+R143 -> 0 | T121: =T122+T125+T137+T141+T143 -> 0 | AT121: D | AU121: -1 | BK121: =BK122+BK125+BK137+BK141+BK143 -> 0
D122: D | E122: D1 | F122: Fontána - základné prvky : | J122: =BK122 -> 0 | P122: =SUM(P123:P124) -> 0 | R122: =SUM(R123:R124) -> 0 | T122: =SUM(T123:T124) -> 0 | AR122: 1 | AT122: D | AU122: 0 | AY122: ROZPOCET | BK122: =SUM(BK123:BK124) -> 0
C123: 0 | D123: M | E123: Pol3 | F123: skimmer PLAST - hladinový zberač na odtok vody do úpravne | G123: ks | H123: 4 | J123: =ROUND(I123*H123,2) -> 0 | N123: znížená | P123: =O123*H123 -> 0 | Q123: 0 | R123: =Q123*H123 -> 0 | S123: 0 | T123: =S123*H123 -> 0 | AR123: 8 | AT123: M | AU123: 1 | AY123: ROZPOCET | BE123: =IF(N123="základná",J123,0) -> 0 | BF123: =IF(N123="znížená",J123,0) -> 0 | BG123: =IF(N123="zákl. prenesená",J123,0) -> 0 | BH123: =IF(N123="zníž. prenesená",J123,0) -> 0 | BI123: =IF(N123="nulová",J123,0) -> 0 | BJ123: 2 | BK123: =ROUND(I123*H123,2) -> 0 | BL123: 4 | BM123: 2
C124: 0 | D124: M | E124: Pol4 | F124: dýza výstreková Comet 5-10 | G124: ks | H124: 4 | J124: =ROUND(I124*H124,2) -> 0 | N124: znížená | P124: =O124*H124 -> 0 | Q124: 0 | R124: =Q124*H124 -> 0 | S124: 0 | T124: =S124*H124 -> 0 | AR124: 8 | AT124: M | AU124: 1 | AY124: ROZPOCET | BE124: =IF(N124="základná",J124,0) -> 0 | BF124: =IF(N124="znížená",J124,0) -> 0 | BG124: =IF(N124="zákl. prenesená",J124,0) -> 0 | BH124: =IF(N124="zníž. prenesená",J124,0) -> 0 | BI124: =IF(N124="nulová",J124,0) -> 0 | BJ124: 2 | BK124: =ROUND(I124*H124,2) -> 0 | BL124: 4 | BM124: 4
D125: D | E125: D2 | F125: Úpravňa vody: | J125: =BK125 -> 0 | P125: =SUM(P126:P136) -> 0 | R125: =SUM(R126:R136) -> 0 | T125: =SUM(T126:T136) -> 0 | AR125: 1 | AT125: D | AU125: 0 | AY125: ROZPOCET | BK125: =SUM(BK126:BK136) -> 0
C126: 0 | D126: M | E126: Pol5 | F126: Filter laminátový, VB, pieskový, 800 mm, bez 6 CV | G126: ks | H126: 2 | J126: =ROUND(I126*H126,2) -> 0 | N126: znížená | P126: =O126*H126 -> 0 | Q126: 0 | R126: =Q126*H126 -> 0 | S126: 0 | T126: =S126*H126 -> 0 | AR126: 8 | AT126: M | AU126: 1 | AY126: ROZPOCET | BE126: =IF(N126="základná",J126,0) -> 0 | BF126: =IF(N126="znížená",J126,0) -> 0 | BG126: =IF(N126="zákl. prenesená",J126,0) -> 0 | BH126: =IF(N126="zníž. prenesená",J126,0) -> 0 | BI126: =IF(N126="nulová",J126,0) -> 0 | BJ126: 2 | BK126: =ROUND(I126*H126,2) -> 0 | BL126: 4 | BM126: 6
C127: 0 | D127: M | E127: Pol6 | F127: Šesťcestný ventik k filtru | G127: zostava | H127: 2 | J127: =ROUND(I127*H127,2) -> 0 | N127: znížená | P127: =O127*H127 -> 0 | Q127: 0 | R127: =Q127*H127 -> 0 | S127: 0 | T127: =S127*H127 -> 0 | AR127: 8 | AT127: M | AU127: 1 | AY127: ROZPOCET | BE127: =IF(N127="základná",J127,0) -> 0 | BF127: =IF(N127="znížená",J127,0) -> 0 | BG127: =IF(N127="zákl. prenesená",J127,0) -> 0 | BH127: =IF(N127="zníž. prenesená",J127,0) -> 0 | BI127: =IF(N127="nulová",J127,0) -> 0 | BJ127: 2 | BK127: =ROUND(I127*H127,2) -> 0 | BL127: 4 | BM127: 8
C128: 0 | D128: M | E128: Pol7 | F128: Čerpadlo BADU Prime 11, - 8 m3 / 10m, 0,69 kW | G128: ks | H128: 1 | J128: =ROUND(I128*H128,2) -> 0 | N128: znížená | P128: =O128*H128 -> 0 | Q128: 0 | R128: =Q128*H128 -> 0 | S128: 0 | T128: =S128*H128 -> 0 | AR128: 8 | AT128: M | AU128: 1 | AY128: ROZPOCET | BE128: =IF(N128="základná",J128,0) -> 0 | BF128: =IF(N128="znížená",J128,0) -> 0 | BG128: =IF(N128="zákl. prenesená",J128,0) -> 0 | BH128: =IF(N128="zníž. prenesená",J128,0) -> 0 | BI128: =IF(N128="nulová",J128,0) -> 0 | BJ128: 2 | BK128: =ROUND(I128*H128,2) -> 0 | BL128: 4 | BM128: 10
C129: 0 | D129: M | E129: Pol8 | F129: Čerpadlo BADU Prime 30, - 25 m3 / 12m, 1,5 kW | G129: ks | H129: 1 | J129: =ROUND(I129*H129,2) -> 0 | N129: znížená | P129: =O129*H129 -> 0 | Q129: 0 | R129: =Q129*H129 -> 0 | S129: 0 | T129: =S129*H129 -> 0 | AR129: 8 | AT129: M | AU129: 1 | AY129: ROZPOCET | BE129: =IF(N129="základná",J129,0) -> 0 | BF129: =IF(N129="znížená",J129,0) -> 0 | BG129: =IF(N129="zákl. prenesená",J129,0) -> 0 | BH129: =IF(N129="zníž. prenesená",J129,0) -> 0 | BI129: =IF(N129="nulová",J129,0) -> 0 | BJ129: 2 | BK129: =ROUND(I129*H129,2) -> 0 | BL129: 4 | BM129: 12
C130: 0 | D130: M | E130: Pol9 | F130: Filtračný materiál zeolit | G130: kg | H130: 600 | J130: =ROUND(I130*H130,2) -> 0 | N130: znížená | P130: =O130*H130 -> 0 | Q130: 0 | R130: =Q130*H130 -> 0 | S130: 0 | T130: =S130*H130 -> 0 | AR130: 8 | AT130: M | AU130: 1 | AY130: ROZPOCET | BE130: =IF(N130="základná",J130,0) -> 0 | BF130: =IF(N130="znížená",J130,0) -> 0 | BG130: =IF(N130="zákl. prenesená",J130,0) -> 0 | BH130: =IF(N130="zníž. prenesená",J130,0) -> 0 | BI130: =IF(N130="nulová",J130,0) -> 0 | BJ130: 2 | BK130: =ROUND(I130*H130,2) -> 0 | BL130: 4 | BM130: 14
C131: 0 | D131: M | E131: Pol10 | F131: AOH - automatická regulácia chlóru a hodnoty pH (meranie ORP a pH) | G131: zostava | H131: 1 | J131: =ROUND(I131*H131,2) -> 0 | N131: znížená | P131: =O131*H131 -> 0 | Q131: 0 | R131: =Q131*H131 -> 0 | S131: 0 | T131: =S131*H131 -> 0 | AR131: 8 | AT131: M | AU131: 1 | AY131: ROZPOCET | BE131: =IF(N131="základná",J131,0) -> 0 | BF131: =IF(N131="znížená",J131,0) -> 0 | BG131: =IF(N131="zákl. prenesená",J131,0) -> 0 | BH131: =IF(N131="zníž. prenesená",J131,0) -> 0 | BI131: =IF(N131="nulová",J131,0) -> 0 | BJ131: 2 | BK131: =ROUND(I131*H131,2) -> 0 | BL131: 4 | BM131: 16
C132: 0 | D132: M | E132: Pol11 | F132: Tlakový hladinomer k dávkovaciemu zariadeniu Ase | G132: ks | H132: 1 | J132: =ROUND(I132*H132,2) -> 0 | N132: znížená | P132: =O132*H132 -> 0 | Q132: 0 | R132: =Q132*H132 -> 0 | S132: 0 | T132: =S132*H132 -> 0 | AR132: 8 | AT132: M | AU132: 1 | AY132: ROZPOCET | BE132: =IF(N132="základná",J132,0) -> 0 | BF132: =IF(N132="znížená",J132,0) -> 0 | BG132: =IF(N132="zákl. prenesená",J132,0) -> 0 | BH132: =IF(N132="zníž. prenesená",J132,0) -> 0 | BI132: =IF(N132="nulová",J132,0) -> 0 | BJ132: 2 | BK132: =ROUND(I132*H132,2) -> 0 | BL132: 4 | BM132: 18
C133: 0 | D133: M | E133: Pol12 | F133: Prípravok na dezinfekciu bazénovej vody - chlórnan sodný 50 l bez obalu (sud) | G133: zostava | H133: 1 | J133: =ROUND(I133*H133,2) -> 0 | N133: znížená | P133: =O133*H133 -> 0 | Q133: 0 | R133: =Q133*H133 -> 0 | S133: 0 | T133: =S133*H133 -> 0 | AR133: 8 | AT133: M | AU133: 1 | AY133: ROZPOCET | BE133: =IF(N133="základná",J133,0) -> 0 | BF133: =IF(N133="znížená",J133,0) -> 0 | BG133: =IF(N133="zákl. prenesená",J133,0) -> 0 | BH133: =IF(N133="zníž. prenesená",J133,0) -> 0 | BI133: =IF(N133="nulová",J133,0) -> 0 | BJ133: 2 | BK133: =ROUND(I133*H133,2) -> 0 | BL133: 4 | BM133: 20
C134: 0 | D134: M | E134: Pol13 | F134: Prípravok na zníženie pH vody - kyselina 50 l bez obalu (sud) | G134: zostava | H134: 1 | J134: =ROUND(I134*H134,2) -> 0 | N134: znížená | P134: =O134*H134 -> 0 | Q134: 0 | R134: =Q134*H134 -> 0 | S134: 0 | T134: =S134*H134 -> 0 | AR134: 8 | AT134: M | AU134: 1 | AY134: ROZPOCET | BE134: =IF(N134="základná",J134,0) -> 0 | BF134: =IF(N134="znížená",J134,0) -> 0 | BG134: =IF(N134="zákl. prenesená",J134,0) -> 0 | BH134: =IF(N134="zníž. prenesená",J134,0) -> 0 | BI134: =IF(N134="nulová",J134,0) -> 0 | BJ134: 2 | BK134: =ROUND(I134*H134,2) -> 0 | BL134: 4 | BM134: 22
C135: 0 | D135: M | E135: Pol14 | F135: Sud na chemikálie 50 l, vratný | G135: ks | H135: 2 | J135: =ROUND(I135*H135,2) -> 0 | N135: znížená | P135: =O135*H135 -> 0 | Q135: 0 | R135: =Q135*H135 -> 0 | S135: 0 | T135: =S135*H135 -> 0 | AR135: 8 | AT135: M | AU135: 1 | AY135: ROZPOCET | BE135: =IF(N135="základná",J135,0) -> 0 | BF135: =IF(N135="znížená",J135,0) -> 0 | BG135: =IF(N135="zákl. prenesená",J135,0) -> 0 | BH135: =IF(N135="zníž. prenesená",J135,0) -> 0 | BI135: =IF(N135="nulová",J135,0) -> 0 | BJ135: 2 | BK135: =ROUND(I135*H135,2) -> 0 | BL135: 4 | BM135: 24
C136: 0 | D136: M | E136: Pol15 | F136: dezinfekcia bazénovej vody UV žiarením - stredotlak, ProfiPure 200 (rodinné: 23m3/h, 200m3) | G136: zostava | H136: 1 | J136: =ROUND(I136*H136,2) -> 0 | N136: znížená | P136: =O136*H136 -> 0 | Q136: 0 | R136: =Q136*H136 -> 0 | S136: 0 | T136: =S136*H136 -> 0 | AR136: 8 | AT136: M | AU136: 1 | AY136: ROZPOCET | BE136: =IF(N136="základná",J136,0) -> 0 | BF136: =IF(N136="znížená",J136,0) -> 0 | BG136: =IF(N136="zákl. prenesená",J136,0) -> 0 | BH136: =IF(N136="zníž. prenesená",J136,0) -> 0 | BI136: =IF(N136="nulová",J136,0) -> 0 | BJ136: 2 | BK136: =ROUND(I136*H136,2) -> 0 | BL136: 4 | BM136: 26
D137: D | E137: D3 | F137: Meranie a regulácia : | J137: =BK137 -> 0 | P137: =SUM(P138:P140) -> 0 | R137: =SUM(R138:R140) -> 0 | T137: =SUM(T138:T140) -> 0 | AR137: 1 | AT137: D | AU137: 0 | AY137: ROZPOCET | BK137: =SUM(BK138:BK140) -> 0
C138: 0 | D138: K | E138: Pol16 | F138: snímanie prietoku bazénovej vody, ochrana technológie pred chodom na prázdno | G138: zostava | H138: 1 | J138: =ROUND(I138*H138,2) -> 0 | N138: znížená | P138: =O138*H138 -> 0 | Q138: 0 | R138: =Q138*H138 -> 0 | S138: 0 | T138: =S138*H138 -> 0 | AR138: 4 | AT138: K | AU138: 1 | AY138: ROZPOCET | BE138: =IF(N138="základná",J138,0) -> 0 | BF138: =IF(N138="znížená",J138,0) -> 0 | BG138: =IF(N138="zákl. prenesená",J138,0) -> 0 | BH138: =IF(N138="zníž. prenesená",J138,0) -> 0 | BI138: =IF(N138="nulová",J138,0) -> 0 | BJ138: 2 | BK138: =ROUND(I138*H138,2) -> 0 | BL138: 4 | BM138: 28
C139: 0 | D139: K | E139: Pol17 | F139: autom. regulácia hlad. vody vo vyrov. nádrži - ventil DN25 + servo s vratnou pružinou | G139: zostava | H139: 1 | J139: =ROUND(I139*H139,2) -> 0 | N139: znížená | P139: =O139*H139 -> 0 | Q139: 0 | R139: =Q139*H139 -> 0 | S139: 0 | T139: =S139*H139 -> 0 | AR139: 4 | AT139: K | AU139: 1 | AY139: ROZPOCET | BE139: =IF(N139="základná",J139,0) -> 0 | BF139: =IF(N139="znížená",J139,0) -> 0 | BG139: =IF(N139="zákl. prenesená",J139,0) -> 0 | BH139: =IF(N139="zníž. prenesená",J139,0) -> 0 | BI139: =IF(N139="nulová",J139,0) -> 0 | BJ139: 2 | BK139: =ROUND(I139*H139,2) -> 0 | BL139: 4 | BM139: 30
C140: 0 | D140: K | E140: Pol18 | F140: ponorné čerpadlo na odvodnenie strojovne, Q=15, H=11, do 35 mm | G140: ks | H140: 1 | J140: =ROUND(I140*H140,2) -> 0 | N140: znížená | P140: =O140*H140 -> 0 | Q140: 0 | R140: =Q140*H140 -> 0 | S140: 0 | T140: =S140*H140 -> 0 | AR140: 4 | AT140: K | AU140: 1 | AY140: ROZPOCET | BE140: =IF(N140="základná",J140,0) -> 0 | BF140: =IF(N140="znížená",J140,0) -> 0 | BG140: =IF(N140="zákl. prenesená",J140,0) -> 0 | BH140: =IF(N140="zníž. prenesená",J140,0) -> 0 | BI140: =IF(N140="nulová",J140,0) -> 0 | BJ140: 2 | BK140: =ROUND(I140*H140,2) -> 0 | BL140: 4 | BM140: 32
D141: D | E141: D4 | F141: Montážny materiál: | J141: =BK141 -> 0 | P141: =P142 -> 0 | R141: =R142 -> 0 | T141: =T142 -> 0 | AR141: 1 | AT141: D | AU141: 0 | AY141: ROZPOCET | BK141: =BK142 -> 0
C142: 0 | D142: M | E142: Pol19 | F142: PVC potrubie, PVC tvarovky, PVC armatúry | G142: zostava | H142: 1 | J142: =ROUND(I142*H142,2) -> 0 | N142: znížená | P142: =O142*H142 -> 0 | Q142: 0 | R142: =Q142*H142 -> 0 | S142: 0 | T142: =S142*H142 -> 0 | AR142: 8 | AT142: M | AU142: 1 | AY142: ROZPOCET | BE142: =IF(N142="základná",J142,0) -> 0 | BF142: =IF(N142="znížená",J142,0) -> 0 | BG142: =IF(N142="zákl. prenesená",J142,0) -> 0 | BH142: =IF(N142="zníž. prenesená",J142,0) -> 0 | BI142: =IF(N142="nulová",J142,0) -> 0 | BJ142: 2 | BK142: =ROUND(I142*H142,2) -> 0 | BL142: 4 | BM142: 34
D143: D | E143: D5 | F143: Montáž : | J143: =BK143 -> 0 | P143: =SUM(P144:P145) -> 0 | R143: =SUM(R144:R145) -> 0 | T143: =SUM(T144:T145) -> 0 | AR143: 1 | AT143: D | AU143: 0 | AY143: ROZPOCET | BK143: =SUM(BK144:BK145) -> 0
C144: 0 | D144: K | E144: Pol20 | F144: montáž bazénovej techniky - základné prvky do telesa bazéna a PVC rozvody k strojovni | G144: hod | H144: 80 | J144: =ROUND(I144*H144,2) -> 0 | N144: znížená | P144: =O144*H144 -> 0 | Q144: 0 | R144: =Q144*H144 -> 0 | S144: 0 | T144: =S144*H144 -> 0 | AR144: 4 | AT144: K | AU144: 1 | AY144: ROZPOCET | BE144: =IF(N144="základná",J144,0) -> 0 | BF144: =IF(N144="znížená",J144,0) -> 0 | BG144: =IF(N144="zákl. prenesená",J144,0) -> 0 | BH144: =IF(N144="zníž. prenesená",J144,0) -> 0 | BI144: =IF(N144="nulová",J144,0) -> 0 | BJ144: 2 | BK144: =ROUND(I144*H144,2) -> 0 | BL144: 4 | BM144: 36
C145: 0 | D145: K | E145: Pol21 | F145: montáž bazénovej techniky - bazénová technológia | G145: hod | H145: 100 | J145: =ROUND(I145*H145,2) -> 0 | N145: znížená | P145: =O145*H145 -> 0 | Q145: 0 | R145: =Q145*H145 -> 0 | S145: 0 | T145: =S145*H145 -> 0 | AR145: 4 | AT145: K | AU145: 1 | AY145: ROZPOCET | BE145: =IF(N145="základná",J145,0) -> 0 | BF145: =IF(N145="znížená",J145,0) -> 0 | BG145: =IF(N145="zákl. prenesená",J145,0) -> 0 | BH145: =IF(N145="zníž. prenesená",J145,0) -> 0 | BI145: =IF(N145="nulová",J145,0) -> 0 | BJ145: 2 | BK145: =ROUND(I145*H145,2) -> 0 | BL145: 4 | BM145: 38

Sheet 04-1 - Technológia - elek...
L2: >> skryté stĺpce << | AT2: {f46c006b-3b16-4b9e-96a2-02db7f04c149}
AT3: 0
D4: KRYCÍ LIST ROZPOČTU | M4: v --- nižšie sa nachádzajú doplnkové a pomocné údaje k zostavám --- v | AT4: False
D6: Stavba:
E7: ='Rekapitulácia stavby'!K6 -> REVITALIZÁCIA FONTÁNY V ZUZKINOM PARKU - REVÍZIA 23012026
D8: Objekt:
E9: 04-1 - Technológia - elektroinštalácia - doplnenie
D11: JKSO: | I11: ČS:
D12: Miesto: | I12: Dátum: | J12: ='Rekapitulácia stavby'!AN8 -> 23. 1. 2026
D14: Objednávateľ: | I14: IČO: | J14: =IF('Rekapitulácia stavby'!AN10="","",'Rekapitulácia stavby'!AN10)
E15: =IF('Rekapitulácia stavby'!E11="","",'Rekapitulácia stavby'!E11) | I15: IČ DPH: | J15: =IF('Rekapitulácia stavby'!AN11="","",'Rekapitulácia stavby'!AN11)
D17: Zhotoviteľ: | I17: IČO: | J17: ='Rekapitulácia stavby'!AN13 -> Vyplň údaj
E18: ='Rekapitulácia stavby'!E14 -> Vyplň údaj | I18: IČ DPH: | J18: ='Rekapitulácia stavby'!AN14 -> Vyplň údaj
D20: Projektant: | I20: IČO: | J20: =IF('Rekapitulácia stavby'!AN16="","",'Rekapitulácia stavby'!AN16)
E21: =IF('Rekapitulácia stavby'!E17="","",'Rekapitulácia stavby'!E17) -> 3linea s.r.o., Jesenského 26, Košice | I21: IČ DPH: | J21: =IF('Rekapitulácia stavby'!AN17="","",'Rekapitulácia stavby'!AN17)
D23: Spracovateľ: | I23: IČO: | J23: =IF('Rekapitulácia stavby'!AN19="","",'Rekapitulácia stavby'!AN19)
E24: =IF('Rekapitulácia stavby'!E20="","",'Rekapitulácia stavby'!E20) | I24: IČ DPH: | J24: =IF('Rekapitulácia stavby'!AN20="","",'Rekapitulácia stavby'!AN20)
D26: Poznámka:
D30: Cena bez DPH | J30: =ROUND(J119, 2) -> 0
F32: Základ dane | I32: Sadzba dane | J32: Výška dane
D33: DPH | E33: základná | F33: =ROUND((SUM(BE119:BE142)), 2) -> 0 | I33: 0.23 | J33: =ROUND(((SUM(BE119:BE142))*I33), 2) -> 0
E34: znížená | F34: =ROUND((SUM(BF119:BF142)), 2) -> 0 | I34: 0.23 | J34: =ROUND(((SUM(BF119:BF142))*I34), 2) -> 0
E35: zákl. prenesená | F35: =ROUND((SUM(BG119:BG142)), 2) -> 0 | I35: 0.23 | J35: =0 -> 0
E36: zníž. prenesená | F36: =ROUND((SUM(BH119:BH142)), 2) -> 0 | I36: 0.23 | J36: =0 -> 0
E37: nulová | F37: =ROUND((SUM(BI119:BI142)), 2) -> 0 | I37: 0 | J37: =0 -> 0
D39: Cena s DPH | G39: v | H39: EUR | J39: =SUM(J30:J37) -> 0
D50: Projektant | G50: Spracovateľ
D61: Dátum a podpis: | F61: Pečiatka | G61: Dátum a podpis: | J61: Pečiatka
D65: Objednávateľ | G65: Zhotoviteľ
D76: Dátum a podpis: | F76: Pečiatka | G76: Dátum a podpis: | J76: Pečiatka
C82: REKAPITULÁCIA ROZPOČTU
C84: Stavba:
E85: =E7 -> REVITALIZÁCIA FONTÁNY V ZUZKINOM PARKU - REVÍZIA 23012026
C86: Objekt:
E87: =E9 -> 04-1 - Technológia - elektroinštalácia - doplnenie
C89: Miesto: | F89: =F12 | I89: Dátum: | J89: =IF(J12="","",J12) -> 23. 1. 2026
C91: Objednávateľ: | F91: =E15 | I91: Projektant: | J91: =E21 -> 3linea s.r.o., Jesenského 26, Košice
C92: Zhotoviteľ: | F92: =IF(E18="","",E18) -> Vyplň údaj | I92: Spracovateľ: | J92: =E24
C94: Kód dielu - Popis | J94: Cena celkom [EUR]
C96: Náklady z rozpočtu | J96: =J119 -> 0 | AU96: -1
D97: D1 - Kabeláž: | J97: =J120 -> 0
D98: D2 - Elektroinštalačný materiál: | J98: =J129 -> 0
D99: D3 - Montáž | J99: =J139 -> 0
C106: ROZPOČET
C108: Stavba:
E109: =E7 -> REVITALIZÁCIA FONTÁNY V ZUZKINOM PARKU - REVÍZIA 23012026
C110: Objekt:
E111: =E9 -> 04-1 - Technológia - elektroinštalácia - doplnenie
C113: Miesto: | F113: =F12 | I113: Dátum: | J113: =IF(J12="","",J12) -> 23. 1. 2026
C115: Objednávateľ: | F115: =E15 | I115: Projektant: | J115: =E21 -> 3linea s.r.o., Jesenského 26, Košice
C116: Zhotoviteľ: | F116: =IF(E18="","",E18) -> Vyplň údaj | I116: Spracovateľ: | J116: =E24
C118: PČ | D118: Typ | E118: Kód | F118: Popis | G118: MJ | H118: Množstvo | I118: J.cena [EUR] | J118: Cena celkom [EUR] | K118: Cenová sústava | N118: DPH | O118: J. Nh [h] | P118: Nh celkom [h] | Q118: J. hmotnosť [t] | R118: Hmotnosť celkom [t] | S118: J. suť [t] | T118: Suť Celkom [t]
C119: Náklady z rozpočtu | J119: =BK119 -> 0 | P119: =P120+P129+P139 -> 0 | R119: =R120+R129+R139 -> 0 | T119: =T120+T129+T139 -> 0 | AT119: D | AU119: -1 | BK119: =BK120+BK129+BK139 -> 0
D120: D | E120: D1 | F120: Kabeláž: | J120: =BK120 -> 0 | P120: =SUM(P121:P128) -> 0 | R120: =SUM(R121:R128) -> 0 | T120: =SUM(T121:T128) -> 0 | AR120: 1 | AT120: D | AU120: 0 | AY120: ROZPOCET | BK120: =SUM(BK121:BK128) -> 0
C121: 1 | D121: M | E121: Pol22 | F121: CYKY-J 4x2,5 | G121: m | H121: 25 | J121: =ROUND(I121*H121,2) -> 0 | N121: znížená | P121: =O121*H121 -> 0 | Q121: 0 | R121: =Q121*H121 -> 0 | S121: 0 | T121: =S121*H121 -> 0 | AR121: 8 | AT121: M | AU121: 1 | AY121: ROZPOCET | BE121: =IF(N121="základná",J121,0) -> 0 | BF121: =IF(N121="znížená",J121,0) -> 0 | BG121: =IF(N121="zákl. prenesená",J121,0) -> 0 | BH121: =IF(N121="zníž. prenesená",J121,0) -> 0 | BI121: =IF(N121="nulová",J121,0) -> 0 | BJ121: 2 | BK121: =ROUND(I121*H121,2) -> 0 | BL121: 4 | BM121: 2
C122: 2 | D122: M | E122: Pol23 | F122: CYKY-J 3x2,5 | G122: m | H122: 10 | J122: =ROUND(I122*H122,2) -> 0 | N122: znížená | P122: =O122*H122 -> 0 | Q122: 0 | R122: =Q122*H122 -> 0 | S122: 0 | T122: =S122*H122 -> 0 | AR122: 8 | AT122: M | AU122: 1 | AY122: ROZPOCET | BE122: =IF(N122="základná",J122,0) -> 0 | BF122: =IF(N122="znížená",J122,0) -> 0 | BG122: =IF(N122="zákl. prenesená",J122,0) -> 0 | BH122: =IF(N122="zníž. prenesená",J122,0) -> 0 | BI122: =IF(N122="nulová",J122,0) -> 0 | BJ122: 2 | BK122: =ROUND(I122*H122,2) -> 0 | BL122: 4 | BM122: 4
C123: 3 | D123: M | E123: Pol24 | F123: CYKY-J 3x1,5 | G123: m | H123: 40 | J123: =ROUND(I123*H123,2) -> 0 | N123: znížená | P123: =O123*H123 -> 0 | Q123: 0 | R123: =Q123*H123 -> 0 | S123: 0 | T123: =S123*H123 -> 0 | AR123: 8 | AT123: M | AU123: 1 | AY123: ROZPOCET | BE123: =IF(N123="základná",J123,0) -> 0 | BF123: =IF(N123="znížená",J123,0) -> 0 | BG123: =IF(N123="zákl. prenesená",J123,0) -> 0 | BH123: =IF(N123="zníž. prenesená",J123,0) -> 0 | BI123: =IF(N123="nulová",J123,0) -> 0 | BJ123: 2 | BK123: =ROUND(I123*H123,2) -> 0 | BL123: 4 | BM123: 6
C124: 4 | D124: M | E124: Pol25 | F124: CYKY- 2x1,5 | G124: m | H124: 5 | J124: =ROUND(I124*H124,2) -> 0 | N124: znížená | P124: =O124*H124 -> 0 | Q124: 0 | R124: =Q124*H124 -> 0 | S124: 0 | T124: =S124*H124 -> 0 | AR124: 8 | AT124: M | AU124: 1 | AY124: ROZPOCET | BE124: =IF(N124="základná",J124,0) -> 0 | BF124: =IF(N124="znížená",J124,0) -> 0 | BG124: =IF(N124="zákl. prenesená",J124,0) -> 0 | BH124: =IF(N124="zníž. prenesená",J124,0) -> 0 | BI124: =IF(N124="nulová",J124,0) -> 0 | BJ124: 2 | BK124: =ROUND(I124*H124,2) -> 0 | BL124: 4 | BM124: 8
C125: 5 | D125: M | E125: Pol26 | F125: H07RN-F 4x1,5 guma čierny | G125: m | H125: 50 | J125: =ROUND(I125*H125,2) -> 0 | N125: znížená | P125: =O125*H125 -> 0 | Q125: 0 | R125: =Q125*H125 -> 0 | S125: 0 | T125: =S125*H125 -> 0 | AR125: 8 | AT125: M | AU125: 1 | AY125: ROZPOCET | BE125: =IF(N125="základná",J125,0) -> 0 | BF125: =IF(N125="znížená",J125,0) -> 0 | BG125: =IF(N125="zákl. prenesená",J125,0) -> 0 | BH125: =IF(N125="zníž. prenesená",J125,0) -> 0 | BI125: =IF(N125="nulová",J125,0) -> 0 | BJ125: 2 | BK125: =ROUND(I125*H125,2) -> 0 | BL125: 4 | BM125: 10
C126: 6 | D126: M | E126: Pol27 | F126: J-Y(St)Y 1x2x0,8 | G126: m | H126: 25 | J126: =ROUND(I126*H126,2) -> 0 | N126: znížená | P126: =O126*H126 -> 0 | Q126: 0 | R126: =Q126*H126 -> 0 | S126: 0 | T126: =S126*H126 -> 0 | AR126: 8 | AT126: M | AU126: 1 | AY126: ROZPOCET | BE126: =IF(N126="základná",J126,0) -> 0 | BF126: =IF(N126="znížená",J126,0) -> 0 | BG126: =IF(N126="zákl. prenesená",J126,0) -> 0 | BH126: =IF(N126="zníž. prenesená",J126,0) -> 0 | BI126: =IF(N126="nulová",J126,0) -> 0 | BJ126: 2 | BK126: =ROUND(I126*H126,2) -> 0 | BL126: 4 | BM126: 12
C127: 7 | D127: M | E127: Pol28 | F127: CYA6 | G127: m | H127: 25 | J127: =ROUND(I127*H127,2) -> 0 | N127: znížená | P127: =O127*H127 -> 0 | Q127: 0 | R127: =Q127*H127 -> 0 | S127: 0 | T127: =S127*H127 -> 0 | AR127: 8 | AT127: M | AU127: 1 | AY127: ROZPOCET | BE127: =IF(N127="základná",J127,0) -> 0 | BF127: =IF(N127="znížená",J127,0) -> 0 | BG127: =IF(N127="zákl. prenesená",J127,0) -> 0 | BH127: =IF(N127="zníž. prenesená",J127,0) -> 0 | BI127: =IF(N127="nulová",J127,0) -> 0 | BJ127: 2 | BK127: =ROUND(I127*H127,2) -> 0 | BL127: 4 | BM127: 14
C128: 8 | D128: M | E128: Pol29 | F128: Chránička FXP25 | G128: m | H128: 20 | J128: =ROUND(I128*H128,2) -> 0 | N128: znížená | P128: =O128*H128 -> 0 | Q128: 0 | R128: =Q128*H128 -> 0 | S128: 0 | T128: =S128*H128 -> 0 | AR128: 8 | AT128: M | AU128: 1 | AY128: ROZPOCET | BE128: =IF(N128="základná",J128,0) -> 0 | BF128: =IF(N128="znížená",J128,0) -> 0 | BG128: =IF(N128="zákl. prenesená",J128,0) -> 0 | BH128: =IF(N128="zníž. prenesená",J128,0) -> 0 | BI128: =IF(N128="nulová",J128,0) -> 0 | BJ128: 2 | BK128: =ROUND(I128*H128,2) -> 0 | BL128: 4 | BM128: 16
D129: D | E129: D2 | F129: Elektroinštalačný materiál: | J129: =BK129 -> 0 | P129: =SUM(P130:P138) -> 0 | R129: =SUM(R130:R138) -> 0 | T129: =SUM(T130:T138) -> 0 | AR129: 1 | AT129: D | AU129: 0 | AY129: ROZPOCET | BK129: =SUM(BK130:BK138) -> 0
C130: 9 | D130: M | E130: Pol30 | F130: Žľab káblový KZI 60X50X0.75 | G130: m | H130: 10 | J130: =ROUND(I130*H130,2) -> 0 | N130: znížená | P130: =O130*H130 -> 0 | Q130: 0 | R130: =Q130*H130 -> 0 | S130: 0 | T130: =S130*H130 -> 0 | AR130: 8 | AT130: M | AU130: 1 | AY130: ROZPOCET | BE130: =IF(N130="základná",J130,0) -> 0 | BF130: =IF(N130="znížená",J130,0) -> 0 | BG130: =IF(N130="zákl. prenesená",J130,0) -> 0 | BH130: =IF(N130="zníž. prenesená",J130,0) -> 0 | BI130: =IF(N130="nulová",J130,0) -> 0 | BJ130: 2 | BK130: =ROUND(I130*H130,2) -> 0 | BL130: 4 | BM130: 18
C131: 10 | D131: M | E131: Pol31 | F131: Konzoly na žľab 60x50 | G131: ks | H131: 12 | J131: =ROUND(I131*H131,2) -> 0 | N131: znížená | P131: =O131*H131 -> 0 | Q131: 0 | R131: =Q131*H131 -> 0 | S131: 0 | T131: =S131*H131 -> 0 | AR131: 8 | AT131: M | AU131: 1 | AY131: ROZPOCET | BE131: =IF(N131="základná",J131,0) -> 0 | BF131: =IF(N131="znížená",J131,0) -> 0 | BG131: =IF(N131="zákl. prenesená",J131,0) -> 0 | BH131: =IF(N131="zníž. prenesená",J131,0) -> 0 | BI131: =IF(N131="nulová",J131,0) -> 0 | BJ131: 2 | BK131: =ROUND(I131*H131,2) -> 0 | BL131: 4 | BM131: 20
C132: 11 | D132: M | E132: Pol32 | F132: HUP, ekvipotenciálna svorkovnica | G132: ks | H132: 1 | J132: =ROUND(I132*H132,2) -> 0 | N132: znížená | P132: =O132*H132 -> 0 | Q132: 0 | R132: =Q132*H132 -> 0 | S132: 0 | T132: =S132*H132 -> 0 | AR132: 8 | AT132: M | AU132: 1 | AY132: ROZPOCET | BE132: =IF(N132="základná",J132,0) -> 0 | BF132: =IF(N132="znížená",J132,0) -> 0 | BG132: =IF(N132="zákl. prenesená",J132,0) -> 0 | BH132: =IF(N132="zníž. prenesená",J132,0) -> 0 | BI132: =IF(N132="nulová",J132,0) -> 0 | BJ132: 2 | BK132: =ROUND(I132*H132,2) -> 0 | BL132: 4 | BM132: 22
C133: 12 | D133: M | E133: Pol33 | F133: Zásuvka 16/230V, IP44 | G133: ks | H133: 3 | J133: =ROUND(I133*H133,2) -> 0 | N133: znížená | P133: =O133*H133 -> 0 | Q133: 0 | R133: =Q133*H133 -> 0 | S133: 0 | T133: =S133*H133 -> 0 | AR133: 8 | AT133: M | AU133: 1 | AY133: ROZPOCET | BE133: =IF(N133="základná",J133,0) -> 0 | BF133: =IF(N133="znížená",J133,0) -> 0 | BG133: =IF(N133="zákl. prenesená",J133,0) -> 0 | BH133: =IF(N133="zníž. prenesená",J133,0) -> 0 | BI133: =IF(N133="nulová",J133,0) -> 0 | BJ133: 2 | BK133: =ROUND(I133*H133,2) -> 0 | BL133: 4 | BM133: 24
C134: 13 | D134: M | E134: Pol34 | F134: Spínač jednopólovy rad. č.1, IP44 | G134: ks | H134: 1 | J134: =ROUND(I134*H134,2) -> 0 | N134: znížená | P134: =O134*H134 -> 0 | Q134: 0 | R134: =Q134*H134 -> 0 | S134: 0 | T134: =S134*H134 -> 0 | AR134: 8 | AT134: M | AU134: 1 | AY134: ROZPOCET | BE134: =IF(N134="základná",J134,0) -> 0 | BF134: =IF(N134="znížená",J134,0) -> 0 | BG134: =IF(N134="zákl. prenesená",J134,0) -> 0 | BH134: =IF(N134="zníž. prenesená",J134,0) -> 0 | BI134: =IF(N134="nulová",J134,0) -> 0 | BJ134: 2 | BK134: =ROUND(I134*H134,2) -> 0 | BL134: 4 | BM134: 26
C135: 14 | D135: M | E135: Pol35 | F135: Stop Tlačítko | G135: ks | H135: 1 | J135: =ROUND(I135*H135,2) -> 0 | N135: znížená | P135: =O135*H135 -> 0 | Q135: 0 | R135: =Q135*H135 -> 0 | S135: 0 | T135: =S135*H135 -> 0 | AR135: 8 | AT135: M | AU135: 1 | AY135: ROZPOCET | BE135: =IF(N135="základná",J135,0) -> 0 | BF135: =IF(N135="znížená",J135,0) -> 0 | BG135: =IF(N135="zákl. prenesená",J135,0) -> 0 | BH135: =IF(N135="zníž. prenesená",J135,0) -> 0 | BI135: =IF(N135="nulová",J135,0) -> 0 | BJ135: 2 | BK135: =ROUND(I135*H135,2) -> 0 | BL135: 4 | BM135: 28
C136: 15 | D136: M | E136: Pol36 | F136: Svetlo stropné, IP44 | G136: ks | H136: 1 | J136: =ROUND(I136*H136,2) -> 0 | N136: znížená | P136: =O136*H136 -> 0 | Q136: 0 | R136: =Q136*H136 -> 0 | S136: 0 | T136: =S136*H136 -> 0 | AR136: 8 | AT136: M | AU136: 1 | AY136: ROZPOCET | BE136: =IF(N136="základná",J136,0) -> 0 | BF136: =IF(N136="znížená",J136,0) -> 0 | BG136: =IF(N136="zákl. prenesená",J136,0) -> 0 | BH136: =IF(N136="zníž. prenesená",J136,0) -> 0 | BI136: =IF(N136="nulová",J136,0) -> 0 | BJ136: 2 | BK136: =ROUND(I136*H136,2) -> 0 | BL136: 4 | BM136: 30
C137: 16 | D137: M | E137: Pol37 | F137: Frekvenčný menič 0,55 kW/400V, IP65 | G137: ks | H137: 1 | J137: =ROUND(I137*H137,2) -> 0 | N137: znížená | P137: =O137*H137 -> 0 | Q137: 0 | R137: =Q137*H137 -> 0 | S137: 0 | T137: =S137*H137 -> 0 | AR137: 8 | AT137: M | AU137: 1 | AY137: ROZPOCET | BE137: =IF(N137="základná",J137,0) -> 0 | BF137: =IF(N137="znížená",J137,0) -> 0 | BG137: =IF(N137="zákl. prenesená",J137,0) -> 0 | BH137: =IF(N137="zníž. prenesená",J137,0) -> 0 | BI137: =IF(N137="nulová",J137,0) -> 0 | BJ137: 2 | BK137: =ROUND(I137*H137,2) -> 0 | BL137: 4 | BM137: 32
C138: 17 | D138: K | E138: Pol38 | F138: Rozvádzač /72 modm IP54m prisadený/ kopl. vrátane výzbroje, viď E-2 Schéma RTG | G138: kompl. | H138: 1 | J138: =ROUND(I138*H138,2) -> 0 | N138: znížená | P138: =O138*H138 -> 0 | Q138: 0 | R138: =Q138*H138 -> 0 | S138: 0 | T138: =S138*H138 -> 0 | AR138: 4 | AT138: K | AU138: 1 | AY138: ROZPOCET | BE138: =IF(N138="základná",J138,0) -> 0 | BF138: =IF(N138="znížená",J138,0) -> 0 | BG138: =IF(N138="zákl. prenesená",J138,0) -> 0 | BH138: =IF(N138="zníž. prenesená",J138,0) -> 0 | BI138: =IF(N138="nulová",J138,0) -> 0 | BJ138: 2 | BK138: =ROUND(I138*H138,2) -> 0 | BL138: 4 | BM138: 34
D139: D | E139: D3 | F139: Montáž | J139: =BK139 -> 0 | P139: =SUM(P140:P142) -> 0 | R139: =SUM(R140:R142) -> 0 | T139: =SUM(T140:T142) -> 0 | AR139: 1 | AT139: D | AU139: 0 | AY139: ROZPOCET | BK139: =SUM(BK140:BK142) -> 0
C140: 23 | D140: K | E140: Pol39 | F140: Montáž elektroinštalácie | G140: hod | H140: 80 | J140: =ROUND(I140*H140,2) -> 0 | N140: znížená | P140: =O140*H140 -> 0 | Q140: 0 | R140: =Q140*H140 -> 0 | S140: 0 | T140: =S140*H140 -> 0 | AR140: 4 | AT140: K | AU140: 1 | AY140: ROZPOCET | BE140: =IF(N140="základná",J140,0) -> 0 | BF140: =IF(N140="znížená",J140,0) -> 0 | BG140: =IF(N140="zákl. prenesená",J140,0) -> 0 | BH140: =IF(N140="zníž. prenesená",J140,0) -> 0 | BI140: =IF(N140="nulová",J140,0) -> 0 | BJ140: 2 | BK140: =ROUND(I140*H140,2) -> 0 | BL140: 4 | BM140: 36
C141: 27 | D141: K | E141: Pol40 | F141: Revizia (OPOS) | G141: sub | H141: 1 | J141: =ROUND(I141*H141,2) -> 0 | N141: znížená | P141: =O141*H141 -> 0 | Q141: 0 | R141: =Q141*H141 -> 0 | S141: 0 | T141: =S141*H141 -> 0 | AR141: 4 | AT141: K | AU141: 1 | AY141: ROZPOCET | BE141: =IF(N141="základná",J141,0) -> 0 | BF141: =IF(N141="znížená",J141,0) -> 0 | BG141: =IF(N141="zákl. prenesená",J141,0) -> 0 | BH141: =IF(N141="zníž. prenesená",J141,0) -> 0 | BI141: =IF(N141="nulová",J141,0) -> 0 | BJ141: 2 | BK141: =ROUND(I141*H141,2) -> 0 | BL141: 4 | BM141: 38
C142: 28 | D142: K | E142: Pol41 | F142: PD skutočného vyhotovenia | G142: sub | H142: 1 | J142: =ROUND(I142*H142,2) -> 0 | N142: znížená | P142: =O142*H142 -> 0 | Q142: 0 | R142: =Q142*H142 -> 0 | S142: 0 | T142: =S142*H142 -> 0 | AR142: 4 | AT142: K | AU142: 1 | AY142: ROZPOCET | BE142: =IF(N142="základná",J142,0) -> 0 | BF142: =IF(N142="znížená",J142,0) -> 0 | BG142: =IF(N142="zákl. prenesená",J142,0) -> 0 | BH142: =IF(N142="zníž. prenesená",J142,0) -> 0 | BI142: =IF(N142="nulová",J142,0) -> 0 | BJ142: 2 | BK142: =ROUND(I142*H142,2) -> 0 | BL142: 4 | BM142: 40
