Workbook

Sheet Rekapitulácia stavby
A1: Export Komplet | BA1: 2.0 | BT1: False | BU1: False | BV1: {1885d4f6-5c07-484c-9ae8-9e99c228ce62}
AR2: >> skryté stĺpce << | BS2: 0,01 | BT2: 20
BS3: 0,01 | BT3: 20
D4: REKAPITULÁCIA STAVBY | AS4: v --- nižšie sa nachádzajú doplnkové a pomocné údaje k zostavám --- v | BE4: Návod na vyplnenie | BS4: 0,001
D5: Kód: | K5: VSMU-FaTF/2021 | BE5: Meniť je možné iba bunky so žltým podfarbením!_x000D_ _x000D_ 1) na prvom liste Rekapitulácie stavby vyplňte v zostave_x000D_ _x000D_ a) Rekapitulácia stavby_x000D_ - údaje o Zhotoviteľovi_x000D_ (prenesú sa do ostatných zostáv aj v iných listoch)_x000D_ _x000D_ b) Rekapitulácia objektov stavby_x000D_ - potrebné Ostatné náklady_x000D_ _x000D_ 2) na vybraných listoch vyplňte v zostave_x000D_ _x000D_ a) Krycí list_x000D_ - údaje o Zhotoviteľovi, pokiaľ sa líšia od údajov o Zhotoviteľovi na Rekapitulácii stavby_x000D_ (údaje se prenesú do ostatných zostav v danom liste)_x000D_ _x000D_ b) Rekapitulácia rozpočtu_x000D_ - potrebné Ostatné náklady_x000D_ _x000D_ c) Celkové náklady za stavbu_x000D_ - ceny na položkách_x000D_ - množstvo, pokiaľ má žlté podfarbenie_x000D_ - a v prípade potreby poznámku (tá je v skrytom stĺpci) | BS5: 0,01
D6: Stavba: | K6: FILMOVÉ A TELEVÍZNE ŠTÚDIO / ATELIÉR KKR/ | BS6: 0,01
D7: JKSO: | AK7: KS: | BS7: 0,01
D8: Miesto: | K8: Bratislava, Svoradova 2 | AK8: Dátum: | AN8: 13. 12. 2021 | BS8: 0,01
BS9: 0,01
D10: Objednávateľ: | AK10: IČO: | BS10: 0,01
E11: Vysoká škola múzických umení v Bratislave, FaTF | AK11: IČ DPH: | BS11: 0,01
BS12: 0,01
D13: Zhotoviteľ: | AK13: IČO: | AN13: Vyplň údaj | BS13: 0,01
E14: Vyplň údaj | AK14: IČ DPH: | AN14: Vyplň údaj | BS14: 0,01
BS15: False
D16: Projektant: | AK16: IČO: | BS16: False
AK17: IČ DPH: | BS17: True
BS18: 0,01
D19: Spracovateľ: | AK19: IČO: | BS19: 0,01
AK20: IČ DPH: | BS20: True
D22: Poznámka:
E23: K správnemu naceneniu výkazu výmer je potrebné naštudovanie PD a obhliadka stavby. Naceniť je potrebné jestvujúci výkaz výmer podľa pokynov tendrového zadávateľa, resp. zmluvy o dielo. Rozdiely uviesť pod čiaru. Práce a dodávky obsiahnuté v projektovej dokumentácii a neobsiahnuté vo výkaze výmer je dodávateľ povinný položkovo rozšpecifikovať a naceniť pod čiaru, mimo ponukového rozpočtu pre objektívne rozhodovanie.Zmeny, opravy VV a návrhy na možné zniženie stavebných nákladov dodávateľ nacení rovnako pod čiaru a priloží k ponukovému rozpočtu. Výmeny materiálov je potrebné prekonzultovať s architektom a investorom. Pri materiáloch uvedených všeobecne dodávateľ špecifikuje konkrétny uvažovaný druh. Navrhované stavebné materiály/tovary je možné nahradiť ekvivalentnými produktami, ktoré však musia spĺňať minimálnu technickú špecifikáciu stavebných materiálov/tovarov navrhovaných v projektovej dokumentácii.
D26: Cena bez DPH | AK26: =ROUND(AG94,2) -> 0
L28: Sadzba dane | W28: Základ dane | AK28: Výška dane
D29: DPH | F29: základná | L29: 0.2 | W29: =ROUND(AZ94, 2) -> 0 | AK29: =ROUND(AV94, 2) -> 0
F30: znížená | L30: 0.2 | W30: =ROUND(BA94, 2) -> 0 | AK30: =ROUND(AW94, 2) -> 0
F31: zákl. prenesená | L31: 0.2 | W31: =ROUND(BB94, 2) -> 0 | AK31: 0
F32: zníž. prenesená | L32: 0.2 | W32: =ROUND(BC94, 2) -> 0 | AK32: 0
F33: nulová | L33: 0 | W33: =ROUND(BD94, 2) -> 0 | AK33: 0
D35: Cena s DPH | T35: v | X35: EUR | AK35: =SUM(AK26:AK33) -> 0
D49: Projektant | AH49: Spracovateľ
D60: Dátum a podpis: | V60: Pečiatka | AH60: Dátum a podpis: | AM60: Pečiatka
D64: Objednávateľ | AH64: Zhotoviteľ
D75: Dátum a podpis: | V75: Pečiatka | AH75: Dátum a podpis: | AM75: Pečiatka
C82: REKAPITULÁCIA OBJEKTOV STAVBY
C84: Kód: | L84: =K5 -> VSMU-FaTF/2021
C85: Stavba: | L85: =K6 -> FILMOVÉ A TELEVÍZNE ŠTÚDIO / ATELIÉR KKR/
C87: Miesto: | L87: =IF(K8="","",K8) -> Bratislava, Svoradova 2 | AI87: Dátum: | AM87: =IF(AN8= "","",AN8) -> 13. 12. 2021
C89: Objednávateľ: | L89: =IF(E11= "","",E11) -> Vysoká škola múzických umení v Bratislave, FaTF | AI89: Projektant: | AM89: =IF(E17="","",E17) | AS89: Informatívne údaje z listov zákaziek
C90: Zhotoviteľ: | L90: =IF(E14= "Vyplň údaj","",E14) | AI90: Spracovateľ: | AM90: =IF(E20="","",E20)
C92: Kód | I92: Popis | AG92: Cena bez DPH [EUR] | AN92: Cena s DPH [EUR] | AQ92: Typ | AS92: z toho Ostat._x000D_ náklady [EUR] | AT92: DPH [EUR] | AU92: Normohodiny [h] | AV92: DPH základná [EUR] | AW92: DPH znížená [EUR] | AX92: DPH základná prenesená_x000D_ [EUR] | AY92: DPH znížená prenesená_x000D_ [EUR] | AZ92: Základňa_x000D_ DPH základná | BA92: Základňa_x000D_ DPH znížená | BB92: Základňa_x000D_ DPH zákl. prenesená | BC92: Základňa_x000D_ DPH zníž. prenesená | BD92: Základňa_x000D_ DPH nulová
C94: Náklady z rozpočtov | AG94: =ROUND(SUM(AG95:AG96),2) -> 0 | AN94: =SUM(AG94,AT94) -> 0 | AS94: =ROUND(SUM(AS95:AS96),2) -> 0 | AT94: =ROUND(SUM(AV94:AW94),2) -> 0 | AU94: =ROUND(SUM(AU95:AU96),5) -> 0 | AV94: =ROUND(AZ94*L29,2) -> 0 | AW94: =ROUND(BA94*L30,2) -> 0 | AX94: =ROUND(BB94*L29,2) -> 0 | AY94: =ROUND(BC94*L30,2) -> 0 | AZ94: =ROUND(SUM(AZ95:AZ96),2) -> 0 | BA94: =ROUND(SUM(BA95:BA96),2) -> 0 | BB94: =ROUND(SUM(BB95:BB96),2) -> 0 | BC94: =ROUND(SUM(BC95:BC96),2) -> 0 | BD94: =ROUND(SUM(BD95:BD96),2) -> 0 | BS94: D | BT94: 0 | BU94: ###NOIMPORT### | BV94: IMPORT | BW94: {1885d4f6-5c07-484c-9ae8-9e99c228ce62} | BX94: {00000000-0000-0000-0000-000000000000}
A95: / | D95: 01 | J95: STAVEBNÁ ČASŤ | AG95: ='01 - STAVEBNÁ ČASŤ'!J30 -> 0 | AN95: =SUM(AG95,AT95) -> 0 | AQ95: STA | AS95: 0 | AT95: =ROUND(SUM(AV95:AW95),2) -> 0 | AU95: ='01 - STAVEBNÁ ČASŤ'!P123 -> 0 | AV95: ='01 - STAVEBNÁ ČASŤ'!J33 -> 0 | AW95: ='01 - STAVEBNÁ ČASŤ'!J34 -> 0 | AX95: ='01 - STAVEBNÁ ČASŤ'!J35 -> 0 | AY95: ='01 - STAVEBNÁ ČASŤ'!J36 -> 0 | AZ95: ='01 - STAVEBNÁ ČASŤ'!F33 -> 0 | BA95: ='01 - STAVEBNÁ ČASŤ'!F34 -> 0 | BB95: ='01 - STAVEBNÁ ČASŤ'!F35 -> 0 | BC95: ='01 - STAVEBNÁ ČASŤ'!F36 -> 0 | BD95: ='01 - STAVEBNÁ ČASŤ'!F37 -> 0 | BT95: 1 | BV95: IMPORT | BW95: {d26d4eaa-f666-44b2-a1a7-68c42a5d8994} | BX95: {1885d4f6-5c07-484c-9ae8-9e99c228ce62} | CM95: 0
A96: / | D96: 02 | J96: SVETELNÁ TECHNIKA A ELEKTROINŠTALÁCIA ŠTÚDIA | AG96: ='02 - SVETELNÁ TECHNIKA A ...'!J30 -> 0 | AN96: =SUM(AG96,AT96) -> 0 | AQ96: STA | AS96: 0 | AT96: =ROUND(SUM(AV96:AW96),2) -> 0 | AU96: ='02 - SVETELNÁ TECHNIKA A ...'!P130 -> 0 | AV96: ='02 - SVETELNÁ TECHNIKA A ...'!J33 -> 0 | AW96: ='02 - SVETELNÁ TECHNIKA A ...'!J34 -> 0 | AX96: ='02 - SVETELNÁ TECHNIKA A ...'!J35 -> 0 | AY96: ='02 - SVETELNÁ TECHNIKA A ...'!J36 -> 0 | AZ96: ='02 - SVETELNÁ TECHNIKA A ...'!F33 -> 0 | BA96: ='02 - SVETELNÁ TECHNIKA A ...'!F34 -> 0 | BB96: ='02 - SVETELNÁ TECHNIKA A ...'!F35 -> 0 | BC96: ='02 - SVETELNÁ TECHNIKA A ...'!F36 -> 0 | BD96: ='02 - SVETELNÁ TECHNIKA A ...'!F37 -> 0 | BT96: 1 | BV96: IMPORT | BW96: {f75f1561-c2d2-48a7-8716-ba929121dafc} | BX96: {1885d4f6-5c07-484c-9ae8-9e99c228ce62} | CM96: 0

Sheet 01 - STAVEBNÁ ČASŤ
L2: >> skryté stĺpce << | AT2: {d26d4eaa-f666-44b2-a1a7-68c42a5d8994}
AT3: 0
D4: KRYCÍ LIST ROZPOČTU | M4: v --- nižšie sa nachádzajú doplnkové a pomocné údaje k zostavám --- v | AT4: False
D6: Stavba:
E7: ='Rekapitulácia stavby'!K6 -> FILMOVÉ A TELEVÍZNE ŠTÚDIO / ATELIÉR KKR/
D8: Objekt:
E9: 01 - STAVEBNÁ ČASŤ
D11: JKSO: | I11: KS:
D12: Miesto: | F12: Bratislava, Svoradova 2 | I12: Dátum: | J12: ='Rekapitulácia stavby'!AN8 -> 13. 12. 2021
D14: Objednávateľ: | I14: IČO:
E15: Vysoká škola múzických umení v Bratislave, FaTF | I15: IČ DPH:
D17: Zhotoviteľ: | I17: IČO: | J17: ='Rekapitulácia stavby'!AN13 -> Vyplň údaj
E18: ='Rekapitulácia stavby'!E14 -> Vyplň údaj | I18: IČ DPH: | J18: ='Rekapitulácia stavby'!AN14 -> Vyplň údaj
D20: Projektant: | I20: IČO: | J20: =IF('Rekapitulácia stavby'!AN16="","",'Rekapitulácia stavby'!AN16)
E21: =IF('Rekapitulácia stavby'!E17="","",'Rekapitulácia stavby'!E17) | I21: IČ DPH: | J21: =IF('Rekapitulácia stavby'!AN17="","",'Rekapitulácia stavby'!AN17)
D23: Spracovateľ: | I23: IČO: | J23: =IF('Rekapitulácia stavby'!AN19="","",'Rekapitulácia stavby'!AN19)
E24: =IF('Rekapitulácia stavby'!E20="","",'Rekapitulácia stavby'!E20) | I24: IČ DPH: | J24: =IF('Rekapitulácia stavby'!AN20="","",'Rekapitulácia stavby'!AN20)
D26: Poznámka:
E27: K správnemu naceneniu výkazu výmer je potrebné naštudovanie PD a obhliadka stavby. Naceniť je potrebné jestvujúci výkaz výmer podľa pokynov tendrového zadávateľa, resp. zmluvy o dielo. Rozdiely uviesť pod čiaru. Práce a dodávky obsiahnuté v projektovej dokumentácii a neobsiahnuté vo výkaze výmer je dodávateľ povinný položkovo rozšpecifikovať a naceniť pod čiaru, mimo ponukového rozpočtu pre objektívne rozhodovanie.Zmeny, opravy VV a návrhy na možné zniženie stavebných nákladov dodávateľ nacení rovnako pod čiaru a priloží k ponukovému rozpočtu. Výmeny materiálov je potrebné prekonzultovať s architektom a investorom. Pri materiáloch uvedených všeobecne dodávateľ špecifikuje konkrétny uvažovaný druh. Navrhované stavebné materiály/tovary je možné nahradiť ekvivalentnými produktami, ktoré však musia spĺňať minimálnu technickú špecifikáciu stavebných materiálov/tovarov navrhovaných v projektovej dokumentácii.
D30: Cena bez DPH | J30: =ROUND(J123, 2) -> 0
F32: Základ dane | I32: Sadzba dane | J32: Výška dane
D33: DPH | E33: základná | F33: =ROUND((SUM(BE123:BE141)), 2) -> 0 | I33: 0.2 | J33: =ROUND(((SUM(BE123:BE141))*I33), 2) -> 0
E34: znížená | F34: =ROUND((SUM(BF123:BF141)), 2) -> 0 | I34: 0.2 | J34: =ROUND(((SUM(BF123:BF141))*I34), 2) -> 0
E35: zákl. prenesená | F35: =ROUND((SUM(BG123:BG141)), 2) -> 0 | I35: 0.2 | J35: =0 -> 0
E36: zníž. prenesená | F36: =ROUND((SUM(BH123:BH141)), 2) -> 0 | I36: 0.2 | J36: =0 -> 0
E37: nulová | F37: =ROUND((SUM(BI123:BI141)), 2) -> 0 | I37: 0 | J37: =0 -> 0
D39: Cena s DPH | G39: v | H39: EUR | J39: =SUM(J30:J37) -> 0
D50: Projektant | G50: Spracovateľ
D61: Dátum a podpis: | F61: Pečiatka | G61: Dátum a podpis: | J61: Pečiatka
D65: Objednávateľ | G65: Zhotoviteľ
D76: Dátum a podpis: | F76: Pečiatka | G76: Dátum a podpis: | J76: Pečiatka
C82: REKAPITULÁCIA ROZPOČTU
C84: Stavba:
E85: =E7 -> FILMOVÉ A TELEVÍZNE ŠTÚDIO / ATELIÉR KKR/
C86: Objekt:
E87: =E9 -> 01 - STAVEBNÁ ČASŤ
C89: Miesto: | F89: =F12 -> Bratislava, Svoradova 2 | I89: Dátum: | J89: =IF(J12="","",J12) -> 13. 12. 2021
C91: Objednávateľ: | F91: =E15 -> Vysoká škola múzických umení v Bratislave, FaTF | I91: Projektant: | J91: =E21
C92: Zhotoviteľ: | F92: =IF(E18="","",E18) -> Vyplň údaj | I92: Spracovateľ: | J92: =E24
C94: Kód dielu - Popis | J94: Cena celkom [EUR]
C96: Náklady z rozpočtu | J96: =J123 -> 0 | AU96: -1
D97: HSV - Práce a dodávky HSV | J97: =J124 -> 0
D98: 9 - Ostatné konštrukcie a práce-búranie | J98: =J125 -> 0
D99: PSV - Práce a dodávky PSV | J99: =J131 -> 0
D100: 767 - Konštrukcie doplnkové kovové | J100: =J132 -> 0
D101: 784 - Maľby | J101: =J136 -> 0
D102: M - Práce a dodávky M | J102: =J139 -> 0
D103: 21-M - Elektromontáže | J103: =J140 -> 0
C110: ROZPOČET
C112: Stavba:
E113: =E7 -> FILMOVÉ A TELEVÍZNE ŠTÚDIO / ATELIÉR KKR/
C114: Objekt:
E115: =E9 -> 01 - STAVEBNÁ ČASŤ
C117: Miesto: | F117: =F12 -> Bratislava, Svoradova 2 | I117: Dátum: | J117: =IF(J12="","",J12) -> 13. 12. 2021
C119: Objednávateľ: | F119: =E15 -> Vysoká škola múzických umení v Bratislave, FaTF | I119: Projektant: | J119: =E21
C120: Zhotoviteľ: | F120: =IF(E18="","",E18) -> Vyplň údaj | I120: Spracovateľ: | J120: =E24
C122: PČ | D122: Typ | E122: Kód | F122: Popis | G122: MJ | H122: Množstvo | I122: J.cena [EUR] | J122: Cena celkom [EUR] | K122: Cenová sústava | N122: DPH | O122: J. Nh [h] | P122: Nh celkom [h] | Q122: J. hmotnosť [t] | R122: Hmotnosť celkom [t] | S122: J. suť [t] | T122: Suť Celkom [t]
C123: Náklady z rozpočtu | J123: =BK123 -> 0 | P123: =P124+P131+P139 -> 0 | R123: =R124+R131+R139 -> 0.57950663 | T123: =T124+T131+T139 -> 3.241291 | AT123: D | AU123: -1 | BK123: =BK124+BK131+BK139 -> 0
D124: D | E124: HSV | F124: Práce a dodávky HSV | J124: =BK124 -> 0 | P124: =P125 -> 0 | R124: =R125 -> 0.52421064 | T124: =T125 -> 2.68 | AR124: 1 | AT124: D | AU124: 0 | AY124: ROZPOCET | BK124: =BK125 -> 0
D125: D | E125: 9 | F125: Ostatné konštrukcie a práce-búranie | J125: =BK125 -> 0 | P125: =SUM(P126:P130) -> 0 | R125: =SUM(R126:R130) -> 0.52421064 | T125: =SUM(T126:T130) -> 2.68 | AR125: 1 | AT125: D | AU125: 1 | AY125: ROZPOCET | BK125: =SUM(BK126:BK130) -> 0
C126: 2 | D126: K | E126: 952901114.S | F126: Vyčistenie budov pri výške podlaží nad 4 m | G126: m2 | H126: 108.963 | J126: =ROUND(I126*H126,2) -> 0 | N126: znížená | P126: =O126*H126 -> 0 | Q126: 5e-05 | R126: =Q126*H126 -> 0.00544815 | S126: 0 | T126: =S126*H126 -> 0 | AR126: 4 | AT126: K | AU126: 2 | AY126: ROZPOCET | BE126: =IF(N126="základná",J126,0) -> 0 | BF126: =IF(N126="znížená",J126,0) -> 0 | BG126: =IF(N126="zákl. prenesená",J126,0) -> 0 | BH126: =IF(N126="zníž. prenesená",J126,0) -> 0 | BI126: =IF(N126="nulová",J126,0) -> 0 | BJ126: 2 | BK126: =ROUND(I126*H126,2) -> 0 | BL126: 4 | BM126: -1694304090
C127: 1 | D127: K | E127: 7668V1811.S | F127: Vysťahovanie priestoru a presun mobiliáru (napr. mobilný nábytok, skrinky, stoly, stoličky) | G127: hod | H127: 10 | J127: =ROUND(I127*H127,2) -> 0 | N127: znížená | P127: =O127*H127 -> 0 | Q127: 0 | R127: =Q127*H127 -> 0 | S127: 0.088 | T127: =S127*H127 -> 0.88 | AR127: 16 | AT127: K | AU127: 2 | AY127: ROZPOCET | BE127: =IF(N127="základná",J127,0) -> 0 | BF127: =IF(N127="znížená",J127,0) -> 0 | BG127: =IF(N127="zákl. prenesená",J127,0) -> 0 | BH127: =IF(N127="zníž. prenesená",J127,0) -> 0 | BI127: =IF(N127="nulová",J127,0) -> 0 | BJ127: 2 | BK127: =ROUND(I127*H127,2) -> 0 | BL127: 16 | BM127: -1448102600
C128: 3 | D128: K | E128: 784418011.S | F128: Zakrývanie otvorov, podláh a zariadení fóliou v miestnostiach alebo na schodisku | G128: m2 | H128: 81.953 | J128: =ROUND(I128*H128,2) -> 0 | N128: znížená | P128: =O128*H128 -> 0 | Q128: 0.00015 | R128: =Q128*H128 -> 0.01229295 | S128: 0 | T128: =S128*H128 -> 0 | AR128: 16 | AT128: K | AU128: 2 | AY128: ROZPOCET | BE128: =IF(N128="základná",J128,0) -> 0 | BF128: =IF(N128="znížená",J128,0) -> 0 | BG128: =IF(N128="zákl. prenesená",J128,0) -> 0 | BH128: =IF(N128="zníž. prenesená",J128,0) -> 0 | BI128: =IF(N128="nulová",J128,0) -> 0 | BJ128: 2 | BK128: =ROUND(I128*H128,2) -> 0 | BL128: 16 | BM128: 493385710
C129: 14 | D129: K | E129: 9419V5004.S | F129: Lešenie ľahké pracovné pomocné s výškou lešeňovej podlahy nad 2,50 m | G129: m2 | H129: 81.953 | J129: =ROUND(I129*H129,2) -> 0 | N129: znížená | P129: =O129*H129 -> 0 | Q129: 0.00618 | R129: =Q129*H129 -> 0.50646954 | S129: 0 | T129: =S129*H129 -> 0 | AR129: 4 | AT129: K | AU129: 2 | AY129: ROZPOCET | BE129: =IF(N129="základná",J129,0) -> 0 | BF129: =IF(N129="znížená",J129,0) -> 0 | BG129: =IF(N129="zákl. prenesená",J129,0) -> 0 | BH129: =IF(N129="zníž. prenesená",J129,0) -> 0 | BI129: =IF(N129="nulová",J129,0) -> 0 | BJ129: 2 | BK129: =ROUND(I129*H129,2) -> 0 | BL129: 4 | BM129: 1714528116
C130: 9 | D130: K | E130: 9734V11151.S | F130: Vyhotovenie pásovej sondy v murive akomkoľvek, pohľadovej plochy do 0,25 m2, -1,80000t | G130: ks | H130: 1 | J130: =ROUND(I130*H130,2) -> 0 | N130: znížená | P130: =O130*H130 -> 0 | Q130: 0 | R130: =Q130*H130 -> 0 | S130: 1.8 | T130: =S130*H130 -> 1.8 | AR130: 4 | AT130: K | AU130: 2 | AY130: ROZPOCET | BE130: =IF(N130="základná",J130,0) -> 0 | BF130: =IF(N130="znížená",J130,0) -> 0 | BG130: =IF(N130="zákl. prenesená",J130,0) -> 0 | BH130: =IF(N130="zníž. prenesená",J130,0) -> 0 | BI130: =IF(N130="nulová",J130,0) -> 0 | BJ130: 2 | BK130: =ROUND(I130*H130,2) -> 0 | BL130: 4 | BM130: 2068237213
D131: D | E131: PSV | F131: Práce a dodávky PSV | J131: =BK131 -> 0 | P131: =P132+P136 -> 0 | R131: =R132+R136 -> 0.05529599 | T131: =T132+T136 -> 0.561291 | AR131: 2 | AT131: D | AU131: 0 | AY131: ROZPOCET | BK131: =BK132+BK136 -> 0
D132: D | E132: 767 | F132: Konštrukcie doplnkové kovové | J132: =BK132 -> 0 | P132: =SUM(P133:P135) -> 0 | R132: =SUM(R133:R135) -> 0.02866455 | T132: =SUM(T133:T135) -> 0.561291 | AR132: 2 | AT132: D | AU132: 1 | AY132: ROZPOCET | BK132: =SUM(BK133:BK135) -> 0
C133: 12 | D133: K | E133: 7679V6801.S | F133: Demontáž ostatných doplnkov stavieb s hmotnosťou jednotlivých dielov konštrukcií do 50 kg, -0,00100t, pozn. pre ďalšie použitie | G133: kg | H133: 561.291 | J133: =ROUND(I133*H133,2) -> 0 | N133: znížená | P133: =O133*H133 -> 0 | Q133: 5e-05 | R133: =Q133*H133 -> 0.02806455 | S133: 0.001 | T133: =S133*H133 -> 0.561291 | AR133: 16 | AT133: K | AU133: 2 | AY133: ROZPOCET | BE133: =IF(N133="základná",J133,0) -> 0 | BF133: =IF(N133="znížená",J133,0) -> 0 | BG133: =IF(N133="zákl. prenesená",J133,0) -> 0 | BH133: =IF(N133="zníž. prenesená",J133,0) -> 0 | BI133: =IF(N133="nulová",J133,0) -> 0 | BJ133: 2 | BK133: =ROUND(I133*H133,2) -> 0 | BL133: 16 | BM133: -943917967
C134: 4 | D134: K | E134: 7679V5102.S | F134: Dodávka a montáž ostatných atypických kovových stavebných doplnkových konštrukcií - Dodatočné prekotvenie väzníka do muriva cez vrstvu izolácie | G134: ks | H134: 10 | J134: =ROUND(I134*H134,2) -> 0 | N134: znížená | P134: =O134*H134 -> 0 | Q134: 6e-05 | R134: =Q134*H134 -> 0.0006 | S134: 0 | T134: =S134*H134 -> 0 | AR134: 16 | AT134: K | AU134: 2 | AY134: ROZPOCET | BE134: =IF(N134="základná",J134,0) -> 0 | BF134: =IF(N134="znížená",J134,0) -> 0 | BG134: =IF(N134="zákl. prenesená",J134,0) -> 0 | BH134: =IF(N134="zníž. prenesená",J134,0) -> 0 | BI134: =IF(N134="nulová",J134,0) -> 0 | BJ134: 2 | BK134: =ROUND(I134*H134,2) -> 0 | BL134: 16 | BM134: 2128951115
C135: 13 | D135: K | E135: 998767201.S | F135: Presun hmôt pre kovové stavebné doplnkové konštrukcie v objektoch výšky do 6 m | G135: % | J135: =ROUND(I135*H135,2) -> 0 | N135: znížená | P135: =O135*H135 -> 0 | Q135: 0 | R135: =Q135*H135 -> 0 | S135: 0 | T135: =S135*H135 -> 0 | AR135: 16 | AT135: K | AU135: 2 | AY135: ROZPOCET | BE135: =IF(N135="základná",J135,0) -> 0 | BF135: =IF(N135="znížená",J135,0) -> 0 | BG135: =IF(N135="zákl. prenesená",J135,0) -> 0 | BH135: =IF(N135="zníž. prenesená",J135,0) -> 0 | BI135: =IF(N135="nulová",J135,0) -> 0 | BJ135: 2 | BK135: =ROUND(I135*H135,2) -> 0 | BL135: 16 | BM135: -1181119208
D136: D | E136: 784 | F136: Maľby | J136: =BK136 -> 0 | P136: =SUM(P137:P138) -> 0 | R136: =SUM(R137:R138) -> 0.02663144 | T136: =SUM(T137:T138) -> 0 | AR136: 2 | AT136: D | AU136: 1 | AY136: ROZPOCET | BK136: =SUM(BK137:BK138) -> 0
C137: 6 | D137: K | E137: 784410110.S | F137: Penetrovanie jednonásobné jemnozrnných podkladov výšky nad 3,80 m | G137: m2 | H137: 60.526 | J137: =ROUND(I137*H137,2) -> 0 | N137: znížená | P137: =O137*H137 -> 0 | Q137: 0.0001 | R137: =Q137*H137 -> 0.0060526 | S137: 0 | T137: =S137*H137 -> 0 | AR137: 16 | AT137: K | AU137: 2 | AY137: ROZPOCET | BE137: =IF(N137="základná",J137,0) -> 0 | BF137: =IF(N137="znížená",J137,0) -> 0 | BG137: =IF(N137="zákl. prenesená",J137,0) -> 0 | BH137: =IF(N137="zníž. prenesená",J137,0) -> 0 | BI137: =IF(N137="nulová",J137,0) -> 0 | BJ137: 2 | BK137: =ROUND(I137*H137,2) -> 0 | BL137: 16 | BM137: 1288929356
C138: 11 | D138: K | E138: 7844V2372.S | F138: Maľby z maliarskych zmesí, ručne nanášané tónované dvojnásobné na jemnozrnný podklad výšky nad 3,80 m, farba čierna matná RAL 9004, odtieň podľa špecifikácie onvestora | G138: m2 | H138: 60.526 | J138: =ROUND(I138*H138,2) -> 0 | N138: znížená | P138: =O138*H138 -> 0 | Q138: 0.00034 | R138: =Q138*H138 -> 0.02057884 | S138: 0 | T138: =S138*H138 -> 0 | AR138: 16 | AT138: K | AU138: 2 | AY138: ROZPOCET | BE138: =IF(N138="základná",J138,0) -> 0 | BF138: =IF(N138="znížená",J138,0) -> 0 | BG138: =IF(N138="zákl. prenesená",J138,0) -> 0 | BH138: =IF(N138="zníž. prenesená",J138,0) -> 0 | BI138: =IF(N138="nulová",J138,0) -> 0 | BJ138: 2 | BK138: =ROUND(I138*H138,2) -> 0 | BL138: 16 | BM138: 664042172
D139: D | E139: M | F139: Práce a dodávky M | J139: =BK139 -> 0 | P139: =P140 -> 0 | R139: =R140 -> 0 | T139: =T140 -> 0 | AR139: 3 | AT139: D | AU139: 0 | AY139: ROZPOCET | BK139: =BK140 -> 0
D140: D | E140: 21-M | F140: Elektromontáže | J140: =BK140 -> 0 | P140: =P141 -> 0 | R140: =R141 -> 0 | T140: =T141 -> 0 | AR140: 3 | AT140: D | AU140: 1 | AY140: ROZPOCET | BK140: =BK141 -> 0
C141: 10 | D141: K | E141: 2109V4395.S | F141: Demontáž na spätnú montáž - svietidla zavesného do 10 kg vrátane odpojenia | G141: ks | H141: 3 | J141: =ROUND(I141*H141,2) -> 0 | N141: znížená | P141: =O141*H141 -> 0 | Q141: 0 | R141: =Q141*H141 -> 0 | S141: 0 | T141: =S141*H141 -> 0 | AR141: 64 | AT141: K | AU141: 2 | AY141: ROZPOCET | BE141: =IF(N141="základná",J141,0) -> 0 | BF141: =IF(N141="znížená",J141,0) -> 0 | BG141: =IF(N141="zákl. prenesená",J141,0) -> 0 | BH141: =IF(N141="zníž. prenesená",J141,0) -> 0 | BI141: =IF(N141="nulová",J141,0) -> 0 | BJ141: 2 | BK141: =ROUND(I141*H141,2) -> 0 | BL141: 64 | BM141: 1994320660

Sheet 02 - SVETELNÁ TECHNIKA A ...
L2: >> skryté stĺpce << | AT2: {f75f1561-c2d2-48a7-8716-ba929121dafc}
AT3: 0
D4: KRYCÍ LIST ROZPOČTU | M4: v --- nižšie sa nachádzajú doplnkové a pomocné údaje k zostavám --- v | AT4: False
D6: Stavba:
E7: ='Rekapitulácia stavby'!K6 -> FILMOVÉ A TELEVÍZNE ŠTÚDIO / ATELIÉR KKR/
D8: Objekt:
E9: 02 - SVETELNÁ TECHNIKA A ELEKTROINŠTALÁCIA ŠTÚDIA
D11: JKSO: | I11: KS:
D12: Miesto: | F12: Bratislava, Svoradova 2 | I12: Dátum: | J12: ='Rekapitulácia stavby'!AN8 -> 13. 12. 2021
D14: Objednávateľ: | I14: IČO:
E15: Vysoká škola múzických umení v Bratislave, FaTF | I15: IČ DPH:
D17: Zhotoviteľ: | I17: IČO: | J17: ='Rekapitulácia stavby'!AN13 -> Vyplň údaj
E18: ='Rekapitulácia stavby'!E14 -> Vyplň údaj | I18: IČ DPH: | J18: ='Rekapitulácia stavby'!AN14 -> Vyplň údaj
D20: Projektant: | I20: IČO: | J20: =IF('Rekapitulácia stavby'!AN16="","",'Rekapitulácia stavby'!AN16)
E21: =IF('Rekapitulácia stavby'!E17="","",'Rekapitulácia stavby'!E17) | I21: IČ DPH: | J21: =IF('Rekapitulácia stavby'!AN17="","",'Rekapitulácia stavby'!AN17)
D23: Spracovateľ: | I23: IČO: | J23: =IF('Rekapitulácia stavby'!AN19="","",'Rekapitulácia stavby'!AN19)
E24: =IF('Rekapitulácia stavby'!E20="","",'Rekapitulácia stavby'!E20) | I24: IČ DPH: | J24: =IF('Rekapitulácia stavby'!AN20="","",'Rekapitulácia stavby'!AN20)
D26: Poznámka:
E27: K správnemu naceneniu výkazu výmer je potrebné naštudovanie PD a obhliadka stavby. Naceniť je potrebné jestvujúci výkaz výmer podľa pokynov tendrového zadávateľa, resp. zmluvy o dielo. Rozdiely uviesť pod čiaru. Práce a dodávky obsiahnuté v projektovej dokumentácii a neobsiahnuté vo výkaze výmer je dodávateľ povinný položkovo rozšpecifikovať a naceniť pod čiaru, mimo ponukového rozpočtu pre objektívne rozhodovanie.Zmeny, opravy VV a návrhy na možné zniženie stavebných nákladov dodávateľ nacení rovnako pod čiaru a priloží k ponukovému rozpočtu. Výmeny materiálov je potrebné prekonzultovať s architektom a investorom. Pri materiáloch uvedených všeobecne dodávateľ špecifikuje konkrétny uvažovaný druh. Navrhované stavebné materiály/tovary je možné nahradiť ekvivalentnými produktami, ktoré však musia spĺňať minimálnu technickú špecifikáciu stavebných materiálov/tovarov navrhovaných v projektovej dokumentácii.
D30: Cena bez DPH | J30: =ROUND(J130, 2) -> 0
F32: Základ dane | I32: Sadzba dane | J32: Výška dane
D33: DPH | E33: základná | F33: =ROUND((SUM(BE130:BE237)), 2) -> 0 | I33: 0.2 | J33: =ROUND(((SUM(BE130:BE237))*I33), 2) -> 0
E34: znížená | F34: =ROUND((SUM(BF130:BF237)), 2) -> 0 | I34: 0.2 | J34: =ROUND(((SUM(BF130:BF237))*I34), 2) -> 0
E35: zákl. prenesená | F35: =ROUND((SUM(BG130:BG237)), 2) -> 0 | I35: 0.2 | J35: =0 -> 0
E36: zníž. prenesená | F36: =ROUND((SUM(BH130:BH237)), 2) -> 0 | I36: 0.2 | J36: =0 -> 0
E37: nulová | F37: =ROUND((SUM(BI130:BI237)), 2) -> 0 | I37: 0 | J37: =0 -> 0
D39: Cena s DPH | G39: v | H39: EUR | J39: =SUM(J30:J37) -> 0
D50: Projektant | G50: Spracovateľ
D61: Dátum a podpis: | F61: Pečiatka | G61: Dátum a podpis: | J61: Pečiatka
D65: Objednávateľ | G65: Zhotoviteľ
D76: Dátum a podpis: | F76: Pečiatka | G76: Dátum a podpis: | J76: Pečiatka
C82: REKAPITULÁCIA ROZPOČTU
C84: Stavba:
E85: =E7 -> FILMOVÉ A TELEVÍZNE ŠTÚDIO / ATELIÉR KKR/
C86: Objekt:
E87: =E9 -> 02 - SVETELNÁ TECHNIKA A ELEKTROINŠTALÁCIA ŠTÚDIA
C89: Miesto: | F89: =F12 -> Bratislava, Svoradova 2 | I89: Dátum: | J89: =IF(J12="","",J12) -> 13. 12. 2021
C91: Objednávateľ: | F91: =E15 -> Vysoká škola múzických umení v Bratislave, FaTF | I91: Projektant: | J91: =E21
C92: Zhotoviteľ: | F92: =IF(E18="","",E18) -> Vyplň údaj | I92: Spracovateľ: | J92: =E24
C94: Kód dielu - Popis | J94: Cena celkom [EUR]
C96: Náklady z rozpočtu | J96: =J130 -> 0 | AU96: -1
D97: M - Práce a dodávky M | J97: =J131 -> 0
D98: 01-S - Svetelná Technika | J98: =J132 -> 0
D99: 02-S - DMS ovládanie - pult | J99: =J139 -> 0
D100: 03-S - Dátový riadiaci rack | J100: =J148 -> 0
D101: 04-S - Montáž,kabeláž DMX rozvodov, nadstavenie pultu a bezdrátu | J101: =J157 -> 0
D102: 05-S - Teleskopy vrátane ovládania | J102: =J166 -> 0
D103: 06-S - Pojazdová dráha AS-T | J103: =J174 -> 0
D104: 07-S - Montáž,elektroinštalácia, doprava | J104: =J181 -> 0
D105: 08-S - Elektroinštalácia štúdia | J105: =J185 -> 0
D106: 08-S-01 - Dodávka zariadenia | J106: =J186 -> 0
D107: 08-S-02 - Materiál elektromontážny | J107: =J188 -> 0
D108: 08-S-03 - Elektromontáže | J108: =J207 -> 0
D109: 08-S-04 - Demontáže | J109: =J227 -> 0
D110: 08-S-05 - Ostatné náklady | J110: =J229 -> 0
C117: ROZPOČET
C119: Stavba:
E120: =E7 -> FILMOVÉ A TELEVÍZNE ŠTÚDIO / ATELIÉR KKR/
C121: Objekt:
E122: =E9 -> 02 - SVETELNÁ TECHNIKA A ELEKTROINŠTALÁCIA ŠTÚDIA
C124: Miesto: | F124: =F12 -> Bratislava, Svoradova 2 | I124: Dátum: | J124: =IF(J12="","",J12) -> 13. 12. 2021
C126: Objednávateľ: | F126: =E15 -> Vysoká škola múzických umení v Bratislave, FaTF | I126: Projektant: | J126: =E21
C127: Zhotoviteľ: | F127: =IF(E18="","",E18) -> Vyplň údaj | I127: Spracovateľ: | J127: =E24
C129: PČ | D129: Typ | E129: Kód | F129: Popis | G129: MJ | H129: Množstvo | I129: J.cena [EUR] | J129: Cena celkom [EUR] | K129: Cenová sústava | N129: DPH | O129: J. Nh [h] | P129: Nh celkom [h] | Q129: J. hmotnosť [t] | R129: Hmotnosť celkom [t] | S129: J. suť [t] | T129: Suť Celkom [t]
C130: Náklady z rozpočtu | J130: =BK130 -> 0 | P130: =P131 -> 0 | R130: =R131 -> 0 | T130: =T131 -> 0 | AT130: D | AU130: -1 | BK130: =BK131 -> 0
D131: D | E131: M | F131: Práce a dodávky M | J131: =BK131 -> 0 | P131: =P132+P139+P148+P157+P166+P174+P181+P185 -> 0 | R131: =R132+R139+R148+R157+R166+R174+R181+R185 -> 0 | T131: =T132+T139+T148+T157+T166+T174+T181+T185 -> 0 | AR131: 3 | AT131: D | AU131: 0 | AY131: ROZPOCET | BK131: =BK132+BK139+BK148+BK157+BK166+BK174+BK181+BK185 -> 0
D132: D | E132: 01-S | F132: Svetelná Technika | J132: =BK132 -> 0 | P132: =SUM(P133:P138) -> 0 | R132: =SUM(R133:R138) -> 0 | T132: =SUM(T133:T138) -> 0 | AR132: 3 | AT132: D | AU132: 1 | AY132: ROZPOCET | BK132: =SUM(BK133:BK138) -> 0
C133: 1 | D133: K | E133: 01-S-01 | F133: Kinoflo Celeb 450QY pole operated s klapkami, (pozn. špecifikovaný produkt je ako referenčný, je možné použiť ekvivalent) | G133: ks | H133: 10 | J133: =ROUND(I133*H133,2) -> 0 | N133: znížená | P133: =O133*H133 -> 0 | Q133: 0 | R133: =Q133*H133 -> 0 | S133: 0 | T133: =S133*H133 -> 0 | AR133: 64 | AT133: K | AU133: 2 | AY133: ROZPOCET | BE133: =IF(N133="základná",J133,0) -> 0 | BF133: =IF(N133="znížená",J133,0) -> 0 | BG133: =IF(N133="zákl. prenesená",J133,0) -> 0 | BH133: =IF(N133="zníž. prenesená",J133,0) -> 0 | BI133: =IF(N133="nulová",J133,0) -> 0 | BJ133: 2 | BK133: =ROUND(I133*H133,2) -> 0 | BL133: 64 | BM133: 1766091204
D134: P | F134: Poznámka k položke:_x000D_ CELEB 450Q DMX Pole UP:_x000D_ softový led panel s rozmermy 76 x 13 x 77,5 cm s pole operated, výkon 270W s pasívným chladením a RGBWW technológiou, svetlo má zabudované DMX,Lumen Radio,, možnosť nadstavenia DMX priamo z pultu cez RDM funkciu, plynulé stmievanie 0-100% s teplotným rozhraním 2500-9900K, možnosť nadstavenia stmievania po 0,2%, možnosť vyváženia magenty a greenu, funkcie : rôzne efekty, nadstavenie výberu farby v RBG alebo HUI funkcii,možnosť výberu fóllií a ich saturácie, možnosť nadstavenia konkrétneho svetelného bodu cez CIE-xy funkciu,LUT funkcia, CRI a TLCI 96+, dodávané s 90stupňovým Honeycombom na kontrolu svetla, váha 12kg_x000D_ (pozn. špecifikovaný produkt je ako referenčný, je možné použiť ekvivalent) | AT134: P | AU134: 2
C135: 2 | D135: K | E135: 01-S-02 | F135: Dedolight DLED9-BI-SE-DMX-pole operated s klapkami, (pozn. špecifikovaný produkt je ako referenčný, je možné použiť ekvivalent) | G135: ks | H135: 10 | J135: =ROUND(I135*H135,2) -> 0 | N135: znížená | P135: =O135*H135 -> 0 | Q135: 0 | R135: =Q135*H135 -> 0 | S135: 0 | T135: =S135*H135 -> 0 | AR135: 64 | AT135: K | AU135: 2 | AY135: ROZPOCET | BE135: =IF(N135="základná",J135,0) -> 0 | BF135: =IF(N135="znížená",J135,0) -> 0 | BG135: =IF(N135="zákl. prenesená",J135,0) -> 0 | BH135: =IF(N135="zníž. prenesená",J135,0) -> 0 | BI135: =IF(N135="nulová",J135,0) -> 0 | BJ135: 2 | BK135: =ROUND(I135*H135,2) -> 0 | BL135: 64 | BM135: -1376110766
D136: P | F136: Poznámka k položke:_x000D_ DLED 9 BI PO DMX:_x000D_ Fokusovateľné LED Svietidlo s plynulým stmievaním a teplotným rozhraním 2700-6500K, svetlo je vybavné DMX a Poloperated ovládaním, výkon svetla je 90W s pasívnym chladením, IP40, fokusový rozsah 50 - 4 stupne, rozsah stmievania 0-100%, technológia “clean beam”, možnosť uchytenia na 16 a 28 mm pin/bolzňu, CRI a TLCI 95+, dodávané s 8 listovými klapkami pre lepšiu kontrolu svetla, váha 5,3kg, rozmery výška 440mm,šírka 210mm,dlžka 202mm rozptyl 290mm pri spote_x000D_ (pozn. špecifikovaný produkt je ako referenčný, je možné použiť ekvivalent) | AT136: P | AU136: 2
C137: 3 | D137: K | E137: 01-S-03 | F137: Dedolight DLED12-BI-SE-DMX-pole operated s klapkami, (pozn. špecifikovaný produkt je ako referenčný, je možné použiť ekvivalent) | G137: ks | H137: 16 | J137: =ROUND(I137*H137,2) -> 0 | N137: znížená | P137: =O137*H137 -> 0 | Q137: 0 | R137: =Q137*H137 -> 0 | S137: 0 | T137: =S137*H137 -> 0 | AR137: 64 | AT137: K | AU137: 2 | AY137: ROZPOCET | BE137: =IF(N137="základná",J137,0) -> 0 | BF137: =IF(N137="znížená",J137,0) -> 0 | BG137: =IF(N137="zákl. prenesená",J137,0) -> 0 | BH137: =IF(N137="zníž. prenesená",J137,0) -> 0 | BI137: =IF(N137="nulová",J137,0) -> 0 | BJ137: 2 | BK137: =ROUND(I137*H137,2) -> 0 | BL137: 64 | BM137: 2075580701
D138: P | F138: Poznámka k položke:_x000D_ DLED 12 BI PO DMX:_x000D_ Fokusovateľné LED svietidlo s plynulým stmievaním a teplotným rozhraním 2700-6500K, svetlo je vybavené DMX a Poloperated olvádaním, výkon svetla je 250W s aktívnym chladením a ochranou proti prehriatiu, IP 40, fokusový rozsah 60-5 stupňov, rozsah stmievania 0-100%, technológia “clean beam”, možnosť uchytenia na 16 a 28mm pin/bolzňu, CRI a TLCI 95+, dodávané s 8 listovými klapkami pre lepšiu kontrolu svetla, váha 11kg, rozmery výška 542,63mm,šírka 323,37mm,dĺžka 484,14mm_x000D_ (pozn. špecifikovaný produkt je ako referenčný, je možné použiť ekvivalent) | AT138: P | AU138: 2
D139: D | E139: 02-S | F139: DMS ovládanie - pult | J139: =BK139 -> 0 | P139: =SUM(P140:P147) -> 0 | R139: =SUM(R140:R147) -> 0 | T139: =SUM(T140:T147) -> 0 | AR139: 3 | AT139: D | AU139: 1 | AY139: ROZPOCET | BK139: =SUM(BK140:BK147) -> 0
C140: 5 | D140: K | E140: 02-S-01 | F140: Pult Avolite Quartz -4dmx,out.dot display 12,1",10x fader,20xtlačítko,3x enkodér,DVI-D,USB3,kryt, (pozn. špecifikovaný produkt je ako referenčný, je možné použiť ekvivalent) | G140: ks | H140: 1 | J140: =ROUND(I140*H140,2) -> 0 | N140: znížená | P140: =O140*H140 -> 0 | Q140: 0 | R140: =Q140*H140 -> 0 | S140: 0 | T140: =S140*H140 -> 0 | AR140: 64 | AT140: K | AU140: 2 | AY140: ROZPOCET | BE140: =IF(N140="základná",J140,0) -> 0 | BF140: =IF(N140="znížená",J140,0) -> 0 | BG140: =IF(N140="zákl. prenesená",J140,0) -> 0 | BH140: =IF(N140="zníž. prenesená",J140,0) -> 0 | BI140: =IF(N140="nulová",J140,0) -> 0 | BJ140: 2 | BK140: =ROUND(I140*H140,2) -> 0 | BL140: 64 | BM140: -1957721623
D141: P | F141: Poznámka k položke:_x000D_ 4 x DMX XLR5 konektor, 16 DMX univerzií, Kompatibilita s Titan Net - až 64 univerzií, Gigabitový port pre Titan Net,Artnet a streaming ACN, vstavaný MIDI vstup, 10 x playback feeder, 3 x optický enkóder, Kompatibliný s Titan Remote, 20 x programovateľné macro tlačítko, Podpora Sound to light, Dotyková 12,1 palcová obrazovka, DVI-D výstup pre externý monitor, rozšírenie o Titan Mobile Wing, USB3 na čelnom panele_x000D_ (pozn. špecifikovaný produkt je ako referenčný, je možné použiť ekvivalent) | AT141: P | AU141: 2
C142: 7 | D142: K | E142: 02-S-02 | F142: Titan Mobile Wing,20x playback faderov, 30x tlačítko,USB,taška pre Titan mobile a Quartz, (pozn. špecifikovaný produkt je ako referenčný, je možné použiť ekvivalent) | G142: ks | H142: 1 | J142: =ROUND(I142*H142,2) -> 0 | N142: znížená | P142: =O142*H142 -> 0 | Q142: 0 | R142: =Q142*H142 -> 0 | S142: 0 | T142: =S142*H142 -> 0 | AR142: 64 | AT142: K | AU142: 2 | AY142: ROZPOCET | BE142: =IF(N142="základná",J142,0) -> 0 | BF142: =IF(N142="znížená",J142,0) -> 0 | BG142: =IF(N142="zákl. prenesená",J142,0) -> 0 | BH142: =IF(N142="zníž. prenesená",J142,0) -> 0 | BI142: =IF(N142="nulová",J142,0) -> 0 | BJ142: 2 | BK142: =ROUND(I142*H142,2) -> 0 | BL142: 64 | BM142: -632251755
D143: P | F143: Poznámka k položke:_x000D_ 20 x playback fader, 30 x programovateľné tlačítko, Lokálna kontrola stránkovania, USB napájanie - nieje potreba k pripojeniu sa na sieť, Vyhradená pracovná plocha v softwéri Titan_x000D_ (pozn. špecifikovaný produkt je ako referenčný, je možné použiť ekvivalent) | AT143: P | AU143: 2
C144: 8 | D144: K | E144: 02-S-03 | F144: Quartz Lamp,lampička, (pozn. špecifikovaný produkt je ako referenčný, je možné použiť ekvivalent) | G144: ks | H144: 1 | J144: =ROUND(I144*H144,2) -> 0 | N144: znížená | P144: =O144*H144 -> 0 | Q144: 0 | R144: =Q144*H144 -> 0 | S144: 0 | T144: =S144*H144 -> 0 | AR144: 64 | AT144: K | AU144: 2 | AY144: ROZPOCET | BE144: =IF(N144="základná",J144,0) -> 0 | BF144: =IF(N144="znížená",J144,0) -> 0 | BG144: =IF(N144="zákl. prenesená",J144,0) -> 0 | BH144: =IF(N144="zníž. prenesená",J144,0) -> 0 | BI144: =IF(N144="nulová",J144,0) -> 0 | BJ144: 2 | BK144: =ROUND(I144*H144,2) -> 0 | BL144: 64 | BM144: -1204472728
D145: P | F145: Poznámka k položke:_x000D_ stmievateľná lampička k pultu | AT145: P | AU145: 2
C146: 9 | D146: K | E146: 02-S-04 | F146: Zobrazovací,dotykový monitor 24", (pozn. špecifikovaný produkt je ako referenčný, je možné použiť ekvivalent) | G146: ks | H146: 1 | J146: =ROUND(I146*H146,2) -> 0 | N146: znížená | P146: =O146*H146 -> 0 | Q146: 0 | R146: =Q146*H146 -> 0 | S146: 0 | T146: =S146*H146 -> 0 | AR146: 64 | AT146: K | AU146: 2 | AY146: ROZPOCET | BE146: =IF(N146="základná",J146,0) -> 0 | BF146: =IF(N146="znížená",J146,0) -> 0 | BG146: =IF(N146="zákl. prenesená",J146,0) -> 0 | BH146: =IF(N146="zníž. prenesená",J146,0) -> 0 | BI146: =IF(N146="nulová",J146,0) -> 0 | BJ146: 2 | BK146: =ROUND(I146*H146,2) -> 0 | BL146: 64 | BM146: 974128283
C147: 10 | D147: K | E147: 02-S-05 | F147: Bezdrôtov dialkové ovládanie, AP,Ipad mini 6gen,Wifi, (pozn. špecifikovaný produkt je ako referenčný, je možné použiť ekvivalent) | G147: ks | H147: 1 | J147: =ROUND(I147*H147,2) -> 0 | N147: znížená | P147: =O147*H147 -> 0 | Q147: 0 | R147: =Q147*H147 -> 0 | S147: 0 | T147: =S147*H147 -> 0 | AR147: 64 | AT147: K | AU147: 2 | AY147: ROZPOCET | BE147: =IF(N147="základná",J147,0) -> 0 | BF147: =IF(N147="znížená",J147,0) -> 0 | BG147: =IF(N147="zákl. prenesená",J147,0) -> 0 | BH147: =IF(N147="zníž. prenesená",J147,0) -> 0 | BI147: =IF(N147="nulová",J147,0) -> 0 | BJ147: 2 | BK147: =ROUND(I147*H147,2) -> 0 | BL147: 64 | BM147: -1023855108
D148: D | E148: 03-S | F148: Dátový riadiaci rack | J148: =BK148 -> 0 | P148: =SUM(P149:P156) -> 0 | R148: =SUM(R149:R156) -> 0 | T148: =SUM(T149:T156) -> 0 | AR148: 3 | AT148: D | AU148: 1 | AY148: ROZPOCET | BK148: =SUM(BK149:BK156) -> 0
C149: 11 | D149: K | E149: 03-S-01 | F149: Dátový rozvádzač- nástenný 20U, (pozn. špecifikovaný produkt je ako referenčný, je možné použiť ekvivalent) | G149: ks | H149: 1 | J149: =ROUND(I149*H149,2) -> 0 | N149: znížená | P149: =O149*H149 -> 0 | Q149: 0 | R149: =Q149*H149 -> 0 | S149: 0 | T149: =S149*H149 -> 0 | AR149: 64 | AT149: K | AU149: 2 | AY149: ROZPOCET | BE149: =IF(N149="základná",J149,0) -> 0 | BF149: =IF(N149="znížená",J149,0) -> 0 | BG149: =IF(N149="zákl. prenesená",J149,0) -> 0 | BH149: =IF(N149="zníž. prenesená",J149,0) -> 0 | BI149: =IF(N149="nulová",J149,0) -> 0 | BJ149: 2 | BK149: =ROUND(I149*H149,2) -> 0 | BL149: 64 | BM149: 996424585
C150: 12 | D150: K | E150: 03-S-02 | F150: RJ prepojavacie pole,24 port,1U,cat 5e, (pozn. špecifikovaný produkt je ako referenčný, je možné použiť ekvivalent) | G150: ks | H150: 2 | J150: =ROUND(I150*H150,2) -> 0 | N150: znížená | P150: =O150*H150 -> 0 | Q150: 0 | R150: =Q150*H150 -> 0 | S150: 0 | T150: =S150*H150 -> 0 | AR150: 64 | AT150: K | AU150: 2 | AY150: ROZPOCET | BE150: =IF(N150="základná",J150,0) -> 0 | BF150: =IF(N150="znížená",J150,0) -> 0 | BG150: =IF(N150="zákl. prenesená",J150,0) -> 0 | BH150: =IF(N150="zníž. prenesená",J150,0) -> 0 | BI150: =IF(N150="nulová",J150,0) -> 0 | BJ150: 2 | BK150: =ROUND(I150*H150,2) -> 0 | BL150: 64 | BM150: -1134653256
C151: 13 | D151: K | E151: 03-S-03 | F151: 209910018: DSR10N,10 kanálov DMX Splitter, 1U rack mount. DMX RJ45, (pozn. špecifikovaný produkt je ako referenčný, je možné použiť ekvivalent) | G151: ks | H151: 5 | J151: =ROUND(I151*H151,2) -> 0 | N151: znížená | P151: =O151*H151 -> 0 | Q151: 0 | R151: =Q151*H151 -> 0 | S151: 0 | T151: =S151*H151 -> 0 | AR151: 64 | AT151: K | AU151: 2 | AY151: ROZPOCET | BE151: =IF(N151="základná",J151,0) -> 0 | BF151: =IF(N151="znížená",J151,0) -> 0 | BG151: =IF(N151="zákl. prenesená",J151,0) -> 0 | BH151: =IF(N151="zníž. prenesená",J151,0) -> 0 | BI151: =IF(N151="nulová",J151,0) -> 0 | BJ151: 2 | BK151: =ROUND(I151*H151,2) -> 0 | BL151: 64 | BM151: -1517504543
D152: P | F152: Poznámka k položke:_x000D_ 10 kanálový DMX spliter, 120 ohmové ukončenie DMX linky, 10 opticky izolovaných výstupov, prepäťová ochrana DMX vstupu i výstupu, DMX in / out LED indikácia, Konektory Neutrick, doživotná záruka_x000D_ (pozn. špecifikovaný produkt je ako referenčný, je možné použiť ekvivalent) | AT152: P | AU152: 2
C153: 15 | D153: K | E153: 03-S-04 | F153: 208104832:XND-8R8-Ethernet DMX Node Rack8, (pozn. špecifikovaný produkt je ako referenčný, je možné použiť ekvivalent) | G153: ks | H153: 1 | J153: =ROUND(I153*H153,2) -> 0 | N153: znížená | P153: =O153*H153 -> 0 | Q153: 0 | R153: =Q153*H153 -> 0 | S153: 0 | T153: =S153*H153 -> 0 | AR153: 64 | AT153: K | AU153: 2 | AY153: ROZPOCET | BE153: =IF(N153="základná",J153,0) -> 0 | BF153: =IF(N153="znížená",J153,0) -> 0 | BG153: =IF(N153="zákl. prenesená",J153,0) -> 0 | BH153: =IF(N153="zníž. prenesená",J153,0) -> 0 | BI153: =IF(N153="nulová",J153,0) -> 0 | BJ153: 2 | BK153: =ROUND(I153*H153,2) -> 0 | BL153: 64 | BM153: 979605975
D154: P | F154: Poznámka k položke:_x000D_ prevodník Art-Net a sACN do DMX pre až 8 univerzií, Art-Net I,II a 3 , 8 indivudálne opticky izolovaných DMX výstupov, grafický display a enkóder pre ľahkú konfiguráciu, Neutrik Power Twist vstup a výstup, zabudované napájanie, distribúcia signálu 1x Art-Net,8x DMX výstupov_x000D_ (pozn. špecifikovaný produkt je ako referenčný, je možné použiť ekvivalent) | AT154: P | AU154: 2
C155: 16 | D155: K | E155: 03-S-05 | F155: 208104218:XES-8G-Eport Gigabit Ethernet switch, (pozn. špecifikovaný produkt je ako referenčný, je možné použiť ekvivalent) | G155: ks | H155: 1 | J155: =ROUND(I155*H155,2) -> 0 | N155: znížená | P155: =O155*H155 -> 0 | Q155: 0 | R155: =Q155*H155 -> 0 | S155: 0 | T155: =S155*H155 -> 0 | AR155: 64 | AT155: K | AU155: 2 | AY155: ROZPOCET | BE155: =IF(N155="základná",J155,0) -> 0 | BF155: =IF(N155="znížená",J155,0) -> 0 | BG155: =IF(N155="zákl. prenesená",J155,0) -> 0 | BH155: =IF(N155="zníž. prenesená",J155,0) -> 0 | BI155: =IF(N155="nulová",J155,0) -> 0 | BJ155: 2 | BK155: =ROUND(I155*H155,2) -> 0 | BL155: 64 | BM155: 1194801018
D156: P | F156: Poznámka k položke:_x000D_ Ethernetový prevodník s 8 portami | AT156: P | AU156: 2
D157: D | E157: 04-S | F157: Montáž,kabeláž DMX rozvodov, nadstavenie pultu a bezdrátu | J157: =BK157 -> 0 | P157: =SUM(P158:P165) -> 0 | R157: =SUM(R158:R165) -> 0 | T157: =SUM(T158:T165) -> 0 | AR157: 3 | AT157: D | AU157: 1 | AY157: ROZPOCET | BK157: =SUM(BK158:BK165) -> 0
C158: 17 | D158: K | E158: 04-S-01 | F158: Materiál k Dmx rozvodom - DMX kábel LiYCY 3x0,25mm2, (pozn. špecifikovaný produkt je ako referenčný, je možné použiť ekvivalent) | G158: m | H158: 500 | J158: =ROUND(I158*H158,2) -> 0 | N158: znížená | P158: =O158*H158 -> 0 | Q158: 0 | R158: =Q158*H158 -> 0 | S158: 0 | T158: =S158*H158 -> 0 | AR158: 64 | AT158: K | AU158: 2 | AY158: ROZPOCET | BE158: =IF(N158="základná",J158,0) -> 0 | BF158: =IF(N158="znížená",J158,0) -> 0 | BG158: =IF(N158="zákl. prenesená",J158,0) -> 0 | BH158: =IF(N158="zníž. prenesená",J158,0) -> 0 | BI158: =IF(N158="nulová",J158,0) -> 0 | BJ158: 2 | BK158: =ROUND(I158*H158,2) -> 0 | BL158: 64 | BM158: -2037814702
C159: 18 | D159: K | E159: 04-S-02 | F159: Materiál k Dmx rozvodom - konektor Neutric NC5MXX, (pozn. špecifikovaný produkt je ako referenčný, je možné použiť ekvivalen) | G159: ks | H159: 100 | J159: =ROUND(I159*H159,2) -> 0 | N159: znížená | P159: =O159*H159 -> 0 | Q159: 0 | R159: =Q159*H159 -> 0 | S159: 0 | T159: =S159*H159 -> 0 | AR159: 64 | AT159: K | AU159: 2 | AY159: ROZPOCET | BE159: =IF(N159="základná",J159,0) -> 0 | BF159: =IF(N159="znížená",J159,0) -> 0 | BG159: =IF(N159="zákl. prenesená",J159,0) -> 0 | BH159: =IF(N159="zníž. prenesená",J159,0) -> 0 | BI159: =IF(N159="nulová",J159,0) -> 0 | BJ159: 2 | BK159: =ROUND(I159*H159,2) -> 0 | BL159: 64 | BM159: 868874312
C160: 19 | D160: K | E160: 04-S-03 | F160: Materiál k Dmx rozvodom - konektor Neutric NC5FXX, (pozn. špecifikovaný produkt je ako referenčný, je možné použiť ekvivalent) | G160: ks | H160: 100 | J160: =ROUND(I160*H160,2) -> 0 | N160: znížená | P160: =O160*H160 -> 0 | Q160: 0 | R160: =Q160*H160 -> 0 | S160: 0 | T160: =S160*H160 -> 0 | AR160: 64 | AT160: K | AU160: 2 | AY160: ROZPOCET | BE160: =IF(N160="základná",J160,0) -> 0 | BF160: =IF(N160="znížená",J160,0) -> 0 | BG160: =IF(N160="zákl. prenesená",J160,0) -> 0 | BH160: =IF(N160="zníž. prenesená",J160,0) -> 0 | BI160: =IF(N160="nulová",J160,0) -> 0 | BJ160: 2 | BK160: =ROUND(I160*H160,2) -> 0 | BL160: 64 | BM160: -1019945263
C161: 20 | D161: K | E161: 04-S-04 | F161: Materiál k Dmx rozvodom - kabel CAT5E,FTP,PE tieňený, (pozn. špecifikovaný produkt je ako referenčný, je možné použiť ekvivalent) | G161: m | H161: 100 | J161: =ROUND(I161*H161,2) -> 0 | N161: znížená | P161: =O161*H161 -> 0 | Q161: 0 | R161: =Q161*H161 -> 0 | S161: 0 | T161: =S161*H161 -> 0 | AR161: 64 | AT161: K | AU161: 2 | AY161: ROZPOCET | BE161: =IF(N161="základná",J161,0) -> 0 | BF161: =IF(N161="znížená",J161,0) -> 0 | BG161: =IF(N161="zákl. prenesená",J161,0) -> 0 | BH161: =IF(N161="zníž. prenesená",J161,0) -> 0 | BI161: =IF(N161="nulová",J161,0) -> 0 | BJ161: 2 | BK161: =ROUND(I161*H161,2) -> 0 | BL161: 64 | BM161: 1411215812
C162: 21 | D162: K | E162: 04-S-05 | F162: Materiál k Dmx rozvodom - konektory RJ-45, (pozn. špecifikovaný produkt je ako referenčný, je možné použiť ekvivalent) | G162: ks | H162: 40 | J162: =ROUND(I162*H162,2) -> 0 | N162: znížená | P162: =O162*H162 -> 0 | Q162: 0 | R162: =Q162*H162 -> 0 | S162: 0 | T162: =S162*H162 -> 0 | AR162: 64 | AT162: K | AU162: 2 | AY162: ROZPOCET | BE162: =IF(N162="základná",J162,0) -> 0 | BF162: =IF(N162="znížená",J162,0) -> 0 | BG162: =IF(N162="zákl. prenesená",J162,0) -> 0 | BH162: =IF(N162="zníž. prenesená",J162,0) -> 0 | BI162: =IF(N162="nulová",J162,0) -> 0 | BJ162: 2 | BK162: =ROUND(I162*H162,2) -> 0 | BL162: 64 | BM162: -864297778
C163: 22 | D163: K | E163: 04-S-06 | F163: Materiál k Dmx rozvodom - výroba káblov | G163: hod | H163: 20 | J163: =ROUND(I163*H163,2) -> 0 | N163: znížená | P163: =O163*H163 -> 0 | Q163: 0 | R163: =Q163*H163 -> 0 | S163: 0 | T163: =S163*H163 -> 0 | AR163: 64 | AT163: K | AU163: 2 | AY163: ROZPOCET | BE163: =IF(N163="základná",J163,0) -> 0 | BF163: =IF(N163="znížená",J163,0) -> 0 | BG163: =IF(N163="zákl. prenesená",J163,0) -> 0 | BH163: =IF(N163="zníž. prenesená",J163,0) -> 0 | BI163: =IF(N163="nulová",J163,0) -> 0 | BJ163: 2 | BK163: =ROUND(I163*H163,2) -> 0 | BL163: 64 | BM163: 1106254751
C164: 23 | D164: K | E164: 04-S-07 | F164: Materiál k Dmx rozvodom - Montáž káblov | G164: hod | H164: 10 | J164: =ROUND(I164*H164,2) -> 0 | N164: znížená | P164: =O164*H164 -> 0 | Q164: 0 | R164: =Q164*H164 -> 0 | S164: 0 | T164: =S164*H164 -> 0 | AR164: 64 | AT164: K | AU164: 2 | AY164: ROZPOCET | BE164: =IF(N164="základná",J164,0) -> 0 | BF164: =IF(N164="znížená",J164,0) -> 0 | BG164: =IF(N164="zákl. prenesená",J164,0) -> 0 | BH164: =IF(N164="zníž. prenesená",J164,0) -> 0 | BI164: =IF(N164="nulová",J164,0) -> 0 | BJ164: 2 | BK164: =ROUND(I164*H164,2) -> 0 | BL164: 64 | BM164: 2031104236
C165: 24 | D165: K | E165: 04-S-08 | F165: Naprogramovanie,spojadznenie štúdia so zaučením ovládania | G165: súb | H165: 1 | J165: =ROUND(I165*H165,2) -> 0 | N165: znížená | P165: =O165*H165 -> 0 | Q165: 0 | R165: =Q165*H165 -> 0 | S165: 0 | T165: =S165*H165 -> 0 | AR165: 64 | AT165: K | AU165: 2 | AY165: ROZPOCET | BE165: =IF(N165="základná",J165,0) -> 0 | BF165: =IF(N165="znížená",J165,0) -> 0 | BG165: =IF(N165="zákl. prenesená",J165,0) -> 0 | BH165: =IF(N165="zníž. prenesená",J165,0) -> 0 | BI165: =IF(N165="nulová",J165,0) -> 0 | BJ165: 2 | BK165: =ROUND(I165*H165,2) -> 0 | BL165: 64 | BM165: 920240793
...
