Workbook

Sheet Rekapitulácia stavby
A1: Export Komplet | BA1: 2.0 | BT1: False | BU1: False | BV1: {1885d4f6-5c07-484c-9ae8-9e99c228ce62}
AR2: >> skryté stĺpce << | BS2: 0,01 | BT2: 20
BS3: 0,01 | BT3: 20
D4: REKAPITULÁCIA STAVBY | AS4: v --- nižšie sa nachádzajú doplnkové a pomocné údaje k zostavám --- v | BE4: Návod na vyplnenie | BS4: 0,001
D5: Kód: | K5: VSMU-FaTF/2021 | BE5: Meniť je možné iba bunky so žltým podfarbením!_x000D_ _x000D_ 1) na prvom liste Rekapitulácie stavby vyplňte v zostave_x000D_ _x000D_ a) Rekapitulácia stavby_x000D_ - údaje o Zhotoviteľovi_x000D_ (prenesú sa do ostatných zostáv aj v iných listoch)_x000D_ _x000D_ b) Rekapitulácia objektov stavby_x000D_ - potrebné Ostatné náklady_x000D_ _x000D_ 2) na vybraných listoch vyplňte v zostave_x000D_ _x000D_ a) Krycí list_x000D_ - údaje o Zhotoviteľovi, pokiaľ sa líšia od údajov o Zhotoviteľovi na Rekapitulácii stavby_x000D_ (údaje se prenesú do ostatných zostav v danom liste)_x000D_ _x000D_ b) Rekapitulácia rozpočtu_x000D_ - potrebné Ostatné náklady_x000D_ _x000D_ c) Celkové náklady za stavbu_x000D_ - ceny na položkách_x000D_ - množstvo, pokiaľ má žlté podfarbenie_x000D_ - a v prípade potreby poznámku (tá je v skrytom stĺpci) | BS5: 0,01
D6: Stavba: | K6: FILMOVÉ A TELEVÍZNE ŠTÚDIO / ATELIÉR KKR/ | BS6: 0,01
D7: JKSO: | AK7: KS: | BS7: 0,01
D8: Miesto: | K8: Bratislava, Svoradova 2 | AK8: Dátum: | AN8: 13. 12. 2021 | BS8: 0,01
BS9: 0,01
D10: Objednávateľ: | AK10: IČO: | BS10: 0,01
E11: Vysoká škola múzických umení v Bratislave, FaTF | AK11: IČ DPH: | BS11: 0,01
BS12: 0,01
D13: Zhotoviteľ: | AK13: IČO: | AN13: Vyplň údaj | BS13: 0,01
E14: Vyplň údaj | AK14: IČ DPH: | AN14: Vyplň údaj | BS14: 0,01
BS15: False
D16: Projektant: | AK16: IČO: | BS16: False
AK17: IČ DPH: | BS17: True
BS18: 0,01
D19: Spracovateľ: | AK19: IČO: | BS19: 0,01
AK20: IČ DPH: | BS20: True
D22: Poznámka:
E23: K správnemu naceneniu výkazu výmer je potrebné naštudovanie PD a obhliadka stavby. Naceniť je potrebné jestvujúci výkaz výmer podľa pokynov tendrového zadávateľa, resp. zmluvy o dielo. Rozdiely uviesť pod čiaru. Práce a dodávky obsiahnuté v projektovej dokumentácii a neobsiahnuté vo výkaze výmer je dodávateľ povinný položkovo rozšpecifikovať a naceniť pod čiaru, mimo ponukového rozpočtu pre objektívne rozhodovanie.Zmeny, opravy VV a návrhy na možné zniženie stavebných nákladov dodávateľ nacení rovnako pod čiaru a priloží k ponukovému rozpočtu. Výmeny materiálov je potrebné prekonzultovať s architektom a investorom. Pri materiáloch uvedených všeobecne dodávateľ špecifikuje konkrétny uvažovaný druh. Navrhované stavebné materiály/tovary je možné nahradiť ekvivalentnými produktami, ktoré však musia spĺňať minimálnu technickú špecifikáciu stavebných materiálov/tovarov navrhovaných v projektovej dokumentácii.
D26: Cena bez DPH | AK26: =ROUND(AG94,2) -> 0
L28: Sadzba dane | W28: Základ dane | AK28: Výška dane
D29: DPH | F29: základná | L29: 0.2 | W29: =ROUND(AZ94, 2) -> 0 | AK29: =ROUND(AV94, 2) -> 0
F30: znížená | L30: 0.2 | W30: =ROUND(BA94, 2) -> 0 | AK30: =ROUND(AW94, 2) -> 0
F31: zákl. prenesená | L31: 0.2 | W31: =ROUND(BB94, 2) -> 0 | AK31: 0
F32: zníž. prenesená | L32: 0.2 | W32: =ROUND(BC94, 2) -> 0 | AK32: 0
F33: nulová | L33: 0 | W33: =ROUND(BD94, 2) -> 0 | AK33: 0
D35: Cena s DPH | T35: v | X35: EUR | AK35: =SUM(AK26:AK33) -> 0
D49: Projektant | AH49: Spracovateľ
D60: Dátum a podpis: | V60: Pečiatka | AH60: Dátum a podpis: | AM60: Pečiatka
D64: Objednávateľ | AH64: Zhotoviteľ
D75: Dátum a podpis: | V75: Pečiatka | AH75: Dátum a podpis: | AM75: Pečiatka
C82: REKAPITULÁCIA OBJEKTOV STAVBY
C84: Kód: | L84: =K5 -> VSMU-FaTF/2021
C85: Stavba: | L85: =K6 -> FILMOVÉ A TELEVÍZNE ŠTÚDIO / ATELIÉR KKR/
C87: Miesto: | L87: =IF(K8="","",K8) -> Bratislava, Svoradova 2 | AI87: Dátum: | AM87: =IF(AN8= "","",AN8) -> 13. 12. 2021
C89: Objednávateľ: | L89: =IF(E11= "","",E11) -> Vysoká škola múzických umení v Bratislave, FaTF | AI89: Projektant: | AM89: =IF(E17="","",E17) | AS89: Informatívne údaje z listov zákaziek
C90: Zhotoviteľ: | L90: =IF(E14= "Vyplň údaj","",E14) | AI90: Spracovateľ: | AM90: =IF(E20="","",E20)
...

Sheet 01 - STAVEBNÁ ČASŤ
L2: >> skryté stĺpce << | AT2: {d26d4eaa-f666-44b2-a1a7-68c42a5d8994}
AT3: 0
D4: KRYCÍ LIST ROZPOČTU | M4: v --- nižšie sa nachádzajú doplnkové a pomocné údaje k zostavám --- v | AT4: False
D6: Stavba:
E7: ='Rekapitulácia stavby'!K6 -> FILMOVÉ A TELEVÍZNE ŠTÚDIO / ATELIÉR KKR/
D8: Objekt:
E9: 01 - STAVEBNÁ ČASŤ
D11: JKSO: | I11: KS:
D12: Miesto: | F12: Bratislava, Svoradova 2 | I12: Dátum: | J12: ='Rekapitulácia stavby'!AN8 -> 13. 12. 2021
D14: Objednávateľ: | I14: IČO:
E15: Vysoká škola múzických umení v Bratislave, FaTF | I15: IČ DPH:
D17: Zhotoviteľ: | I17: IČO: | J17: ='Rekapitulácia stavby'!AN13 -> Vyplň údaj
E18: ='Rekapitulácia stavby'!E14 -> Vyplň údaj | I18: IČ DPH: | J18: ='Rekapitulácia stavby'!AN14 -> Vyplň údaj
D20: Projektant: | I20: IČO: | J20: =IF('Rekapitulácia stavby'!AN16="","",'Rekapitulácia stavby'!AN16)
E21: =IF('Rekapitulácia stavby'!E17="","",'Rekapitulácia stavby'!E17) | I21: IČ DPH: | J21: =IF('Rekapitulácia stavby'!AN17="","",'Rekapitulácia stavby'!AN17)
D23: Spracovateľ: | I23: IČO: | J23: =IF('Rekapitulácia stavby'!AN19="","",'Rekapitulácia stavby'!AN19)
E24: =IF('Rekapitulácia stavby'!E20="","",'Rekapitulácia stavby'!E20) | I24: IČ DPH: | J24: =IF('Rekapitulácia stavby'!AN20="","",'Rekapitulácia stavby'!AN20)
D26: Poznámka:
E27: K správnemu naceneniu výkazu výmer je potrebné naštudovanie PD a obhliadka stavby. Naceniť je potrebné jestvujúci výkaz výmer podľa pokynov tendrového zadávateľa, resp. zmluvy o dielo. Rozdiely uviesť pod čiaru. Práce a dodávky obsiahnuté v projektovej dokumentácii a neobsiahnuté vo výkaze výmer je dodávateľ povinný položkovo rozšpecifikovať a naceniť pod čiaru, mimo ponukového rozpočtu pre objektívne rozhodovanie.Zmeny, opravy VV a návrhy na možné zniženie stavebných nákladov dodávateľ nacení rovnako pod čiaru a priloží k ponukovému rozpočtu. Výmeny materiálov je potrebné prekonzultovať s architektom a investorom. Pri materiáloch uvedených všeobecne dodávateľ špecifikuje konkrétny uvažovaný druh. Navrhované stavebné materiály/tovary je možné nahradiť ekvivalentnými produktami, ktoré však musia spĺňať minimálnu technickú špecifikáciu stavebných materiálov/tovarov navrhovaných v projektovej dokumentácii.
D30: Cena bez DPH | J30: =ROUND(J123, 2) -> 0
F32: Základ dane | I32: Sadzba dane | J32: Výška dane
D33: DPH | E33: základná | F33: =ROUND((SUM(BE123:BE141)), 2) -> 0 | I33: 0.2 | J33: =ROUND(((SUM(BE123:BE141))*I33), 2) -> 0
E34: znížená | F34: =ROUND((SUM(BF123:BF141)), 2) -> 0 | I34: 0.2 | J34: =ROUND(((SUM(BF123:BF141))*I34), 2) -> 0
E35: zákl. prenesená | F35: =ROUND((SUM(BG123:BG141)), 2) -> 0 | I35: 0.2 | J35: =0 -> 0
E36: zníž. prenesená | F36: =ROUND((SUM(BH123:BH141)), 2) -> 0 | I36: 0.2 | J36: =0 -> 0
E37: nulová | F37: =ROUND((SUM(BI123:BI141)), 2) -> 0 | I37: 0 | J37: =0 -> 0
D39: Cena s DPH | G39: v | H39: EUR | J39: =SUM(J30:J37) -> 0
D50: Projektant | G50: Spracovateľ
D61: Dátum a podpis: | F61: Pečiatka | G61: Dátum a podpis: | J61: Pečiatka
D65: Objednávateľ | G65: Zhotoviteľ
D76: Dátum a podpis: | F76: Pečiatka | G76: Dátum a podpis: | J76: Pečiatka
C82: REKAPITULÁCIA ROZPOČTU
C84: Stavba:
E85: =E7 -> FILMOVÉ A TELEVÍZNE ŠTÚDIO / ATELIÉR KKR/
C86: Objekt:
E87: =E9 -> 01 - STAVEBNÁ ČASŤ
C89: Miesto: | F89: =F12 -> Bratislava, Svoradova 2 | I89: Dátum: | J89: =IF(J12="","",J12) -> 13. 12. 2021
C91: Objednávateľ: | F91: =E15 -> Vysoká škola múzických umení v Bratislave, FaTF | I91: Projektant: | J91: =E21
C92: Zhotoviteľ: | F92: =IF(E18="","",E18) -> Vyplň údaj | I92: Spracovateľ: | J92: =E24
C94: Kód dielu - Popis | J94: Cena celkom [EUR]
...

Sheet 02 - SVETELNÁ TECHNIKA A ...
L2: >> skryté stĺpce << | AT2: {f75f1561-c2d2-48a7-8716-ba929121dafc}
AT3: 0
D4: KRYCÍ LIST ROZPOČTU | M4: v --- nižšie sa nachádzajú doplnkové a pomocné údaje k zostavám --- v | AT4: False
D6: Stavba:
E7: ='Rekapitulácia stavby'!K6 -> FILMOVÉ A TELEVÍZNE ŠTÚDIO / ATELIÉR KKR/
D8: Objekt:
E9: 02 - SVETELNÁ TECHNIKA A ELEKTROINŠTALÁCIA ŠTÚDIA
D11: JKSO: | I11: KS:
D12: Miesto: | F12: Bratislava, Svoradova 2 | I12: Dátum: | J12: ='Rekapitulácia stavby'!AN8 -> 13. 12. 2021
D14: Objednávateľ: | I14: IČO:
E15: Vysoká škola múzických umení v Bratislave, FaTF | I15: IČ DPH:
D17: Zhotoviteľ: | I17: IČO: | J17: ='Rekapitulácia stavby'!AN13 -> Vyplň údaj
E18: ='Rekapitulácia stavby'!E14 -> Vyplň údaj | I18: IČ DPH: | J18: ='Rekapitulácia stavby'!AN14 -> Vyplň údaj
D20: Projektant: | I20: IČO: | J20: =IF('Rekapitulácia stavby'!AN16="","",'Rekapitulácia stavby'!AN16)
E21: =IF('Rekapitulácia stavby'!E17="","",'Rekapitulácia stavby'!E17) | I21: IČ DPH: | J21: =IF('Rekapitulácia stavby'!AN17="","",'Rekapitulácia stavby'!AN17)
D23: Spracovateľ: | I23: IČO: | J23: =IF('Rekapitulácia stavby'!AN19="","",'Rekapitulácia stavby'!AN19)
E24: =IF('Rekapitulácia stavby'!E20="","",'Rekapitulácia stavby'!E20) | I24: IČ DPH: | J24: =IF('Rekapitulácia stavby'!AN20="","",'Rekapitulácia stavby'!AN20)
D26: Poznámka:
E27: K správnemu naceneniu výkazu výmer je potrebné naštudovanie PD a obhliadka stavby. Naceniť je potrebné jestvujúci výkaz výmer podľa pokynov tendrového zadávateľa, resp. zmluvy o dielo. Rozdiely uviesť pod čiaru. Práce a dodávky obsiahnuté v projektovej dokumentácii a neobsiahnuté vo výkaze výmer je dodávateľ povinný položkovo rozšpecifikovať a naceniť pod čiaru, mimo ponukového rozpočtu pre objektívne rozhodovanie.Zmeny, opravy VV a návrhy na možné zniženie stavebných nákladov dodávateľ nacení rovnako pod čiaru a priloží k ponukovému rozpočtu. Výmeny materiálov je potrebné prekonzultovať s architektom a investorom. Pri materiáloch uvedených všeobecne dodávateľ špecifikuje konkrétny uvažovaný druh. Navrhované stavebné materiály/tovary je možné nahradiť ekvivalentnými produktami, ktoré však musia spĺňať minimálnu technickú špecifikáciu stavebných materiálov/tovarov navrhovaných v projektovej dokumentácii.
D30: Cena bez DPH | J30: =ROUND(J130, 2) -> 0
F32: Základ dane | I32: Sadzba dane | J32: Výška dane
D33: DPH | E33: základná | F33: =ROUND((SUM(BE130:BE237)), 2) -> 0 | I33: 0.2 | J33: =ROUND(((SUM(BE130:BE237))*I33), 2) -> 0
E34: znížená | F34: =ROUND((SUM(BF130:BF237)), 2) -> 0 | I34: 0.2 | J34: =ROUND(((SUM(BF130:BF237))*I34), 2) -> 0
E35: zákl. prenesená | F35: =ROUND((SUM(BG130:BG237)), 2) -> 0 | I35: 0.2 | J35: =0 -> 0
E36: zníž. prenesená | F36: =ROUND((SUM(BH130:BH237)), 2) -> 0 | I36: 0.2 | J36: =0 -> 0
E37: nulová | F37: =ROUND((SUM(BI130:BI237)), 2) -> 0 | I37: 0 | J37: =0 -> 0
D39: Cena s DPH | G39: v | H39: EUR | J39: =SUM(J30:J37) -> 0
D50: Projektant | G50: Spracovateľ
D61: Dátum a podpis: | F61: Pečiatka | G61: Dátum a podpis: | J61: Pečiatka
D65: Objednávateľ | G65: Zhotoviteľ
D76: Dátum a podpis: | F76: Pečiatka | G76: Dátum a podpis: | J76: Pečiatka
C82: REKAPITULÁCIA ROZPOČTU
C84: Stavba:
E85: =E7 -> FILMOVÉ A TELEVÍZNE ŠTÚDIO / ATELIÉR KKR/
C86: Objekt:
E87: =E9 -> 02 - SVETELNÁ TECHNIKA A ELEKTROINŠTALÁCIA ŠTÚDIA
C89: Miesto: | F89: =F12 -> Bratislava, Svoradova 2 | I89: Dátum: | J89: =IF(J12="","",J12) -> 13. 12. 2021
C91: Objednávateľ: | F91: =E15 -> Vysoká škola múzických umení v Bratislave, FaTF | I91: Projektant: | J91: =E21
C92: Zhotoviteľ: | F92: =IF(E18="","",E18) -> Vyplň údaj | I92: Spracovateľ: | J92: =E24
C94: Kód dielu - Popis | J94: Cena celkom [EUR]
...
